BEGIN:VCALENDAR
VERSION:2.0
PRODID:-//NEPPA - ECPv6.15.20//NONSGML v1.0//EN
CALSCALE:GREGORIAN
METHOD:PUBLISH
X-ORIGINAL-URL:https://neppa.org
X-WR-CALDESC:Events for NEPPA
REFRESH-INTERVAL;VALUE=DURATION:PT1H
X-Robots-Tag:noindex
X-PUBLISHED-TTL:PT1H
BEGIN:VTIMEZONE
TZID:America/New_York
BEGIN:DAYLIGHT
TZOFFSETFROM:-0500
TZOFFSETTO:-0400
TZNAME:EDT
DTSTART:20210314T070000
END:DAYLIGHT
BEGIN:STANDARD
TZOFFSETFROM:-0400
TZOFFSETTO:-0500
TZNAME:EST
DTSTART:20211107T060000
END:STANDARD
BEGIN:DAYLIGHT
TZOFFSETFROM:-0500
TZOFFSETTO:-0400
TZNAME:EDT
DTSTART:20220313T070000
END:DAYLIGHT
BEGIN:STANDARD
TZOFFSETFROM:-0400
TZOFFSETTO:-0500
TZNAME:EST
DTSTART:20221106T060000
END:STANDARD
BEGIN:DAYLIGHT
TZOFFSETFROM:-0500
TZOFFSETTO:-0400
TZNAME:EDT
DTSTART:20230312T070000
END:DAYLIGHT
BEGIN:STANDARD
TZOFFSETFROM:-0400
TZOFFSETTO:-0500
TZNAME:EST
DTSTART:20231105T060000
END:STANDARD
END:VTIMEZONE
BEGIN:VEVENT
DTSTART;TZID=America/New_York:20221201T090000
DTEND;TZID=America/New_York:20221201T130000
DTSTAMP:20260421T191505
CREATED:20221018T165623Z
LAST-MODIFIED:20221020T191338Z
UID:10000191-1669885200-1669899600@neppa.org
SUMMARY:2022 Annual Membership Meeting
DESCRIPTION:NEPPA’s Annual Membership Meeting will be held on Thursday\, December 1\, 2022 9:00 am – 1:00 pm at the DoubleTree by Hilton Boston Andover\, 123 Old River Road\, Andover\, MA 01810. \nReview 2022\, learn about NEPPA’s plans for 2023\, build relationships with your professional colleagues and industry partners and meet with old and new friends. \n			\n				\n				\n				\n				\n				2022 Agenda\n			\n			\n				\n				\n				\n				\n			\n				\n				\n				\n				\n				\n				\n				\n				\n				\n				\n				 Agenda details are still being finalized and are therefore subject to change. \n8:00 am     Registration\, Continental Breakfast9:00 am     Members Welcome & President’s Address\, Mr. Nicholas Lawler\, LELWD9:15 am     Keynote:  Leadership…The Power of Integrity\, Colonel Arthur J. Athens\, USMCR (Ret.) \nIntegrity is essential for living lives of purpose and impact and building teams founded on trust and commitment.  This presentation answers four key questions:  (1) What do we mean by integrity? (2) What does integrity look like in action? (3) How does a leader maintain his or her integrity\, particularly in challenging circumstances? and (4) How does a leader create an organizational climate of integrity?  \n10:15 am   Networking/ Break 10:30 am   Executive Committee’s Report\, Mr. Michael Hyland\, NEPPA Executive Director10:45 am   Financial Reports\, Ms. Elizabeth Dailey\, Director of Administration & Finance\, NEPPA11:00 am   Legislative Update\, Meguire Whitney\, LLC\, Ms. Joy Grewatz\, Principal11:30 am   Intro of Affiliate Members – Corporate & Associate MembersAt this\, time we ask Affiliate Members who wish to introduce themselves to line up by the podium. For the sake of time\, please limit your introductions to approximately one (1) minute.  \n12:00 pm Luncheon1:00 pm Adjourn \n			\n			\n				\n				\n				\n				\n				\n				\n				\n				\n				\n				\n			\n				\n				\n				\n				\n				\n			\n			\n				\n				\n				\n				\n			\n				\n				\n				\n				\n				\n				\n				\n				\n				\n				\n				Click here for more information \n			\n			\n				\n				\n				\n				\n			\n				\n				\n				\n				\n				\n				\n				\n				\n				\n				\n				Corporate and Affiliate Members:\nIf you are interested in having a complimentary dispaly table please email  registar@neppa.org to reserve your table today. Table are subject to availablity at time of request.\n			\n			\n				\n				\n				\n				\n			\n				\n				\n				\n				\n				\n				\n				Registration
URL:https://neppa.org/event/2022-annual-membership-meeting-2/
LOCATION:DoubleTree by Hilton Boston Andover\, 123 Old River Road\, Andover\, 01810\, United States
CATEGORIES:Annual Membership Meeting
ATTACH;FMTTYPE=image/png:https://neppa.org/wp-content/uploads/2022/10/2022-AMMeeting-banner-16.9-ii.png
END:VEVENT
END:VCALENDAR