BEGIN:VCALENDAR
VERSION:2.0
PRODID:-//NEPPA - ECPv6.15.20//NONSGML v1.0//EN
CALSCALE:GREGORIAN
METHOD:PUBLISH
X-ORIGINAL-URL:https://neppa.org
X-WR-CALDESC:Events for NEPPA
REFRESH-INTERVAL;VALUE=DURATION:PT1H
X-Robots-Tag:noindex
X-PUBLISHED-TTL:PT1H
BEGIN:VTIMEZONE
TZID:America/New_York
BEGIN:DAYLIGHT
TZOFFSETFROM:-0500
TZOFFSETTO:-0400
TZNAME:EDT
DTSTART:20210314T070000
END:DAYLIGHT
BEGIN:STANDARD
TZOFFSETFROM:-0400
TZOFFSETTO:-0500
TZNAME:EST
DTSTART:20211107T060000
END:STANDARD
BEGIN:DAYLIGHT
TZOFFSETFROM:-0500
TZOFFSETTO:-0400
TZNAME:EDT
DTSTART:20220313T070000
END:DAYLIGHT
BEGIN:STANDARD
TZOFFSETFROM:-0400
TZOFFSETTO:-0500
TZNAME:EST
DTSTART:20221106T060000
END:STANDARD
BEGIN:DAYLIGHT
TZOFFSETFROM:-0500
TZOFFSETTO:-0400
TZNAME:EDT
DTSTART:20230312T070000
END:DAYLIGHT
BEGIN:STANDARD
TZOFFSETFROM:-0400
TZOFFSETTO:-0500
TZNAME:EST
DTSTART:20231105T060000
END:STANDARD
END:VTIMEZONE
BEGIN:VEVENT
DTSTART;TZID=America/New_York:20220322T080000
DTEND;TZID=America/New_York:20220322T080000
DTSTAMP:20260423T141859
CREATED:20211022T180900Z
LAST-MODIFIED:20220118T195956Z
UID:10000050-1647936000-1647936000@neppa.org
SUMMARY:Customer Service Leadership Program
DESCRIPTION:NEPPA is pleased to partner with Pryor Learning Solutions\, Inc. to revitalize the Customer Service Leadership Program: Delivering Exceptional Customer Service being held Tuesday\, March 22\, 2022 at NEPPA’s Training Center (Littleton\, MA). \nEvery person in an organization has the ability to make a positive impact on customer relations. This Program will help train yourself\, your staff\, and your organization to rise to a level of service excellence through leadership. \nUpon completion of the Program\, participants are awarded a Certificate of Completion. \n\n\n\n\nWho Should Attend\nThis interactive Program is designed for anyone who interacts with external and internal customers\, especially: \nReceptionists \nCustomer Service Representatives \nTechnical Support Staff \nSales & Marketing Staff \nSupervisors & Managers \n  \n\n\n			\n				\n				\n				\n				\n				Click here for more information\n			\n				Register\n			\n				\n				\n				\n				\n				Questions?\nPlease contact training@neppa.org or call the office at (978) 540-2200.
URL:https://neppa.org/event/customer-service-leadership-program/
LOCATION:NEPPA Training Center\, 200 New Estate Rd\, Littleton\, MA\, 01460\, United States
CATEGORIES:Customer Service,Leadership
ATTACH;FMTTYPE=image/png:https://neppa.org/wp-content/uploads/2021/10/2022-CSLP-Program-Event-Banner.png
END:VEVENT
END:VCALENDAR