BEGIN:VCALENDAR
VERSION:2.0
PRODID:-//NEPPA - ECPv6.15.20//NONSGML v1.0//EN
CALSCALE:GREGORIAN
METHOD:PUBLISH
X-ORIGINAL-URL:https://neppa.org
X-WR-CALDESC:Events for NEPPA
REFRESH-INTERVAL;VALUE=DURATION:PT1H
X-Robots-Tag:noindex
X-PUBLISHED-TTL:PT1H
BEGIN:VTIMEZONE
TZID:America/New_York
BEGIN:DAYLIGHT
TZOFFSETFROM:-0500
TZOFFSETTO:-0400
TZNAME:EDT
DTSTART:20230312T070000
END:DAYLIGHT
BEGIN:STANDARD
TZOFFSETFROM:-0400
TZOFFSETTO:-0500
TZNAME:EST
DTSTART:20231105T060000
END:STANDARD
BEGIN:DAYLIGHT
TZOFFSETFROM:-0500
TZOFFSETTO:-0400
TZNAME:EDT
DTSTART:20240310T070000
END:DAYLIGHT
BEGIN:STANDARD
TZOFFSETFROM:-0400
TZOFFSETTO:-0500
TZNAME:EST
DTSTART:20241103T060000
END:STANDARD
BEGIN:DAYLIGHT
TZOFFSETFROM:-0500
TZOFFSETTO:-0400
TZNAME:EDT
DTSTART:20250309T070000
END:DAYLIGHT
BEGIN:STANDARD
TZOFFSETFROM:-0400
TZOFFSETTO:-0500
TZNAME:EST
DTSTART:20251102T060000
END:STANDARD
BEGIN:DAYLIGHT
TZOFFSETFROM:-0500
TZOFFSETTO:-0400
TZNAME:EDT
DTSTART:20260308T070000
END:DAYLIGHT
BEGIN:STANDARD
TZOFFSETFROM:-0400
TZOFFSETTO:-0500
TZNAME:EST
DTSTART:20261101T060000
END:STANDARD
END:VTIMEZONE
BEGIN:VEVENT
DTSTART;TZID=America/New_York:20251021T090000
DTEND;TZID=America/New_York:20251023T133000
DTSTAMP:20260420T090421
CREATED:20250113T152943Z
LAST-MODIFIED:20250903T141131Z
UID:10000473-1761037200-1761226200@neppa.org
SUMMARY:Energy Connect Conference
DESCRIPTION:NEPPA’s 2025 Energy Connect Conference will be held October 21 – 23\, 2025 at the Verve Hotel in Natick MA (1360 Worcester St\, Natick\, MA 01760). \nEnergy Connect is a great way for public power professionals to share ideas\, build connections and gain resources. Speaker topics range from customer service insights and business leadership\, to energy innovation and IT. We have some exciting educational sessions\, roundtables\, networking opportunities\, sponsor exhibits\, and more planned for this year! \n			\n			\n				\n				\n				\n				\n			\n				\n				\n				\n				\n				\n				\n				VIEW EVENT PAGE
URL:https://neppa.org/event/energy-connect-conference/
LOCATION:The Verve Hotel\, 1360 Worcester St.\, Natick\, MA\, 01760\, United States
CATEGORIES:Energy Connect Conference
ATTACH;FMTTYPE=image/png:https://neppa.org/wp-content/uploads/2025/08/ECC-2025-3-16.9.png
END:VEVENT
BEGIN:VEVENT
DTSTART;TZID=America/New_York:20250304T080000
DTEND;TZID=America/New_York:20250304T120000
DTSTAMP:20260420T090421
CREATED:20241226T142923Z
LAST-MODIFIED:20241226T150423Z
UID:10000442-1741075200-1741089600@neppa.org
SUMMARY:Hoisting 1B-1D
DESCRIPTION:NEPPA offers hoisting Continuing Education and Test Prep classes for Hoisting 1B-1D: hoisting machines\, i.e. cranes and bucket trucks. \n			\n				\n				\n				\n				\n				Per mandated requirement\, all classes are scheduled for 4 hours. These classes are for both\, continuing education (to renew the license) and the test prep (to prepare for the test to receive a brand-new license). ONLY test prep attendees are NOT required to attend the full 4 hours of class. \n			\n				\n				\n				\n				\n				Students attending classes for continuing education will need to bring their hoisting license for verification and will receive a certificate of completion at the end of each class. If the hoisting license is not brought to class for verification\, or if the license has been expired for more than a year\, the certificate will not be issued. In this case\, you will have to take the test again. Those who attend for the test prep will receive information to study for the test. \n			\n				\n				\n				\n				\n				Class Schedule\nHoisting classes are scheduled to be held three times a year at the NEPPA Training Center\, however dates are subject to change and may be cancelled if there is lack of interest. Hoisting Training is also offered @Your-Site –  Click here to register for @Your-Site Training \n  \n1B-1D Hoisting Class – (8:00 am – Noon) \nMarch 4\, 2025June 17\, 2025September 2\, 2025 \n\n			\n				\n				\n				\n				\n				Location \nNEPPA Training Center200 New Estate RoadLittleton\, MA 01460 \n\n			\n				\n				\n				\n				\n				Registration Fees \nRegistration fees include coffee as well as a Certificate of Completion. \n\n\n\nMembers:\n$85\n\n\nNon-Members:\n$170\n\n\n\n			\n				\n				\n				\n				\n				Please note: @Your-Site Classes are subject to the same per person and minimum class size as other 3-hour @Your-Site Training Sessions. \n			\n			\n				\n				\n				\n				\n			\n				\n				\n				\n				\n				\n				\n				Learn More About this Course\n			\n			\n				\n				\n				\n				\n				\n				Register Now\n			\n			\n				\n				\n				\n				\n			\n				\n				\n				\n				\n				\n				\n				\n				\n				\n				\n				Questions?\nPlease contact training@neppa.org or call the office at (978) 540-2200.
URL:https://neppa.org/event/hoisting-1b-1d-6/
LOCATION:NEPPA Training Center\, 200 New Estate Rd\, Littleton\, MA\, 01460\, United States
CATEGORIES:Energy Connect Conference,Hoisting
ATTACH;FMTTYPE=image/png:https://neppa.org/wp-content/uploads/2024/12/Hoisting-1B-1D-07.34.20-16.9.png
END:VEVENT
BEGIN:VEVENT
DTSTART;TZID=America/New_York:20241022T100000
DTEND;TZID=America/New_York:20241024T133000
DTSTAMP:20260420T090421
CREATED:20240813T184809Z
LAST-MODIFIED:20240910T111755Z
UID:10000383-1729591200-1729776600@neppa.org
SUMMARY:2024 Energy Connect Conference
DESCRIPTION:NEPPA’s 2024 Energy Connect Conference(formerly Customer Service\, Credit & Collections Conference)will be held October 22-24\, 2024at The AC Marriott (125 Front Street Worcester\, Massachusetts\, 01608). \nJoin your professional colleagues for 3 days of educational sessions\, roundtables\, networking\, sponsor exhibits\, and more! \n \n			\n				More Information
URL:https://neppa.org/event/2024-energy-connect-conference/
LOCATION:AC Hotel Worcester\, 125 Front Street\, Worcester\, MA\, 01608\, United States
CATEGORIES:Energy Connect Conference
ATTACH;FMTTYPE=image/png:https://neppa.org/wp-content/uploads/2024/08/ECC-16.9-2024-2.png
END:VEVENT
BEGIN:VEVENT
DTSTART;TZID=America/New_York:20241022T090000
DTEND;TZID=America/New_York:20241022T160000
DTSTAMP:20260420T090421
CREATED:20240916T144344Z
LAST-MODIFIED:20240916T145050Z
UID:10000385-1729587600-1729612800@neppa.org
SUMMARY:New England Electrification Leadership Summit
DESCRIPTION:Beneficial Electrification League’sNew England Electrification Leadership Summit\n\nOctober 22\, 2024 | 9:00 am – 4:00 pm \nAC Marriott Hotel\, Worcester\, MA \n  \n			\n				\n				\n				\n				\n				Advances in end-use technology and low-carbon electric generation\, coupled with improvements in grid connectivity and consumer awareness and acceptance\, have increased the value of beneficial electrification. This event will convene leaders from New England to discuss opportunities and challenges around further electrification of our economy. \nIn addition\, Uncle Sam is opening his pocketbook for Federal infrastructure investments that can be used toward beneficial electrification programs and projects. While the concept of beneficial electrification is appealing\, the question remains – how do we implement? This meeting will bring together stakeholders from a variety of backgrounds to discuss next steps to meeting both challenges and opportunities provided by advancements in electric technology.  \n  \n  \n			\n				CLICK HERE FOR MORE INFO & TO REGISTER\n			\n			\n				\n				\n				\n				\n			\n				\n				\n				\n				\n				\n				\n				\n				\n				\n				\n				\nThis event is on day 1 of NEPPA’s Energy Connect Conference.Join us at Energy Connect! Click HERE to learn more and register.
URL:https://neppa.org/event/new-england-electrification-leadership-summit/
LOCATION:AC Hotel Worcester\, 125 Front Street\, Worcester\, MA\, 01608\, United States
CATEGORIES:Energy Connect Conference
ATTACH;FMTTYPE=image/png:https://neppa.org/wp-content/uploads/2024/09/BEL-Banner.png
ORGANIZER;CN="Beneficial Electrification League":MAILTO:info@be-league.org
END:VEVENT
END:VCALENDAR