BEGIN:VCALENDAR
VERSION:2.0
PRODID:-//NEPPA - ECPv6.15.20//NONSGML v1.0//EN
CALSCALE:GREGORIAN
METHOD:PUBLISH
X-ORIGINAL-URL:https://neppa.org
X-WR-CALDESC:Events for NEPPA
REFRESH-INTERVAL;VALUE=DURATION:PT1H
X-Robots-Tag:noindex
X-PUBLISHED-TTL:PT1H
BEGIN:VTIMEZONE
TZID:America/New_York
BEGIN:DAYLIGHT
TZOFFSETFROM:-0500
TZOFFSETTO:-0400
TZNAME:EDT
DTSTART:20240310T070000
END:DAYLIGHT
BEGIN:STANDARD
TZOFFSETFROM:-0400
TZOFFSETTO:-0500
TZNAME:EST
DTSTART:20241103T060000
END:STANDARD
BEGIN:DAYLIGHT
TZOFFSETFROM:-0500
TZOFFSETTO:-0400
TZNAME:EDT
DTSTART:20250309T070000
END:DAYLIGHT
BEGIN:STANDARD
TZOFFSETFROM:-0400
TZOFFSETTO:-0500
TZNAME:EST
DTSTART:20251102T060000
END:STANDARD
BEGIN:DAYLIGHT
TZOFFSETFROM:-0500
TZOFFSETTO:-0400
TZNAME:EDT
DTSTART:20260308T070000
END:DAYLIGHT
BEGIN:STANDARD
TZOFFSETFROM:-0400
TZOFFSETTO:-0500
TZNAME:EST
DTSTART:20261101T060000
END:STANDARD
BEGIN:DAYLIGHT
TZOFFSETFROM:-0500
TZOFFSETTO:-0400
TZNAME:EDT
DTSTART:20270314T070000
END:DAYLIGHT
BEGIN:STANDARD
TZOFFSETFROM:-0400
TZOFFSETTO:-0500
TZNAME:EST
DTSTART:20271107T060000
END:STANDARD
END:VTIMEZONE
BEGIN:VEVENT
DTSTART;TZID=America/New_York:20260409T080000
DTEND;TZID=America/New_York:20260409T140000
DTSTAMP:20260421T071438
CREATED:20251201T185052Z
LAST-MODIFIED:20260317T123515Z
UID:10000552-1775721600-1775743200@neppa.org
SUMMARY:Industry Day - Hosted by Shamrock Power Sales
DESCRIPTION:Thursday\, February 26\, 2026 POSTPONED to Thursday\, April 9\, 2026 | 8:00 am – 2:00 pmNEPPA Training Center – 200 New Estate Road\, Littleton MA 01460 \nIndustry days are packed full of hands-on demos\, introducing you to new and innovative products. Hosted by one our affiliate members\, attendees get access to learn\, ask questions and see up close\, what is up and coming in the industry. \n			\n				\n				\n				\n				\n				This event is open to all members\, but geared towards operations personnel and management. \nContinental breakfast and lunch will be served. \nThis event is free for members of NEPPA. \nAdvance Registration Required \n			\n				register now\n			\n				\n				\n				\n				\n				What to Expect:\n			\n				\n				\n				\n				\n				The agenda subject to change \nDemo by: Russell Abercrombie\, Power Delivery Products Faulted Circuit Indicator basics for both Overhead and Underground\, how to deploy and where\, reduction of outage times\, trouble shooting and SMART indicators how to incorporate into a distribution or transmission system. \nDemo by: Roger Ritchie\, Plymouth TapeElectric Tape 101 – What to use and when\, Taping Techniques\, Reinsulating and Taping Splices on Overhead Tree wire and Spacer Cable\,  Secondary URD repair using Tape \nDemo by: Duston Whisenhunt\, EstexRope Care and Safety \n			\n				\n				\n				\n				\n				Hosted By:\n			\n			\n				\n				\n				\n				\n			\n				\n				\n				\n				\n				\n				\n				\n				\n				\n				\n				\n			\n				\n				\n				\n				\n				Jake Kennedy Sales EngineerShamrock Power SalesCell 617-448-1406jake.kennedy@shamrockpower.com
URL:https://neppa.org/event/industry-day-hosted-by-shamrock-power-sales/
LOCATION:NEPPA Training Center\, 200 New Estate Rd\, Littleton\, MA\, 01460\, United States
CATEGORIES:Industry Day
ATTACH;FMTTYPE=image/png:https://neppa.org/wp-content/uploads/2025/12/INDUSTRY-DAY-6-16.9.png
END:VEVENT
BEGIN:VEVENT
DTSTART;TZID=America/New_York:20251015T080000
DTEND;TZID=America/New_York:20251015T150000
DTSTAMP:20260421T071438
CREATED:20250425T123018Z
LAST-MODIFIED:20251008T114907Z
UID:10000484-1760515200-1760540400@neppa.org
SUMMARY:Industry Day - Hosted by Schweitzer
DESCRIPTION:Wednesday\, October 15\, 2025 | 8:00 am – 3:00 pmNEPPA Training Center – 200 New Estate Road\, Littleton MA 01460 \nIndustry days are packed full of hands-on demos\, introducing you to new and innovative products. Hosted by one our affiliate members\, attendees get access to learn\, ask questions and see up close\, what is up and coming in the industry. \n			\n				\n				\n				\n				\n				** This is a member only event ** \nThis event is open to all members\, but geared towards operations personnel and management. \nContinental breakfast and lunch will be served. \nThis event is free for utility members of NEPPA. \nAdvance Registration Required \n			\n				Register Now\n			\n				\n				\n				\n				\n				What to Expect\n			\n				\n				\n				\n				\n				Please note: Agenda is subject to change \n  \n8:00AM – 8:30AM – Coffee/Pastries and Registration \n8:30AM – 8:45AM – Schweitzer Welcome Address and Overview \n8:45AM – 10:00AM – Presentation/Demos: \n\nSEL 787Z High Impedance Relay – Matthew Marotti \, Senior Application Engineer- Protection\n\nReliable transformer and bus protection proven in smaller utility systems. Fast fault detection ensures safer operation with minimal downtime. \n\nOT SDN – Protection Class Ethernet Network Solution – Nik Ramadhin \, Associate Application Engineer – Automation\n\nCreates a rock-solid\, cybersecure communications backbone . Keeps protection and control traffic flowing even if the network fails. \n\nSEL Arc-Flash Protection – Raajas Joshi \, Associate Application Engineer – Protection\n\nInstantly reduces arc-flash danger to crews and equipment. Cuts incident energy so utilities avoid costly damage and outages. Easily ties into existing relays for a stronger safety program \n10:00AM – 10:15AM – Break \n10:15AM – 12:00PM – Presentation/Demos: \n\nSEL Blueframe – Secure OT Software Platform – Gregory Chernov \, Associate Application Engineer– Automation\n\nOne trusted software platform for substation visibility and control. Brings multiple OT applications together in a secure environment. \n  \n\nSEL Microgrid Solutions – PowerMAX – Fred Amuna – Engineering Manger 1 – Automation\n\nKeeps lights on with seamless transitions between grid and island mode. Balances renewables\, storage\, and diesel for reliable local power .Gives communities independence and resilience during outages. \n  \n\nMigration Strategy – 5 Series – Matthew Marotti \, Senior Application Engineer\n\nUpgrade older SEL relays without major rewiring. Adds faster protection\, more features\, and stronger security. Step-by-step migration reduces risk and costs for smaller utilities. \n12:00PM – 12:30PM – Lunch \n12:30PM – 3:00PM – Presentation/Demos: \n\nSEL Custom Panel Solutions – Swathi Patel \, Associate Sales Engineer\n\nFactory-built panels tailored to your exact system design. Cut engineering time and installation costs with ready-to-install solutions. Trusted SEL quality means fewer headaches for utility staff. \n  \n\nSEL 9 Series – Trevor Mattson\, Development Lead Engineer\n\nNext-generation protection with faster and smarter performance. Future-ready with strong cybersecurity and flexible communications. Designed to grow with your utility’s evolving needs. \n  \n\nCan Primary and Secondary Relays Be from the Same Manufacturer? – Raajas Joshi \, Associate Application Engineer – Protection\n\nThey work seamlessly together\, simplifying support and spares. Makes training and integration easier for smaller utilities. \n  \n3:00PM – Adjourn \n			\n				\n				\n				\n				\n				Learn More About Your Host:\n			\n			\n				\n				\n				\n				\n			\n				\n				\n				\n				\n				\n				\n				\n				\n				\n				\n				\n			\n				\n				\n				\n				\n				Schweitzer Engineering Laboratories\, Inc. \nMaking Electric Power Safer\, More Reliable\, and More Economical \nSEL invents\, designs\, and builds digital products and systems that protect\, automate\, and control critical infrastructure around the world. This technology prevents blackouts and enables customers to improve power system reliability\, safety\, and cost. SEL\, a 100 percent employee-owned company that is headquartered in Pullman\, Washington\, has manufactured products in the United States since 1984 and now serves customers worldwide. SEL provides unmatched technical support and customer service and a ten-year worldwide warranty. \n10 Tara Blvd Ste. 440\, Nashua\, NH 03062
URL:https://neppa.org/event/industry-day-hosted-by-schweitzer/
LOCATION:NEPPA Training Center\, 200 New Estate Rd\, Littleton\, MA\, 01460\, United States
CATEGORIES:Industry Day
ATTACH;FMTTYPE=image/png:https://neppa.org/wp-content/uploads/2025/04/INDUSTRY-DAY-October-banner-1.png
END:VEVENT
BEGIN:VEVENT
DTSTART;TZID=America/New_York:20250326T080000
DTEND;TZID=America/New_York:20250326T160000
DTSTAMP:20260421T071438
CREATED:20250311T120030Z
LAST-MODIFIED:20250311T152543Z
UID:10000476-1742976000-1743004800@neppa.org
SUMMARY:Industry Day - Hosted by Powertech
DESCRIPTION:Wednesday\, March 26\, 2025 | 8:00 am – 4:00 pmNEPPA Training Center – 200 New Estate Road\, Littleton MA 01460 \nIndustry days are packed full of hands-on demos\, introducing you to new and innovative products. Hosted by one our affiliate members\, attendees get access to learn\, ask questions and see up close\, what is up and coming in the industry.   \n			\n				\n				\n				\n				\n				This event is open to all members\, but geared towards operations personnel and management. \nContinental breakfast and lunch will be served. \nThis event is free for members of NEPPA. \nAdvance Registration Required \n			\n				Register to Attend\n			\n				\n				\n				\n				\n				What to Expect:\n			\n				\n				\n				\n				\n				Agenda subject to change \n8:00 – 8:30 – Coffee/Pastries and Registration \n8:30 – 8:45 – TE Welcome Address and Overview \n8:45 – 9:30 – TE Material Science Technology \n9:30- – 10:00 – Low Voltage TE vs Market Players \n10:00 – 10:15 – Break \n10:15 – 11:45 – Low Voltage Demonstration and Installation \n12:00 – 1:00 – Lunch \n1:00 – 1:30 – MV Cable Design and Stress Control \n1:30 – 2:00 – Splices/Terminations TE vs Market Players \n2:00 – 2:30 – Shearbolt Connectors TE vs Market Players \n2:30 – 3:00 – Demo & Installation Splices and Terminations \n3:00 – 4:00 – Ampact Fired-ILDs & BAT – Hot Sticking if needed \n  \n  \n			\n				\n				\n				\n				\n				Presenters:\n			\n			\n				\n				\n				\n				\n			\n				\n				\n				\n				\n				\n				\n				\n				\n				\n				\n				\n			\n				\n				\n				\n				\n				Steve MingioneRegional Account Manager – Northeast EnergyTE Connectivity \n			\n			\n				\n				\n				\n				\n				\n				\n				\n				\n				\n				\n			\n				\n				\n				\n				\n				Mike CostelloSales RepresentativePowertech Associates / Utility Power Supply Company
URL:https://neppa.org/event/industry-day-hosted-by-powertech/
LOCATION:NEPPA Training Center\, 200 New Estate Rd\, Littleton\, MA\, 01460\, United States
CATEGORIES:Industry Day
ATTACH;FMTTYPE=image/png:https://neppa.org/wp-content/uploads/2025/03/Powertech-Industry-Day-16.9.png
END:VEVENT
END:VCALENDAR