BEGIN:VCALENDAR
VERSION:2.0
PRODID:-//NEPPA - ECPv6.15.20//NONSGML v1.0//EN
CALSCALE:GREGORIAN
METHOD:PUBLISH
X-WR-CALNAME:NEPPA
X-ORIGINAL-URL:https://neppa.org
X-WR-CALDESC:Events for NEPPA
REFRESH-INTERVAL;VALUE=DURATION:PT1H
X-Robots-Tag:noindex
X-PUBLISHED-TTL:PT1H
BEGIN:VTIMEZONE
TZID:America/New_York
BEGIN:DAYLIGHT
TZOFFSETFROM:-0500
TZOFFSETTO:-0400
TZNAME:EDT
DTSTART:20190310T070000
END:DAYLIGHT
BEGIN:STANDARD
TZOFFSETFROM:-0400
TZOFFSETTO:-0500
TZNAME:EST
DTSTART:20191103T060000
END:STANDARD
BEGIN:DAYLIGHT
TZOFFSETFROM:-0500
TZOFFSETTO:-0400
TZNAME:EDT
DTSTART:20200308T070000
END:DAYLIGHT
BEGIN:STANDARD
TZOFFSETFROM:-0400
TZOFFSETTO:-0500
TZNAME:EST
DTSTART:20201101T060000
END:STANDARD
BEGIN:DAYLIGHT
TZOFFSETFROM:-0500
TZOFFSETTO:-0400
TZNAME:EDT
DTSTART:20210314T070000
END:DAYLIGHT
BEGIN:STANDARD
TZOFFSETFROM:-0400
TZOFFSETTO:-0500
TZNAME:EST
DTSTART:20211107T060000
END:STANDARD
BEGIN:DAYLIGHT
TZOFFSETFROM:-0500
TZOFFSETTO:-0400
TZNAME:EDT
DTSTART:20220313T070000
END:DAYLIGHT
BEGIN:STANDARD
TZOFFSETFROM:-0400
TZOFFSETTO:-0500
TZNAME:EST
DTSTART:20221106T060000
END:STANDARD
BEGIN:DAYLIGHT
TZOFFSETFROM:-0500
TZOFFSETTO:-0400
TZNAME:EDT
DTSTART:20230312T070000
END:DAYLIGHT
BEGIN:STANDARD
TZOFFSETFROM:-0400
TZOFFSETTO:-0500
TZNAME:EST
DTSTART:20231105T060000
END:STANDARD
BEGIN:DAYLIGHT
TZOFFSETFROM:-0500
TZOFFSETTO:-0400
TZNAME:EDT
DTSTART:20240310T070000
END:DAYLIGHT
BEGIN:STANDARD
TZOFFSETFROM:-0400
TZOFFSETTO:-0500
TZNAME:EST
DTSTART:20241103T060000
END:STANDARD
BEGIN:DAYLIGHT
TZOFFSETFROM:-0500
TZOFFSETTO:-0400
TZNAME:EDT
DTSTART:20250309T070000
END:DAYLIGHT
BEGIN:STANDARD
TZOFFSETFROM:-0400
TZOFFSETTO:-0500
TZNAME:EST
DTSTART:20251102T060000
END:STANDARD
BEGIN:DAYLIGHT
TZOFFSETFROM:-0500
TZOFFSETTO:-0400
TZNAME:EDT
DTSTART:20260308T070000
END:DAYLIGHT
BEGIN:STANDARD
TZOFFSETFROM:-0400
TZOFFSETTO:-0500
TZNAME:EST
DTSTART:20261101T060000
END:STANDARD
BEGIN:DAYLIGHT
TZOFFSETFROM:-0500
TZOFFSETTO:-0400
TZNAME:EDT
DTSTART:20270314T070000
END:DAYLIGHT
BEGIN:STANDARD
TZOFFSETFROM:-0400
TZOFFSETTO:-0500
TZNAME:EST
DTSTART:20271107T060000
END:STANDARD
END:VTIMEZONE
BEGIN:VEVENT
DTSTART;TZID=America/New_York:20260310T080000
DTEND;TZID=America/New_York:20260312T140000
DTSTAMP:20260421T065832
CREATED:20251117T182259Z
LAST-MODIFIED:20251222T142635Z
UID:10000544-1773129600-1773324000@neppa.org
SUMMARY:Metering I Program
DESCRIPTION:Metering I is a 3-day course heldTuesday\, March 10th – Thursday\, March 12th\, 2026 from 8am – 2pm at theNEPPA Training Center (200 New Estate Road\, Littleton\, MA 01460) \n			\n				\n				\n				\n				\n				NEPPA’s Metering I Program is designed to be an introduction to the fundamentals of meter equipment and safety.  The Program will introduce how meters are used as an integral part of the distribution system and why their accurate and efficient readings are critical to a utility’s success. \nUpon successful completion of the Program\, students are awarded a Certificate of Completion. \n			\n				\n				\n				\n				\n				WHO SHOULD ATTEND\nThis course is designed for: \n• Beginning Meter Technicians \n• Lineworkers \n• Supervisors or Managers transitioning from other departments \n \nLEARNING OBJECTIVES\nUpon completion of the program\, participants will be able to successfully: \n\n\n\nDemonstrate a foundational/introductory knowledge of meter use.\nPractice hands-on safe installation and removal of a meter.\nCalculate and demonstrate the safe measurement of electricity.\nRecognize meter theft\, revenue protection controls\, and how to safely install service and conduct inspections.\nDemonstrate a basic understanding of net metering\, demand metering and reverse metering.\nAccurately identify faulty equipment and troubleshoot solutions\n\n\n\n			\n				\n				\n				\n				\n				COURSE PREREQUISITES\nThere are no prerequistes for this course. \nTESTING\nThis Program includes a Final Exam to demonstrate comprehension of the material. \n			\n				\n				\n				\n				\n				SUPPLEMENTAL MATERIAL\nStudents will receive a course binder with printed material. \n			\n				\n				\n				\n				\n				COURSE LOCATION\nNEPPA Training Center200 New Estate RoadLittleton\, MA 01460 \n			\n				\n				\n				\n				\n				AGENDA\nThese details are subject to change. \n \nDay 1 – Tuesday – 8:00am – 2:00pm Safety in MeteringIntro to MeteringMathematics for Metering Personnel \nDay 2 – Wednesday – 8:00am – 2:00pmElectric CircuitsUnderstanding Electrical TheoryDemand Meters \nDay 3 – Thursday – 8:00am– 2:00pmRevenue ProtectionDistributed Generation & Net MeteringInstallation and Troubleshooting \n			\n				\n				\n				\n				\n				REGISTRATION\n2026 Registration fees includes coffee/tea and lunch each day. \nMembers: $1\,600 \nNon-Members: $2\,500 \n  \nCancellations are accepted until two-weeks prior to the start of the program.  Substitutions may be made at any time prior to the first session. \n  \nTo register\, please click the button below and complete your registration online. \n			\n				register now\n			\n			\n				\n				\n				\n				\n			\n				\n				\n				\n				\n				\n				\n				\n				\n				\n				\n				\n			\n				\n				\n				\n				\n				INSTRUCTOR\n			\n			\n				\n				\n				\n				\n			\n				\n				\n				\n				\n				\n				\n				\n				\n				\n				\n				\n				\n					John Lanciani\n					Trainer \n					John grew up in Littleton\, MA\, graduating in 1988 and became an Apprentice Electrician for Interstate Electric. In 1990\, he started working for Littleton Electric Light Department as an Apprentice Lineman\, completing NEPPA’s Line School in 1994. John worked his way up from Journeyman Lineman to Engineering Technician\, gaining skills on the more technical aspects of distribution such as substations\, scada and automated distribution. He oversaw the meter department\, planning for and installing Littleton Electric Light Department’s first AMR system and upgrading all metering to solid state. In the early 2000s\, he worked to upgrade their substation by replacing the oil filled breakers with air insulated as well as replacing all mechanical relays w/ solid state. In 2005\, John took on a supervisory role\, overseeing line crews for after-hours coverage. He has been involved with public power his whole life\, as his father was a lineman in Sterling\, MA in the 50’s before becoming the Manager in Paxton and then Littleton. NEPPA is happy to have his expertise as an instructor\, helping to expand NEPPA’s training program with this knowledge and experience. \n					\n				\n			\n				\n				\n				\n				\n				LODGING\nLodging is not included in your registration fees and must be arranged directly with the hotel. If you need overnight accommodations\, please see our lodging information page for details on discounted rates.  \n  \n			\n				Lodging Information\n			\n			\n				\n				\n				\n				\n			\n				\n				\n				\n				\n				\n				\n				\n				\n				\n				\n				QUESTIONS?\nPlease contact training@neppa.org or call the office at (978) 540-2200.
URL:https://neppa.org/event/metering-i-program-4/
LOCATION:NEPPA Training Center\, 200 New Estate Rd\, Littleton\, MA\, 01460\, United States
CATEGORIES:Metering I Program
ATTACH;FMTTYPE=image/png:https://neppa.org/wp-content/uploads/2025/11/METERING-2026-16.9-2.png
END:VEVENT
BEGIN:VEVENT
DTSTART;TZID=America/New_York:20250325T080000
DTEND;TZID=America/New_York:20250326T150000
DTSTAMP:20260421T065832
CREATED:20250102T150438Z
LAST-MODIFIED:20250102T150748Z
UID:10000452-1742889600-1743001200@neppa.org
SUMMARY:Metering I Program
DESCRIPTION:Metering I is a 2-day course held Tuesday\, March 25th – Wednesday\, March 26th\, 2025 from 8am – 3pm at theNEPPA Training Center (200 New Estate Road\, Littleton\, MA 01460) \n			\n				\n				\n				\n				\n				NEPPA’s Metering I Program is designed to be an introduction to the fundamentals of meter equipment and safety.  The Program will introduce how meters are used as an integral part of the distribution system and why their accurate and efficient readings are critical to a utility’s success. \nUpon successful completion of the Program\, students are awarded a Certificate of Completion. \n			\n				\n				\n				\n				\n				WHO SHOULD ATTEND\nThis course is designed for: \n• Intermediate or transitioning Meter Technicians \n• Lineworkers \n• Supervisors or Managers transitioning from other departments \n \nLEARNING OBJECTIVES\nUpon completion of the program\, participants will be able to successfully: \n\n\n\nDemonstrate a foundational/introductory knowledge of meter use\, demand and digital vs. analog meters.\nPractice hands-on safe installation and removal of a meter.\nCalculate and demonstrate the safe measurement of electricity.\nRecognize meter theft\, revenue protection controls\, and how to safely install service and conduct inspections.\nDemonstrate a basic understanding of net metering\, demand metering and reverse metering.\nAccurately identify faulty equipment and troubleshoot solutions\n\n\n\n			\n				\n				\n				\n				\n				COURSE PREREQUISITES\nStudents are expected to have completed NEPPA’s Basic Electricity and Mathematics for Utility Operations course and/or demonstrate a solid understanding of basic electricity concepts\, theory and mathematics through prequalification testing. \n			\n				\n				\n				\n				\n				REGISTRATION\n2025 Registration fees includes supplemental materials listed above and lunch each day. \nMembers: $1\,000 \nNon-Members: $1\,550 \n  \nCancellations are accepted until two-weeks prior to the start of the program.  Substitutions may be made at any time prior to the first session. \n  \nTo register\, please click the button below and complete your registration online. \n			\n			\n				\n				\n				\n				\n			\n				\n				\n				\n				\n				\n				\n				MORE COURSE INFORMATION\n			\n			\n				\n				\n				\n				\n				\n				REGISTER NOW
URL:https://neppa.org/event/metering-i-program-3/
LOCATION:NEPPA Training Center\, 200 New Estate Rd\, Littleton\, MA\, 01460\, United States
CATEGORIES:Metering I Program
ATTACH;FMTTYPE=image/png:https://neppa.org/wp-content/uploads/2025/01/2025-METERING-I-12.30.24-16.9.png
END:VEVENT
BEGIN:VEVENT
DTSTART;TZID=America/New_York:20240326T080000
DTEND;TZID=America/New_York:20240327T143000
DTSTAMP:20260421T065832
CREATED:20240216T125123Z
LAST-MODIFIED:20240319T134313Z
UID:10000347-1711440000-1711549800@neppa.org
SUMMARY:Metering I Program
DESCRIPTION:NEPPA’s Metering I Program will be held March 26 – 27\, 2024 at the NEPPA Training Center (200 New Estate Road\, Littleton\, MA 01460). \nNEPPA’s Metering I Program is designed to be an introduction to the fundamentals of meter equipment and safety. The Program will introduce how meters are used as an integral part of the distribution system and why their accurate and efficient readings are critical to a utility’s success. \n			\n				MORE COURSE DETAILS\n			\n				\n				\n				\n				\n				Who Should Attend\nMetering I is designed for: \n\nNew or Transitioning Meter Technicians\nLineworkers\nSupervisors or Managers transitioning from other departments\n\nLearning Objectives \n\nDemonstrate a foundational/introductory knowledge of meter use\, demand and digital vs. analog meters.\nPractice hands-on safe installation and removal of a meter\nCalculate and demonstrate the safe measurement of electricity\nRecognize meter theft\, revenue protection controls\, and how to safely install service and conduct inspections.\nDemonstrate a basic understanding of net metering\, demand metering and bi-directional metering.\nAccurately identify faulty equipment and troubleshoot solutions\n\nCLICK HERE TO VIEW DETAILED AGENDA\n			\n				\n				\n				\n				\n				 Registration \nRegistration fees includes supplemental materials above\, as well as\, coffee and lunch each day. If you have any dietary or other restrictions\, please note them on your registration. \n\n\n\nMembers:\n$975\n\n\nNon-Members:\n$1\,500\n\n\n\n  \nCancellation Policy \nCancellations are accepted until Tuesday\, March 12\, 2024 (two weeks prior to the start of the class). Substitutions may be made at any time prior to the start of the class.  \n  \n			\n				Register Now\n			\n				\n				\n				\n				\n				\n			\n				\n				\n				\n				\n				Questions?  Please contact training@neppa.org or call the office at (978) 540-2200.
URL:https://neppa.org/event/2024-metering-i-program/
LOCATION:NEPPA Training Center\, 200 New Estate Rd\, Littleton\, MA\, 01460\, United States
CATEGORIES:Metering I Program
ATTACH;FMTTYPE=image/png:https://neppa.org/wp-content/uploads/2024/02/2024-METERING-I-16.9-2.12.24.png
END:VEVENT
BEGIN:VEVENT
DTSTART;TZID=America/New_York:20230405T080000
DTEND;TZID=America/New_York:20230406T144500
DTSTAMP:20260421T065832
CREATED:20230213T184510Z
LAST-MODIFIED:20230214T155312Z
UID:10000268-1680681600-1680792300@neppa.org
SUMMARY:Metering I Program
DESCRIPTION:In direct response to members’ feedback\, NEPPA announced a completely revitalized Metering Program in 2020. As the Program continues to evolve\, we encourage members and students to provide their honest feedback on the program. NEPPA’s Metering I Program will be held April 5 -6\, 2023 at the NEPPA Training Center (200 New Estate Road\, Littleton\, MA 01460). \nNEPPA’s Metering I Program is designed to be an introduction to the fundamentals of meter equipment and safety. The Program will introduce how meters are used as an integral part of the distribution system and why their accurate and efficient readings are critical to a utility’s success. \n \nClick here to download the detailed agenda. \n			\n				\n				\n				\n				\n				Who Should Attend\nMetering I is designed for: \n\nNew or Transitioning Meter Technicians\nLineworkers\nSupervisors or Managers transitioning from other departments\n\nLocation\nNEPPA Training Center200 New Estate RoadLittleton\, MA 01460 \nLearning Objectives \n\nDemonstrate a foundational/introductory knowledge of meter use\, demand and digital vs. analog meters.\nPractice hands-on safe installation and removal of a meter\nCalculate and demonstrate the safe measurement of electricity\nRecognize meter theft\, revenue protection controls\, and how to safely install service and conduct inspections.\nDemonstrate a basic understanding of net metering\, demand metering and reverse metering.\nAccurately identify faulty equipment and troubleshoot solutions\n\n			\n				\n				\n				\n				\n				Prerequisites \nStudents are expected to participate in the Basic Electricity and Mathematics for Utility Operations course\, or have a solid understanding of basic electricity concepts\, theory and mathematics. \nRegistration \nRegistration fees include coffee and lunch each day. If you have any dietary or other restrictions\, please note them on your registration. \n \n\n\n\nMembers:\n$935\n\n\nNon-Members:\n$1\,440\n\n\n\n			\n				Register Now\n			\n				\n				\n				\n				\n				Lodging\nLodging is not included in your registration fees and must be arranged directly with the hotel. If you need overnight accommodations\, please contact any of the following hotels directly and be sure to mention you’re with NEPPA (or the appropriate code/account number) to receive the negotiated rate: \nCourtyard by Marriott LittletonJanuary 1 – April 30\, 2023 – $142/night + taxMay 1 – October 31\, 2023 – $169/night + taxNovember 1 – December 31\, 2023 – $142/night + tax102 Constitution AvenueLittleton\, MA 01460 (978) 440-5040 – If calling to make your reservation\, be sure to mention either NEPPA or Northeast Power \nThe Boxboro Regency Hotel & Conference Center – $99/night + tax242 Adams PlaceBoxborough\, MA 01719(978) 263-8701 \nThe Westford Regency Inn & Conference CenterJan 1 – March 31\, 2023 – $105/night + taxApril 1 – Oct 31\, 2023 – $125/night + taxNov 1 – Dec 31\, 2023 –  $105/ night + tax219 Littleton RoadWestford\, MA 01886(978) 692-8200 \nSpringHill Suites Devens Common Center – $149/night + tax27 Andrews ParkwayDevens\, MA 01434(978) 772-3030 \n Hilton Garden Inn Devens – $149/night + tax59 Andrews ParkwayDevens\, MA 01434(978) 772-0600 \n			\n				\n				\n				\n				\n				Questions?  Please contact training@neppa.org or call the office at (978) 540-2200.
URL:https://neppa.org/event/metering-i-program-2/
LOCATION:NEPPA Training Center\, 200 New Estate Rd\, Littleton\, MA\, 01460\, United States
CATEGORIES:Metering I Program
ATTACH;FMTTYPE=image/png:https://neppa.org/wp-content/uploads/2023/02/2023-Metering-I-16.9-1.png
END:VEVENT
BEGIN:VEVENT
DTSTART;TZID=America/New_York:20220405T080000
DTEND;TZID=America/New_York:20220406T140000
DTSTAMP:20260421T065832
CREATED:20220131T203124Z
LAST-MODIFIED:20230213T195251Z
UID:10000147-1649145600-1649253600@neppa.org
SUMMARY:2022 Metering I Program
DESCRIPTION:In direct response to members’ feedback\, NEPPA announced a completely revitalized Metering Program in 2020. As the Program continues to evolve\, we encourage members and students to provide their honest feedback on the program. NEPPA’s Metering I Program will be held April 5 -6\, 2022 at the NEPPA Training Center (200 New Estate Road\, Littleton\, MA 01460). \nNEPPA’s Metering I Program is designed to be an introduction to the fundamentals of meter equipment and safety. The Program will introduce how meters are used as an integral part of the distribution system and why their accurate and efficient readings are critical to a utility’s success. \n \nClick here to download the detailed agenda.  \n			\n				\n				\n				\n				\n				Who Should Attend  \nMetering I is designed for: \n>New or Transitioning Meter Technicians>Lineworkers>Supervisors or Managers transitioning from other departments \nLocation \nNEPPA Training Center200 New Estate RoadLittleton\, MA 01460 \nLearning Objectives \n>Demonstrate a foundational/introductory knowledge of meter use\, demand and digital vs. analog meters. \n>Practice hands-on safe installation and removal of a meter \n>Calculate and demonstrate the safe measurement of electricity \n>Recognize meter theft\, revenue protection controls\, and how to safely install service and conduct inspections. \n>Demonstrate a basic understanding of net metering\, demand metering and reverse metering. \n>Accurately identify faulty equipment and troubleshoot solutions \n			\n				\n				\n				\n				\n				Prerequisites \nStudents are expected to participate in the new Basic Electricity and Mathematics for Utility Operations course\, or have a solid understanding of basic electricity concepts\, theory and mathematics. \nRegistration \nRegistration fees include coffee and lunch each day. If you have any dietary or other restrictions\, please note them on your registration. \n \n\n\n\nMembers:\n$905\n\n\nNon-Members:\n$1\,400\n\n\n\n			\n				Register Now\n			\n				\n				\n				\n				\n				Lodging \nLodging is not included in your registration fees and must be arranged directly with the hotel. If you need overnight accommodations\, please contact any of the following hotels directly and be sure to mention you’re with NEPPA (or the appropriate code/account number) to receive the negotiated rate: \nCourtyard by Marriott Littleton – $137/night + tax102 Constitution AvenueLittleton\, MA 01460 (978) 440-5040 – If calling to make your reservation\, be sure to mention either NEPPA or Northeast Power  \n  \nThe Westford Regency Inn & Conference Center – Jan 1 – March 31 $99/night + tax: April 1 – Oct 31 $119/night + tax; Nov 1 – Dec 31 $99/ night + tax219 Littleton RoadWestford\, MA 01886(978) 692-8200 \n\nSpringHill Suites Devens Common Center – $129/night + tax27 Andrews ParkwayDevens\, MA 01434(978) 772-3030 \n  \nHilton Garden Inn Devens – $129/night + tax59 Andrews ParkwayDevens\, MA 01434(978) 772-0600 \n\n			\n				\n				\n				\n				\n				Questions?  Please contact training@neppa.org or call the office at (978) 540-2200.
URL:https://neppa.org/event/2022-metering-i-program/
LOCATION:NEPPA Training Center\, 200 New Estate Rd\, Littleton\, MA\, 01460\, United States
CATEGORIES:Metering I Program
ATTACH;FMTTYPE=image/png:https://neppa.org/wp-content/uploads/2022/01/2022-Metering-I-Banner-1.png-kk.png
END:VEVENT
BEGIN:VEVENT
DTSTART;TZID=America/New_York:20210421T080000
DTEND;TZID=America/New_York:20210422T150000
DTSTAMP:20260421T065832
CREATED:20201015T124927Z
LAST-MODIFIED:20210422T192844Z
UID:10000079-1618992000-1619103600@neppa.org
SUMMARY:Metering I Program
DESCRIPTION:In direct response to members’ feedback\, NEPPA announced a completely revitalized Metering Program in 2020. As the Program continues to evolve\, we encourage members and students to provide their honest feedback on the program. \nNEPPA’s Metering I Program will be held April 21 – 22\, 2021 at the NEPPA Training Center (200 New Estate Road\, Littleton\, MA 01460). \nNEPPA’s Metering I Program is designed to be an introduction to the fundamentals of meter equipment and safety.  The Program will introduce how meters are used as an integral part of the distribution system and why their accurate and efficient readings are critical to a utility’s success. \nClick here to download the detailed agenda. \n			\n				\n				\n				\n				\n				Who Should Attend  \nMetering I is designed for: \nNew or Transitioning Meter Technicians \nLineworkers \nSupervisors or Managers transitioning from other departments \nLocation \nNEPPA Training Center \n200 New Estate Road \nLittleton\, MA 01460 \n  \nLearning Objectives  \n \nDemonstrate a foundational/introductory knowledge of meter use\, demand and digital vs. analog meters. \nPractice hands-on safe installation and removal of a meter \nCalculate and demonstrate the safe measurement of electricity \nRecognize meter theft\, revenue protection controls\, and how to safely install service and conduct inspections. \nDemonstrate a basic understanding of net metering\, demand metering and reverse metering. \nAccurately identify faulty equipment and troubleshoot solutions \n			\n				\n				\n				\n				\n				Prerequisites  \n Students are expected to participate in the new Basic Electricity and Mathematics for Utility Operations course\, or have a solid understanding of basic electricity concepts\, theory and mathematics.  \n Registration \nRegistration fees include coffee and lunch each day.  If you have any dietary or other restrictions\, please note them on your registration. \n  \n\n\n\nMembers:\n$875\n\n\nNon-Members:\n$1\,300\n\n\n\n  \n			\n				Register Now\n			\n				\n				\n				\n				\n				Lodging \nLodging is not included in your registration fees and must be arranged directly with the hotel. If you need overnight accommodations\, please contact any of the following hotels directly and be sure to mention you’re with NEPPA (or the appropriate code/account number) to receive the negotiated rate: \n\nCourtyard by Marriott Littleton – King: $155/night + tax; Queen/Queen: $165/night + tax \n102 Constitution Avenue\, Littleton\, MA 01460 \n(978) 440-5040 – If calling to make your reservation\, be sure to mention either NEPPA or Northeast Power \nClick here to make your reservation online using the Corporate Rate: BZL *** Due to COVID\, please call the hotel directly. \n  \nThe Westford Regency Inn & Conference Center – $120/night + tax \n219 Littleton Road\, Westford\, MA 01886 \n(978) 692-8200 \nClick here to make your reservation online using the Rate Access Code: NEPPA. \n\nSpringHill Suites Devens Common Center – $129/night + tax \n27 Andrews Parkway\, Devens\, MA 01434 \n(978) 772-3030 \nClick here to make your reservation online using the Group Code: BZL. \n  \nHilton Garden Inn Devens – $129/night + tax \n59 Andrews Parkway\, Devens\, MA 01434 \n(978) 772-0600 \nClick here to make your reservation online using the Group Code: BZL. \n			\n				\n				\n				\n				\n				Questions?  \n Please contact training@neppa.org or call the office at (978) 540-2200.
URL:https://neppa.org/event/metering-i-program/2021-04-21/
LOCATION:NEPPA Training Center\, 200 New Estate Rd\, Littleton\, MA\, 01460\, United States
CATEGORIES:Metering I Program
ATTACH;FMTTYPE=image/png:https://neppa.org/wp-content/uploads/2020/10/2021-Metering-I-Banner.png-2.png
END:VEVENT
BEGIN:VEVENT
DTSTART;TZID=America/New_York:20201117T080000
DTEND;TZID=America/New_York:20201118T150000
DTSTAMP:20260421T065832
CREATED:20201015T124927Z
LAST-MODIFIED:20210422T192844Z
UID:10000078-1605600000-1605711600@neppa.org
SUMMARY:Metering I Program
DESCRIPTION:In direct response to members’ feedback\, NEPPA announced a completely revitalized Metering Program in 2020. As the Program continues to evolve\, we encourage members and students to provide their honest feedback on the program. \nNEPPA’s Metering I Program will be held April 21 – 22\, 2021 at the NEPPA Training Center (200 New Estate Road\, Littleton\, MA 01460). \nNEPPA’s Metering I Program is designed to be an introduction to the fundamentals of meter equipment and safety.  The Program will introduce how meters are used as an integral part of the distribution system and why their accurate and efficient readings are critical to a utility’s success. \nClick here to download the detailed agenda. \n			\n				\n				\n				\n				\n				Who Should Attend  \nMetering I is designed for: \nNew or Transitioning Meter Technicians \nLineworkers \nSupervisors or Managers transitioning from other departments \nLocation \nNEPPA Training Center \n200 New Estate Road \nLittleton\, MA 01460 \n  \nLearning Objectives  \n \nDemonstrate a foundational/introductory knowledge of meter use\, demand and digital vs. analog meters. \nPractice hands-on safe installation and removal of a meter \nCalculate and demonstrate the safe measurement of electricity \nRecognize meter theft\, revenue protection controls\, and how to safely install service and conduct inspections. \nDemonstrate a basic understanding of net metering\, demand metering and reverse metering. \nAccurately identify faulty equipment and troubleshoot solutions \n			\n				\n				\n				\n				\n				Prerequisites  \n Students are expected to participate in the new Basic Electricity and Mathematics for Utility Operations course\, or have a solid understanding of basic electricity concepts\, theory and mathematics.  \n Registration \nRegistration fees include coffee and lunch each day.  If you have any dietary or other restrictions\, please note them on your registration. \n  \n\n\n\nMembers:\n$875\n\n\nNon-Members:\n$1\,300\n\n\n\n  \n			\n				Register Now\n			\n				\n				\n				\n				\n				Lodging \nLodging is not included in your registration fees and must be arranged directly with the hotel. If you need overnight accommodations\, please contact any of the following hotels directly and be sure to mention you’re with NEPPA (or the appropriate code/account number) to receive the negotiated rate: \n\nCourtyard by Marriott Littleton – King: $155/night + tax; Queen/Queen: $165/night + tax \n102 Constitution Avenue\, Littleton\, MA 01460 \n(978) 440-5040 – If calling to make your reservation\, be sure to mention either NEPPA or Northeast Power \nClick here to make your reservation online using the Corporate Rate: BZL *** Due to COVID\, please call the hotel directly. \n  \nThe Westford Regency Inn & Conference Center – $120/night + tax \n219 Littleton Road\, Westford\, MA 01886 \n(978) 692-8200 \nClick here to make your reservation online using the Rate Access Code: NEPPA. \n\nSpringHill Suites Devens Common Center – $129/night + tax \n27 Andrews Parkway\, Devens\, MA 01434 \n(978) 772-3030 \nClick here to make your reservation online using the Group Code: BZL. \n  \nHilton Garden Inn Devens – $129/night + tax \n59 Andrews Parkway\, Devens\, MA 01434 \n(978) 772-0600 \nClick here to make your reservation online using the Group Code: BZL. \n			\n				\n				\n				\n				\n				Questions?  \n Please contact training@neppa.org or call the office at (978) 540-2200.
URL:https://neppa.org/event/metering-i-program/2020-11-17/
LOCATION:NEPPA Training Center\, 200 New Estate Rd\, Littleton\, MA\, 01460\, United States
CATEGORIES:Metering I Program
ATTACH;FMTTYPE=image/png:https://neppa.org/wp-content/uploads/2020/10/2021-Metering-I-Banner.png-2.png
END:VEVENT
END:VCALENDAR