BEGIN:VCALENDAR
VERSION:2.0
PRODID:-//NEPPA - ECPv6.15.20//NONSGML v1.0//EN
CALSCALE:GREGORIAN
METHOD:PUBLISH
X-ORIGINAL-URL:https://neppa.org
X-WR-CALDESC:Events for NEPPA
REFRESH-INTERVAL;VALUE=DURATION:PT1H
X-Robots-Tag:noindex
X-PUBLISHED-TTL:PT1H
BEGIN:VTIMEZONE
TZID:America/New_York
BEGIN:DAYLIGHT
TZOFFSETFROM:-0500
TZOFFSETTO:-0400
TZNAME:EDT
DTSTART:20210314T070000
END:DAYLIGHT
BEGIN:STANDARD
TZOFFSETFROM:-0400
TZOFFSETTO:-0500
TZNAME:EST
DTSTART:20211107T060000
END:STANDARD
BEGIN:DAYLIGHT
TZOFFSETFROM:-0500
TZOFFSETTO:-0400
TZNAME:EDT
DTSTART:20220313T070000
END:DAYLIGHT
BEGIN:STANDARD
TZOFFSETFROM:-0400
TZOFFSETTO:-0500
TZNAME:EST
DTSTART:20221106T060000
END:STANDARD
BEGIN:DAYLIGHT
TZOFFSETFROM:-0500
TZOFFSETTO:-0400
TZNAME:EDT
DTSTART:20230312T070000
END:DAYLIGHT
BEGIN:STANDARD
TZOFFSETFROM:-0400
TZOFFSETTO:-0500
TZNAME:EST
DTSTART:20231105T060000
END:STANDARD
BEGIN:DAYLIGHT
TZOFFSETFROM:-0500
TZOFFSETTO:-0400
TZNAME:EDT
DTSTART:20240310T070000
END:DAYLIGHT
BEGIN:STANDARD
TZOFFSETFROM:-0400
TZOFFSETTO:-0500
TZNAME:EST
DTSTART:20241103T060000
END:STANDARD
BEGIN:DAYLIGHT
TZOFFSETFROM:-0500
TZOFFSETTO:-0400
TZNAME:EDT
DTSTART:20250309T070000
END:DAYLIGHT
BEGIN:STANDARD
TZOFFSETFROM:-0400
TZOFFSETTO:-0500
TZNAME:EST
DTSTART:20251102T060000
END:STANDARD
BEGIN:DAYLIGHT
TZOFFSETFROM:-0500
TZOFFSETTO:-0400
TZNAME:EDT
DTSTART:20260308T070000
END:DAYLIGHT
BEGIN:STANDARD
TZOFFSETFROM:-0400
TZOFFSETTO:-0500
TZNAME:EST
DTSTART:20261101T060000
END:STANDARD
BEGIN:DAYLIGHT
TZOFFSETFROM:-0500
TZOFFSETTO:-0400
TZNAME:EDT
DTSTART:20270314T070000
END:DAYLIGHT
BEGIN:STANDARD
TZOFFSETFROM:-0400
TZOFFSETTO:-0500
TZNAME:EST
DTSTART:20271107T060000
END:STANDARD
END:VTIMEZONE
BEGIN:VEVENT
DTSTART;TZID=America/New_York:20260305T090000
DTEND;TZID=America/New_York:20260305T120000
DTSTAMP:20260421T061808
CREATED:20260302T173513Z
LAST-MODIFIED:20260302T173616Z
UID:10000574-1772701200-1772712000@neppa.org
SUMMARY:NEPPA Board of Directors Meeting
DESCRIPTION:Biddeford\, Maine       \nFor more informtion please contact the NEPPA office at (978) 540-2200. \n  \n 
URL:https://neppa.org/event/neppa-board-of-directors-meeting-13/
CATEGORIES:Board of Directors
ATTACH;FMTTYPE=image/png:https://neppa.org/wp-content/uploads/2024/12/NEPPA-BOD.png
END:VEVENT
BEGIN:VEVENT
DTSTART;TZID=America/New_York:20251113T090000
DTEND;TZID=America/New_York:20251113T130000
DTSTAMP:20260421T061808
CREATED:20241217T162959Z
LAST-MODIFIED:20241217T163054Z
UID:10000439-1763024400-1763038800@neppa.org
SUMMARY:NEPPA Board of Directors Meeting
DESCRIPTION:Littleton\, MA       \nFor more informtion please contact the NEPPA office at (978) 540-2200. \n  \n 
URL:https://neppa.org/event/neppa-board-of-directors-meeting-12/
CATEGORIES:Board of Directors
ATTACH;FMTTYPE=image/png:https://neppa.org/wp-content/uploads/2024/12/NEPPA-BOD.png
END:VEVENT
BEGIN:VEVENT
DTSTART;TZID=America/New_York:20250820T090000
DTEND;TZID=America/New_York:20250820T130000
DTSTAMP:20260421T061808
CREATED:20241217T162711Z
LAST-MODIFIED:20241217T162848Z
UID:10000438-1755680400-1755694800@neppa.org
SUMMARY:NEPPA Board of Directors Meeting
DESCRIPTION:Burlington\, VT     \nFor more informtion please contact the NEPPA office at (978) 540-2200. \n  \n 
URL:https://neppa.org/event/neppa-board-of-directors-meeting-11/
CATEGORIES:Board of Directors
ATTACH;FMTTYPE=image/png:https://neppa.org/wp-content/uploads/2024/12/NEPPA-BOD.png
END:VEVENT
BEGIN:VEVENT
DTSTART;TZID=America/New_York:20250508T090000
DTEND;TZID=America/New_York:20250508T120000
DTSTAMP:20260421T061808
CREATED:20241217T162509Z
LAST-MODIFIED:20250314T140344Z
UID:10000437-1746694800-1746705600@neppa.org
SUMMARY:NEPPA Board of Directors Meeting
DESCRIPTION:Hull\, MA    \nFor more informtion please contact the NEPPA office at (978) 540-2200. \n  \n 
URL:https://neppa.org/event/neppa-board-of-directors-meeting-10/
CATEGORIES:Board of Directors
ATTACH;FMTTYPE=image/png:https://neppa.org/wp-content/uploads/2024/12/NEPPA-BOD.png
END:VEVENT
BEGIN:VEVENT
DTSTART;TZID=America/New_York:20250305T080000
DTEND;TZID=America/New_York:20250306T170000
DTSTAMP:20260421T061808
CREATED:20241217T162251Z
LAST-MODIFIED:20241217T162347Z
UID:10000436-1741161600-1741280400@neppa.org
SUMMARY:NEPPA Board of Directors Meeting
DESCRIPTION:Pittsfield\, MA    \nFor more informtion please contact the NEPPA office at (978) 540-2200. \n  \n 
URL:https://neppa.org/event/neppa-board-of-directors-meeting-9/
CATEGORIES:Board of Directors
ATTACH;FMTTYPE=image/png:https://neppa.org/wp-content/uploads/2024/12/NEPPA-BOD.png
END:VEVENT
BEGIN:VEVENT
DTSTART;TZID=America/New_York:20241114T090000
DTEND;TZID=America/New_York:20241114T130000
DTSTAMP:20260421T061808
CREATED:20241217T162027Z
LAST-MODIFIED:20241217T162120Z
UID:10000435-1731574800-1731589200@neppa.org
SUMMARY:NEPPA Board of Directors Meeting
DESCRIPTION:Littleton\, MA    \nFor more informtion please contact the NEPPA office at (978) 540-2200. \n  \n 
URL:https://neppa.org/event/neppa-board-of-directors-meeting-8/
CATEGORIES:Board of Directors
ATTACH;FMTTYPE=image/png:https://neppa.org/wp-content/uploads/2024/12/NEPPA-BOD.png
END:VEVENT
BEGIN:VEVENT
DTSTART;TZID=America/New_York:20240828T090000
DTEND;TZID=America/New_York:20240828T130000
DTSTAMP:20260421T061808
CREATED:20241217T161458Z
LAST-MODIFIED:20241217T161557Z
UID:10000434-1724835600-1724850000@neppa.org
SUMMARY:NEPPA Board of Directors Meeting
DESCRIPTION:Bretton Wood\, NH    \nFor more informtion please contact the NEPPA office at (978) 540-2200. \n  \n 
URL:https://neppa.org/event/neppa-board-of-directors-meeting-7/
CATEGORIES:Board of Directors
ATTACH;FMTTYPE=image/png:https://neppa.org/wp-content/uploads/2024/12/NEPPA-BOD.png
END:VEVENT
BEGIN:VEVENT
DTSTART;TZID=America/New_York:20240509T090000
DTEND;TZID=America/New_York:20240509T130000
DTSTAMP:20260421T061808
CREATED:20241217T161212Z
LAST-MODIFIED:20241217T161813Z
UID:10000433-1715245200-1715259600@neppa.org
SUMMARY:NEPPA Board of Directors Meeting
DESCRIPTION:Hull\, MA    \nFor more informtion please contact the NEPPA office at (978) 540-2200. \n  \n 
URL:https://neppa.org/event/neppa-board-of-directors-meeting-6/
CATEGORIES:Board of Directors
ATTACH;FMTTYPE=image/png:https://neppa.org/wp-content/uploads/2024/12/NEPPA-BOD.png
END:VEVENT
BEGIN:VEVENT
DTSTART;VALUE=DATE:20240306
DTEND;VALUE=DATE:20240308
DTSTAMP:20260421T061808
CREATED:20241217T160702Z
LAST-MODIFIED:20241217T161033Z
UID:10000432-1709683200-1709855999@neppa.org
SUMMARY:NEPPA Board of Directors Meeting
DESCRIPTION:Newport\, RI   \nFor more informtion please contact the NEPPA office at (978) 540-2200. \n  \n 
URL:https://neppa.org/event/neppa-board-of-directors-meeting-5/
CATEGORIES:Board of Directors
ATTACH;FMTTYPE=image/png:https://neppa.org/wp-content/uploads/2024/12/NEPPA-BOD.png
END:VEVENT
BEGIN:VEVENT
DTSTART;TZID=America/New_York:20231109T090000
DTEND;TZID=America/New_York:20231109T110000
DTSTAMP:20260421T061808
CREATED:20221109T202059Z
LAST-MODIFIED:20221121T061953Z
UID:10000193-1699520400-1699527600@neppa.org
SUMMARY:NEPPA Board of Directors Meeting
DESCRIPTION:Littleton\, MA   \nFor more informtion please contact the NEPPA office at (978) 540-2200. \n  \n 
URL:https://neppa.org/event/neppa-board-of-directors-meeting-4/
CATEGORIES:Board of Directors
ATTACH;FMTTYPE=image/png:https://neppa.org/wp-content/uploads/2022/02/NEPPA-BOD.png
END:VEVENT
BEGIN:VEVENT
DTSTART;TZID=America/New_York:20230823T090000
DTEND;TZID=America/New_York:20230823T110000
DTSTAMP:20260421T061808
CREATED:20221109T201712Z
LAST-MODIFIED:20221109T201802Z
UID:10000192-1692781200-1692788400@neppa.org
SUMMARY:NEPPA Board of Directors Meeting
DESCRIPTION:Groton\, CT   \nFor more informtion please contact the NEPPA office at (978) 540-2200. \n  \n 
URL:https://neppa.org/event/neppa-baord-of-directors-meeting/
CATEGORIES:Board of Directors
ATTACH;FMTTYPE=image/png:https://neppa.org/wp-content/uploads/2022/02/NEPPA-BOD.png
END:VEVENT
BEGIN:VEVENT
DTSTART;TZID=America/New_York:20230308T120000
DTEND;TZID=America/New_York:20230309T130000
DTSTAMP:20260421T061808
CREATED:20221012T151742Z
LAST-MODIFIED:20221012T151917Z
UID:10000190-1678276800-1678366800@neppa.org
SUMMARY:NEPPA Board of Directors Meeting
DESCRIPTION:New Castle\, NH  \nFor more informtion please contact the NEPPA office at (978) 540-2200. \n  \n 
URL:https://neppa.org/event/neppa-board-of-directors-meeting-3/
CATEGORIES:Board of Directors
ATTACH;FMTTYPE=image/png:https://neppa.org/wp-content/uploads/2022/02/NEPPA-BOD.png
END:VEVENT
BEGIN:VEVENT
DTSTART;TZID=America/New_York:20221110T090000
DTEND;TZID=America/New_York:20221110T110000
DTSTAMP:20260421T061808
CREATED:20220222T155541Z
LAST-MODIFIED:20220222T155708Z
UID:10000159-1668070800-1668078000@neppa.org
SUMMARY:NEPPA Board of Directors Meeting
DESCRIPTION:Littleton\, MA \nFor more informtion please contact the NEPPA office at (978) 540-2200! \n  \n 
URL:https://neppa.org/event/neppa-board-of-directors-meeting-2/
CATEGORIES:Board of Directors
ATTACH;FMTTYPE=image/png:https://neppa.org/wp-content/uploads/2022/02/NEPPA-BOD.png
END:VEVENT
BEGIN:VEVENT
DTSTART;TZID=America/New_York:20220817T154500
DTEND;TZID=America/New_York:20220817T164500
DTSTAMP:20260421T061808
CREATED:20220222T155149Z
LAST-MODIFIED:20220802T222902Z
UID:10000158-1660751100-1660754700@neppa.org
SUMMARY:NEPPA Board of Directors Meeting
DESCRIPTION:Stowe\, VT \nFor more informtion please contact the NEPPA office at (978) 540-2200! \n  \n 
URL:https://neppa.org/event/neppa-board-of-directors-meeting/
CATEGORIES:Board of Directors
ATTACH;FMTTYPE=image/png:https://neppa.org/wp-content/uploads/2022/02/NEPPA-BOD.png
END:VEVENT
BEGIN:VEVENT
DTSTART;TZID=America/New_York:20220512T090000
DTEND;TZID=America/New_York:20220512T110000
DTSTAMP:20260421T061808
CREATED:20220222T154720Z
LAST-MODIFIED:20220222T155026Z
UID:10000157-1652346000-1652353200@neppa.org
SUMMARY:NEPPA Board of Directors Meeting
DESCRIPTION:Plymouth\, NH  \nFor more informtion please contact the NEPPA office at (978) 540-2200! \n  \n  \n 
URL:https://neppa.org/event/neppa-board-of-directors/
CATEGORIES:Board of Directors
ATTACH;FMTTYPE=image/png:https://neppa.org/wp-content/uploads/2022/02/NEPPA-BOD.png
END:VEVENT
BEGIN:VEVENT
DTSTART;TZID=America/New_York:20220310T090000
DTEND;TZID=America/New_York:20220310T110000
DTSTAMP:20260421T061808
CREATED:20220222T151423Z
LAST-MODIFIED:20220222T154354Z
UID:10000156-1646902800-1646910000@neppa.org
SUMMARY:NEPPA's Board of Directors Meeting
DESCRIPTION:Woodstock\, VT. \nFor more informtion please contact the NEPPA office at (978) 540-2200! \n  \n  \n 
URL:https://neppa.org/event/neppas-board-of-directors-meeting/
CATEGORIES:Board of Directors
ATTACH;FMTTYPE=image/png:https://neppa.org/wp-content/uploads/2022/02/NEPPA-BOD.png
END:VEVENT
END:VCALENDAR