BEGIN:VCALENDAR
VERSION:2.0
PRODID:-//NEPPA - ECPv6.15.20//NONSGML v1.0//EN
CALSCALE:GREGORIAN
METHOD:PUBLISH
X-ORIGINAL-URL:https://neppa.org
X-WR-CALDESC:Events for NEPPA
REFRESH-INTERVAL;VALUE=DURATION:PT1H
X-Robots-Tag:noindex
X-PUBLISHED-TTL:PT1H
BEGIN:VTIMEZONE
TZID:America/New_York
BEGIN:DAYLIGHT
TZOFFSETFROM:-0500
TZOFFSETTO:-0400
TZNAME:EDT
DTSTART:20230312T070000
END:DAYLIGHT
BEGIN:STANDARD
TZOFFSETFROM:-0400
TZOFFSETTO:-0500
TZNAME:EST
DTSTART:20231105T060000
END:STANDARD
BEGIN:DAYLIGHT
TZOFFSETFROM:-0500
TZOFFSETTO:-0400
TZNAME:EDT
DTSTART:20240310T070000
END:DAYLIGHT
BEGIN:STANDARD
TZOFFSETFROM:-0400
TZOFFSETTO:-0500
TZNAME:EST
DTSTART:20241103T060000
END:STANDARD
BEGIN:DAYLIGHT
TZOFFSETFROM:-0500
TZOFFSETTO:-0400
TZNAME:EDT
DTSTART:20250309T070000
END:DAYLIGHT
BEGIN:STANDARD
TZOFFSETFROM:-0400
TZOFFSETTO:-0500
TZNAME:EST
DTSTART:20251102T060000
END:STANDARD
END:VTIMEZONE
BEGIN:VEVENT
DTSTART;TZID=America/New_York:20240123T083000
DTEND;TZID=America/New_York:20240124T143000
DTSTAMP:20260422T122144
CREATED:20231201T160509Z
LAST-MODIFIED:20240226T130952Z
UID:10000331-1705998600-1706106600@neppa.org
SUMMARY:OSHA 10 General Industry
DESCRIPTION:OSHA 10 General Industry January 23 & 24\, 2024 (8:30 am – 2:30 pm) | NEPPA Training Center \nThe goal is to have a heightened awareness of the hazards associated with electric utility work and understand control measures to avoid injuries. \n\n Agenda  \n\n\nThe agenda is being finalized and is therefore subject to change. \nDAY ONE Total Contact Hours: 5 \nExact Timing Topic/Subject Number of Hours 08:00am – 09:15am FOCUS: Introduction to OSHA 1.25-hours 09:15am – 09:30am Break 09:30am – 10:30am FOCUS: Walking & Working Surfaces 1-hour 10:30am – 10:45am Break 10:45am – 11:45am FOCUS: Exit Routes\, EAP\, Fire Prevention & Protection 1-hour 11:45pm – 12:15pm Lunch 12:15pm – 01:15pm ELECTIVE: Ergonomics 1-hour01:15pm – 01:30pm Break 01:30pm – 02:30pm ELECTIVE: Machine Guarding 1-Hour\nDAY TWO Total Contact Hours: 5\nExact Timing Topic/Subject Number of Hours 08:00am – 09:00am FOCUS: Personal Protective & Equipment 1-hour 09:00am – 09:15am Break 09:15am – 10:15am FOCUS: Electrical Hazards 1-hour 10:15am – 10:30am Break 10:30am – 11:30am FOCUS/Hazard Communication 1-hour 11:30am – 12:00pm Lunch 12:00pm – 01:00pm ELECTIVE: Material Handling 1-hour 01:15pm – 01:30pm Break 01:30pm – 02:30pm OPTIONAL: ARC FLASH/Insulate & Isolate 1-hour\n\nRegistrationMembers:  $145Non-Members:  $265\n			\n			\n				\n				\n				\n				\n			\n				\n				\n				\n				\n				\n				\n				\n				\n				\n				\n				Click here for printable agenda\n			\n				Register NOW\n			\n				\n				\n				\n				\n				Questions?  Don’t hesitate to call the office at (978) 540-2200.
URL:https://neppa.org/event/osha-10/
LOCATION:NEPPA Training Center\, 200 New Estate Rd\, Littleton\, MA\, 01460\, United States
CATEGORIES:OSHA
ATTACH;FMTTYPE=image/png:https://neppa.org/wp-content/uploads/2023/12/OSHA-10-Banner-1.png
END:VEVENT
END:VCALENDAR