BEGIN:VCALENDAR
VERSION:2.0
PRODID:-//NEPPA - ECPv6.15.20//NONSGML v1.0//EN
CALSCALE:GREGORIAN
METHOD:PUBLISH
X-ORIGINAL-URL:https://neppa.org
X-WR-CALDESC:Events for NEPPA
REFRESH-INTERVAL;VALUE=DURATION:PT1H
X-Robots-Tag:noindex
X-PUBLISHED-TTL:PT1H
BEGIN:VTIMEZONE
TZID:America/New_York
BEGIN:DAYLIGHT
TZOFFSETFROM:-0500
TZOFFSETTO:-0400
TZNAME:EDT
DTSTART:20200308T070000
END:DAYLIGHT
BEGIN:STANDARD
TZOFFSETFROM:-0400
TZOFFSETTO:-0500
TZNAME:EST
DTSTART:20201101T060000
END:STANDARD
BEGIN:DAYLIGHT
TZOFFSETFROM:-0500
TZOFFSETTO:-0400
TZNAME:EDT
DTSTART:20210314T070000
END:DAYLIGHT
BEGIN:STANDARD
TZOFFSETFROM:-0400
TZOFFSETTO:-0500
TZNAME:EST
DTSTART:20211107T060000
END:STANDARD
BEGIN:DAYLIGHT
TZOFFSETFROM:-0500
TZOFFSETTO:-0400
TZNAME:EDT
DTSTART:20220313T070000
END:DAYLIGHT
BEGIN:STANDARD
TZOFFSETFROM:-0400
TZOFFSETTO:-0500
TZNAME:EST
DTSTART:20221106T060000
END:STANDARD
END:VTIMEZONE
BEGIN:VEVENT
DTSTART;VALUE=DATE:20210511
DTEND;VALUE=DATE:20210514
DTSTAMP:20260424T184536
CREATED:20210316T173915Z
LAST-MODIFIED:20210511T115755Z
UID:10000001-1620691200-1620950399@neppa.org
SUMMARY:NEPPA Public Utility Management Program [PUMP]
DESCRIPTION:Session IV:     May 11 – 13\, 2021 – New Date   |     (8:00 am – 4:00 pm)\n			\n				\n				\n				\n				\n				NEPPA is excited to continue its completely revamped Public Utility Management Program (PUMP) designed to develop and foster personal and professional growth for new\, rising or established leaders in the electric utility industry. \nIn partnership with Collaborative Learning\, Inc. the revitalized PUMP is a two-year certificate program offering PDHs (est. 72 contact hours)\, with two 3-Day\, In-Person sessions per year (4 Total In-Person Sessions) held in the Spring and Fall. \nIn addition to the in-person sessions\, four webinars will be held each year on Leadership and Operations & Management topics.  Participation in two of the four webinars is included in PUMP registration fees. \n			\n				\n				\n				\n				\n				Click here for more information \n  \n			\n			\n				\n				\n				\n				\n			\n				\n				\n				\n				\n				\n				\n				\n				\n				\n				\n				Questions?\nPlease contact training@neppa.org or call the office at (978) 540-2200.
URL:https://neppa.org/event/neppa-public-utility-management-program-pump/
LOCATION:NEPPA Training Center\, 200 New Estate Rd\, Littleton\, MA\, 01460\, United States
CATEGORIES:PUMP
ATTACH;FMTTYPE=image/png:https://neppa.org/wp-content/uploads/2021/02/NEW_PUMP-Banner-1.png
END:VEVENT
END:VCALENDAR