BEGIN:VCALENDAR
VERSION:2.0
PRODID:-//NEPPA - ECPv6.15.20//NONSGML v1.0//EN
CALSCALE:GREGORIAN
METHOD:PUBLISH
X-ORIGINAL-URL:https://neppa.org
X-WR-CALDESC:Events for NEPPA
REFRESH-INTERVAL;VALUE=DURATION:PT1H
X-Robots-Tag:noindex
X-PUBLISHED-TTL:PT1H
BEGIN:VTIMEZONE
TZID:America/New_York
BEGIN:DAYLIGHT
TZOFFSETFROM:-0500
TZOFFSETTO:-0400
TZNAME:EDT
DTSTART:20210314T070000
END:DAYLIGHT
BEGIN:STANDARD
TZOFFSETFROM:-0400
TZOFFSETTO:-0500
TZNAME:EST
DTSTART:20211107T060000
END:STANDARD
BEGIN:DAYLIGHT
TZOFFSETFROM:-0500
TZOFFSETTO:-0400
TZNAME:EDT
DTSTART:20220313T070000
END:DAYLIGHT
BEGIN:STANDARD
TZOFFSETFROM:-0400
TZOFFSETTO:-0500
TZNAME:EST
DTSTART:20221106T060000
END:STANDARD
BEGIN:DAYLIGHT
TZOFFSETFROM:-0500
TZOFFSETTO:-0400
TZNAME:EDT
DTSTART:20230312T070000
END:DAYLIGHT
BEGIN:STANDARD
TZOFFSETFROM:-0400
TZOFFSETTO:-0500
TZNAME:EST
DTSTART:20231105T060000
END:STANDARD
END:VTIMEZONE
BEGIN:VEVENT
DTSTART;TZID=America/New_York:20221025T080000
DTEND;TZID=America/New_York:20221027T160000
DTSTAMP:20260423T191148
CREATED:20211022T183345Z
LAST-MODIFIED:20220222T142703Z
UID:10000056-1666684800-1666886400@neppa.org
SUMMARY:Public Utility Management Program (PUMP)
DESCRIPTION:In its second iteration\, NEPPA is continuing to improve and is pleased to offer the Public Utility Management Program again in 2022.  The Public Utility Management Program (PUMP) is a 6-day\, one year Program held April 12 – 14 and October 25 – 27\, 2022 at the NEPPA Training Center (200 New Estate Road\, Littleton\, MA 01460). \nPUMP is a robust course which covers a variety of management\, leadership\, and operations disciplines necessary for leaders of Public Power\, today and in the future.  Due to the extremely interactive nature of this training experience\, class size is limited. \nUpon successful completion of the Program\, participants will have gained 39 Professional Development Hours\, a Certificate of Completion and special recognition for completing the Program. \n			\n				\n				\n				\n				\n				What makes PUMP different? \nNow in its 30th year\, PUMP is the only program of its kind in New England. Participants have a unique opportunity to learn\, grow and network with colleagues from around the region as they hone their skills and knowledge in a thorough\, interactive professional development.\n \n			\n				\n				\n				\n				\n				Click here for additional information\n  \n			\n				\n				\n				\n				\n				Registration  \nDue to the extremely interactive nature of this training experience\, class size is limited.  Registration fees include coffee and lunch\, all Program materials\, supplemental assignments\, certificates and special recognition.  \nMembers:                $2\,945 \nNon-Members:     $4\,785 \n\n			\n				Register Now\n			\n				\n				\n				\n				\n				Location \nThese in-person training sessions will be held at:             \nNEPPA Training Center200 New Estate RoadLittleton\, MA 01460 \n			\n			\n				\n				\n				\n				\n			\n				\n				\n				\n				\n				\n				\n				\n				\n				\n				\n				Questions?\nPlease contact training@neppa.org or call the office at (978) 540-2200.
URL:https://neppa.org/event/public-utility-management-program-pump/2022-10-25/
LOCATION:NEPPA Training Center\, 200 New Estate Rd\, Littleton\, MA\, 01460\, United States
CATEGORIES:Leadership,PUMP
ATTACH;FMTTYPE=image/png:https://neppa.org/wp-content/uploads/2021/10/2022-NEW_PUMP-Event-Banner.png
END:VEVENT
END:VCALENDAR