BEGIN:VCALENDAR
VERSION:2.0
PRODID:-//NEPPA - ECPv6.15.20//NONSGML v1.0//EN
CALSCALE:GREGORIAN
METHOD:PUBLISH
X-ORIGINAL-URL:https://neppa.org
X-WR-CALDESC:Events for NEPPA
REFRESH-INTERVAL;VALUE=DURATION:PT1H
X-Robots-Tag:noindex
X-PUBLISHED-TTL:PT1H
BEGIN:VTIMEZONE
TZID:America/New_York
BEGIN:DAYLIGHT
TZOFFSETFROM:-0500
TZOFFSETTO:-0400
TZNAME:EDT
DTSTART:20210314T070000
END:DAYLIGHT
BEGIN:STANDARD
TZOFFSETFROM:-0400
TZOFFSETTO:-0500
TZNAME:EST
DTSTART:20211107T060000
END:STANDARD
BEGIN:DAYLIGHT
TZOFFSETFROM:-0500
TZOFFSETTO:-0400
TZNAME:EDT
DTSTART:20220313T070000
END:DAYLIGHT
BEGIN:STANDARD
TZOFFSETFROM:-0400
TZOFFSETTO:-0500
TZNAME:EST
DTSTART:20221106T060000
END:STANDARD
BEGIN:DAYLIGHT
TZOFFSETFROM:-0500
TZOFFSETTO:-0400
TZNAME:EDT
DTSTART:20230312T070000
END:DAYLIGHT
BEGIN:STANDARD
TZOFFSETFROM:-0400
TZOFFSETTO:-0500
TZNAME:EST
DTSTART:20231105T060000
END:STANDARD
END:VTIMEZONE
BEGIN:VEVENT
DTSTART;TZID=America/New_York:20220908T083000
DTEND;TZID=America/New_York:20220908T130000
DTSTAMP:20260422T101058
CREATED:20220826T135001Z
LAST-MODIFIED:20220829T123819Z
UID:10000176-1662625800-1662642000@neppa.org
SUMMARY:General Foreman Roundtable
DESCRIPTION:NEPPA will be holding a Kick-off General Foreman’s Roundtable on Thursday\, September 8\, 2022 at the NEPPA Training Center (200 New Estate Road\, Littleton\, MA 01460). \nWe’d love your support as we want to bring together the Journeyman lineman that are leading your utility operations. The final agenda is yet not approved however some of the topics will include identification of the difficulty of transitioning into a leadership position; the NEPPA Underground Training Yard construction and utilization; and the need and implementation of a climbing school for all new apprentices. \n \nIt will certainly be worth your efforts to attend the roundtable.  \n			\n				Register Now
URL:https://neppa.org/event/gf-roundtable/
LOCATION:NEPPA Training Center\, 200 New Estate Rd\, Littleton\, MA\, 01460\, United States
CATEGORIES:Roundtables
ATTACH;FMTTYPE=image/png:https://neppa.org/wp-content/uploads/2022/08/2022-GF-RDT-1-2-1.png
END:VEVENT
END:VCALENDAR