BEGIN:VCALENDAR
VERSION:2.0
PRODID:-//NEPPA - ECPv6.15.20//NONSGML v1.0//EN
CALSCALE:GREGORIAN
METHOD:PUBLISH
X-ORIGINAL-URL:https://neppa.org
X-WR-CALDESC:Events for NEPPA
REFRESH-INTERVAL;VALUE=DURATION:PT1H
X-Robots-Tag:noindex
X-PUBLISHED-TTL:PT1H
BEGIN:VTIMEZONE
TZID:America/New_York
BEGIN:DAYLIGHT
TZOFFSETFROM:-0500
TZOFFSETTO:-0400
TZNAME:EDT
DTSTART:20220313T070000
END:DAYLIGHT
BEGIN:STANDARD
TZOFFSETFROM:-0400
TZOFFSETTO:-0500
TZNAME:EST
DTSTART:20221106T060000
END:STANDARD
BEGIN:DAYLIGHT
TZOFFSETFROM:-0500
TZOFFSETTO:-0400
TZNAME:EDT
DTSTART:20230312T070000
END:DAYLIGHT
BEGIN:STANDARD
TZOFFSETFROM:-0400
TZOFFSETTO:-0500
TZNAME:EST
DTSTART:20231105T060000
END:STANDARD
BEGIN:DAYLIGHT
TZOFFSETFROM:-0500
TZOFFSETTO:-0400
TZNAME:EDT
DTSTART:20240310T070000
END:DAYLIGHT
BEGIN:STANDARD
TZOFFSETFROM:-0400
TZOFFSETTO:-0500
TZNAME:EST
DTSTART:20241103T060000
END:STANDARD
END:VTIMEZONE
BEGIN:VEVENT
DTSTART;TZID=America/New_York:20230508T123000
DTEND;TZID=America/New_York:20230508T170000
DTSTAMP:20260419T231907
CREATED:20230329T145145Z
LAST-MODIFIED:20230329T153816Z
UID:10000278-1683549000-1683565200@neppa.org
SUMMARY:General Foreman Roundtable
DESCRIPTION:General Foreman RoundtableMay 8\, 2023 (12:30 pm – 5:00 pm) | New Hampshire Electric Cooperative (579 Tenney Mountain Highway\, Plymouth\, NH 03264)\n \n\nNEPPA will be having a General Foreman’s Roundtable\, Monday\, May 8\, 2023 hosted by New Hampshire Electric Cooperative.    \n  \n\n\nAgendaThe agenda is being finalized and is therefore subject to change.\n12:30 pm        Lunch Available \n1:00 pm          Welcome \n1:15 pm          Presentation 1 \n1:45 pm          Break \n2:00 pm          Presentation 2 \n2:30 am          Open Discussion \n5:00 pm          Adjourn \n\n			\n				\n				\n				\n				\n				Registration\nMembers:  $50.00\nNon-Members:  $75.00\n			\n			\n				\n				\n				\n				\n			\n				\n				\n				\n				\n				\n				\n				Register NOW\n			\n				\n				\n				\n				\n				Questions?  Don’t hesitate to call the office at (978) 540-2200.
URL:https://neppa.org/event/general-foreman-roundtable-2/
LOCATION:New Hampshire Electric Cooperative\, 579 Tenney Mountain Highway\, Plymouth\, NH\, 03264\, United States
CATEGORIES:Roundtables
ATTACH;FMTTYPE=image/png:https://neppa.org/wp-content/uploads/2023/03/2023-GF-RDT-banner-5.8.23-1-2.png
END:VEVENT
END:VCALENDAR