BEGIN:VCALENDAR
VERSION:2.0
PRODID:-//NEPPA - ECPv6.15.20//NONSGML v1.0//EN
CALSCALE:GREGORIAN
METHOD:PUBLISH
X-WR-CALNAME:NEPPA
X-ORIGINAL-URL:https://neppa.org
X-WR-CALDESC:Events for NEPPA
REFRESH-INTERVAL;VALUE=DURATION:PT1H
X-Robots-Tag:noindex
X-PUBLISHED-TTL:PT1H
BEGIN:VTIMEZONE
TZID:America/New_York
BEGIN:DAYLIGHT
TZOFFSETFROM:-0500
TZOFFSETTO:-0400
TZNAME:EDT
DTSTART:20220313T070000
END:DAYLIGHT
BEGIN:STANDARD
TZOFFSETFROM:-0400
TZOFFSETTO:-0500
TZNAME:EST
DTSTART:20221106T060000
END:STANDARD
BEGIN:DAYLIGHT
TZOFFSETFROM:-0500
TZOFFSETTO:-0400
TZNAME:EDT
DTSTART:20230312T070000
END:DAYLIGHT
BEGIN:STANDARD
TZOFFSETFROM:-0400
TZOFFSETTO:-0500
TZNAME:EST
DTSTART:20231105T060000
END:STANDARD
BEGIN:DAYLIGHT
TZOFFSETFROM:-0500
TZOFFSETTO:-0400
TZNAME:EDT
DTSTART:20240310T070000
END:DAYLIGHT
BEGIN:STANDARD
TZOFFSETFROM:-0400
TZOFFSETTO:-0500
TZNAME:EST
DTSTART:20241103T060000
END:STANDARD
END:VTIMEZONE
BEGIN:VEVENT
DTSTART;TZID=America/New_York:20230927T083000
DTEND;TZID=America/New_York:20230927T130000
DTSTAMP:20260419T174645
CREATED:20230329T140851Z
LAST-MODIFIED:20230907T142929Z
UID:10000277-1695803400-1695819600@neppa.org
SUMMARY:General Manager / Leadership  Roundtable
DESCRIPTION:2023 General Manager / Leadership Roundtable\nSeptember 27\, 2023 (8:30 am – 1:00 pm)  | Reading Municipal Light Department\, 230 Ash Street\, Reading\, MA 01867\nNEPPA is pleased to announce we will be offering a In person General Manager Roundtable on Wednesday\, September 27th beginning at 8:30 am. \n\nAgenda \nThe agenda is being finalized and is therefore subject to change. \n8:30 am  Coffee and Breakfast Pastries \n9:00 am  Welcome & Introductions \n9:15 am   Topics to be discussed:  TBD \n10:30 am Break \n10:45 am Roundtable Discussion  \n12:00 pm Lunch \n1:00 am Adjourn \n\n\n			\n				\n				\n				\n				\n				Registration \n			\n				\n				\n				\n				\n				Registration fees include coffee\, baked goods and lunch. \nNEPPA Member:  $50Non- Members:  $75 \n			\n				Register Now\n			\n				\n				\n				\n				\n				\nQuestions? \nPlease contact communications@neppa.org or call (978) 540-2207.
URL:https://neppa.org/event/general-manager-roundtable-2/
LOCATION:Reading Municipal Light Department\, 230 Ash Street\, Reading\, MA\, 01867\, United States
CATEGORIES:Roundtables
ATTACH;FMTTYPE=image/png:https://neppa.org/wp-content/uploads/2023/03/GM-RD-9.27.23.png
END:VEVENT
END:VCALENDAR