BEGIN:VCALENDAR
VERSION:2.0
PRODID:-//NEPPA - ECPv6.15.20//NONSGML v1.0//EN
CALSCALE:GREGORIAN
METHOD:PUBLISH
X-WR-CALNAME:NEPPA
X-ORIGINAL-URL:https://neppa.org
X-WR-CALDESC:Events for NEPPA
REFRESH-INTERVAL;VALUE=DURATION:PT1H
X-Robots-Tag:noindex
X-PUBLISHED-TTL:PT1H
BEGIN:VTIMEZONE
TZID:America/New_York
BEGIN:DAYLIGHT
TZOFFSETFROM:-0500
TZOFFSETTO:-0400
TZNAME:EDT
DTSTART:20230312T070000
END:DAYLIGHT
BEGIN:STANDARD
TZOFFSETFROM:-0400
TZOFFSETTO:-0500
TZNAME:EST
DTSTART:20231105T060000
END:STANDARD
BEGIN:DAYLIGHT
TZOFFSETFROM:-0500
TZOFFSETTO:-0400
TZNAME:EDT
DTSTART:20240310T070000
END:DAYLIGHT
BEGIN:STANDARD
TZOFFSETFROM:-0400
TZOFFSETTO:-0500
TZNAME:EST
DTSTART:20241103T060000
END:STANDARD
BEGIN:DAYLIGHT
TZOFFSETFROM:-0500
TZOFFSETTO:-0400
TZNAME:EDT
DTSTART:20250309T070000
END:DAYLIGHT
BEGIN:STANDARD
TZOFFSETFROM:-0400
TZOFFSETTO:-0500
TZNAME:EST
DTSTART:20251102T060000
END:STANDARD
END:VTIMEZONE
BEGIN:VEVENT
DTSTART;TZID=America/New_York:20240319T080000
DTEND;TZID=America/New_York:20240322T110000
DTSTAMP:20260421T124238
CREATED:20240215T194432Z
LAST-MODIFIED:20240227T121134Z
UID:10000359-1710835200-1711105200@neppa.org
SUMMARY:2024 Substation I Program - Session I
DESCRIPTION:NEPPA’s is pleased to offer the Substation I Program which is held in 4-day sessions 4 times a year.  Substation I is designed to be an introduction to substations including safety\, design\, operation\, equipment and theory.  Upon successful completion of the Program\, students are awarded a Certificate of Completion. \nIn addition to in-class lecture\, the Substation I Program incorporates hands-on application of concepts and testing\, field visits and tours of different installations\, and weekly testing including a final exam to demonstrate knowledge and comprehension of the course content. Each Friday of the session will be conducted virtually for review and testing. \nClick Here for More Course Information\n  \n			\n				\n				\n				\n				\n				\n\n\n\n\nWho should Attend\nThis program is designed for the following: \n\nLineworkers or operations employees\nSubstation Technicians\nEmployees or Supervisors transitioning from other departments\nEngineers\nConstruction Supervisors\nProject Managers\n\nCourse Dates & Hours  \nDates are subject to change however advance notice will be provided\, as needed. \nSession I: Tuesday\, March 19 – Friday\, March 22\, 2024 \nDay 1 – Tuesday\, March 19 – 8:00am – 3:00pm (in person)Day 2 – Wednesday\, March 20 – 8:00am – 2:00pm (in person)Day 3 – Thursday\, March 21 – 8:00am – 2:00pm (in person)Day 4 – Friday\, March 22 – 8:00am – 11:00am (virtual) \n			\n				\n				\n				\n				\n				Learning Objectives \n\nRecognize safety hazards in a substation\nDemonstrate a foundational knowledge of how electricity is transmitted through substations\nPractice safely entering\, exiting and performing maintenance in a substation.\nApply concepts of the substation’s role in a distribution system.\nIdentify and classify equipment found in a substation\, including applicable safety precautions including PPE\nDemonstrate an understanding of SCADA\, as well as basic switching and tagging.\nAbility to deenergize and reenergize a power transformer\nRecognize applicable standards\, specifications and regulations such as OSHA and the National Electrical Safety Code (NESC).\n\n\n\n			\n				\n				\n				\n				\n				CLICK HERE FOR DETAILED AGENDA\n\n			\n				\n				\n				\n				\n				Registration Fees \nRegistration fees include coffee and lunch each day. If you have any dietary restrictions or considerations\, please make note on your registration. \nTotal Fee for all 4 Sessions: \n\n\n\nMembers:\n$2\,795\n\n\nNon-Members:\n$4\,150\n\n\n\n			\n				\n				\n				\n				\n				Cancellations\nCancellations are accepted until Tuesday\, March 5\, 2024. Substitutions may be made at any time prior to the start of the first session. \n			\n			\n				\n				\n				\n				\n			\n				\n				\n				\n				\n				\n				\n				Register Now\n			\n			\n				\n				\n				\n				\n			\n				\n				\n				\n				\n				\n				\n				\n				\n				\n				\n				Questions?\nPlease contact training@neppa.org or call the office at (978) 540-2200.
URL:https://neppa.org/event/2024-substation-i-program-session-i/
LOCATION:NEPPA Training Center\, 200 New Estate Rd\, Littleton\, MA\, 01460\, United States
CATEGORIES:Substation I Program
ATTACH;FMTTYPE=image/png:https://neppa.org/wp-content/uploads/2024/02/2024-Substation-I-16.9-updated-2.22.24.png
END:VEVENT
END:VCALENDAR