BEGIN:VCALENDAR
VERSION:2.0
PRODID:-//NEPPA - ECPv6.15.20//NONSGML v1.0//EN
CALSCALE:GREGORIAN
METHOD:PUBLISH
X-ORIGINAL-URL:https://neppa.org
X-WR-CALDESC:Events for NEPPA
REFRESH-INTERVAL;VALUE=DURATION:PT1H
X-Robots-Tag:noindex
X-PUBLISHED-TTL:PT1H
BEGIN:VTIMEZONE
TZID:America/New_York
BEGIN:DAYLIGHT
TZOFFSETFROM:-0500
TZOFFSETTO:-0400
TZNAME:EDT
DTSTART:20210314T070000
END:DAYLIGHT
BEGIN:STANDARD
TZOFFSETFROM:-0400
TZOFFSETTO:-0500
TZNAME:EST
DTSTART:20211107T060000
END:STANDARD
BEGIN:DAYLIGHT
TZOFFSETFROM:-0500
TZOFFSETTO:-0400
TZNAME:EDT
DTSTART:20220313T070000
END:DAYLIGHT
BEGIN:STANDARD
TZOFFSETFROM:-0400
TZOFFSETTO:-0500
TZNAME:EST
DTSTART:20221106T060000
END:STANDARD
BEGIN:DAYLIGHT
TZOFFSETFROM:-0500
TZOFFSETTO:-0400
TZNAME:EDT
DTSTART:20230312T070000
END:DAYLIGHT
BEGIN:STANDARD
TZOFFSETFROM:-0400
TZOFFSETTO:-0500
TZNAME:EST
DTSTART:20231105T060000
END:STANDARD
END:VTIMEZONE
BEGIN:VEVENT
DTSTART;TZID=America/New_York:20220809T140000
DTEND;TZID=America/New_York:20220809T153000
DTSTAMP:20260420T223539
CREATED:20220802T221739Z
LAST-MODIFIED:20220914T153808Z
UID:10000172-1660053600-1660059000@neppa.org
SUMMARY:Tactical Tuesday!  Beneficial Electrification and Engaging With Your Local Schools to Electrify Transportation
DESCRIPTION:How will this work?\nFor now – simply send an email to mhyland@neppa.org to register.  \nWe will confirm your interest\, and between now and next Tuesday – Mike Hyland will send you a ‘Zoom’ invite out to all members that want to participate.  \nAt 2 PM next Tuesday – use the Zoom link to join. 
URL:https://neppa.org/event/tactical-tuesday/
LOCATION:Virtually
CATEGORIES:Tactical Tuesday
ATTACH;FMTTYPE=image/jpeg:https://neppa.org/wp-content/uploads/2022/08/pexels-pixabay-278918-scaled.jpg
END:VEVENT
END:VCALENDAR