BEGIN:VCALENDAR
VERSION:2.0
PRODID:-//NEPPA - ECPv6.15.20//NONSGML v1.0//EN
CALSCALE:GREGORIAN
METHOD:PUBLISH
X-WR-CALNAME:NEPPA
X-ORIGINAL-URL:https://neppa.org
X-WR-CALDESC:Events for NEPPA
REFRESH-INTERVAL;VALUE=DURATION:PT1H
X-Robots-Tag:noindex
X-PUBLISHED-TTL:PT1H
BEGIN:VTIMEZONE
TZID:America/New_York
BEGIN:DAYLIGHT
TZOFFSETFROM:-0500
TZOFFSETTO:-0400
TZNAME:EDT
DTSTART:20210314T070000
END:DAYLIGHT
BEGIN:STANDARD
TZOFFSETFROM:-0400
TZOFFSETTO:-0500
TZNAME:EST
DTSTART:20211107T060000
END:STANDARD
BEGIN:DAYLIGHT
TZOFFSETFROM:-0500
TZOFFSETTO:-0400
TZNAME:EDT
DTSTART:20220313T070000
END:DAYLIGHT
BEGIN:STANDARD
TZOFFSETFROM:-0400
TZOFFSETTO:-0500
TZNAME:EST
DTSTART:20221106T060000
END:STANDARD
BEGIN:DAYLIGHT
TZOFFSETFROM:-0500
TZOFFSETTO:-0400
TZNAME:EDT
DTSTART:20230312T070000
END:DAYLIGHT
BEGIN:STANDARD
TZOFFSETFROM:-0400
TZOFFSETTO:-0500
TZNAME:EST
DTSTART:20231105T060000
END:STANDARD
END:VTIMEZONE
BEGIN:VEVENT
DTSTART;TZID=America/New_York:20221108T140000
DTEND;TZID=America/New_York:20221108T153000
DTSTAMP:20260420T181645
CREATED:20221012T145130Z
LAST-MODIFIED:20221020T124542Z
UID:10000185-1667916000-1667921400@neppa.org
SUMMARY:Tactical Tuesday - Utility Reliability: Data Collection\, Benchmarking and the Outage Data Initiative (ODI)
DESCRIPTION:Utility Reliability: Data Collection\, Benchmarking and the Outage Data Initiative (ODI)\n			\n				\n				\n				\n				\n				\n			\n				\n				\n				\n				\n				This tactical Tuesday will provide an overview of reliability data benchmarking opportunities through statistics and touch on the work of the ODI for data collection during restoration. \n			\n				\n				\n				\n				\n				  \nPresenter:Scott Sternfeld\, Outage Data InitiativeMike Hyland\, NEPPA\n			\n				Register Now
URL:https://neppa.org/event/tactical-tuesday-4/
LOCATION:Virtually
CATEGORIES:Tactical Tuesday
ATTACH;FMTTYPE=image/png:https://neppa.org/wp-content/uploads/2022/08/Tactical-Tuesday-Cal-1.png
END:VEVENT
END:VCALENDAR