BEGIN:VCALENDAR
VERSION:2.0
PRODID:-//NEPPA - ECPv6.15.20//NONSGML v1.0//EN
CALSCALE:GREGORIAN
METHOD:PUBLISH
X-ORIGINAL-URL:https://neppa.org
X-WR-CALDESC:Events for NEPPA
REFRESH-INTERVAL;VALUE=DURATION:PT1H
X-Robots-Tag:noindex
X-PUBLISHED-TTL:PT1H
BEGIN:VTIMEZONE
TZID:America/New_York
BEGIN:DAYLIGHT
TZOFFSETFROM:-0500
TZOFFSETTO:-0400
TZNAME:EDT
DTSTART:20230312T070000
END:DAYLIGHT
BEGIN:STANDARD
TZOFFSETFROM:-0400
TZOFFSETTO:-0500
TZNAME:EST
DTSTART:20231105T060000
END:STANDARD
BEGIN:DAYLIGHT
TZOFFSETFROM:-0500
TZOFFSETTO:-0400
TZNAME:EDT
DTSTART:20240310T070000
END:DAYLIGHT
BEGIN:STANDARD
TZOFFSETFROM:-0400
TZOFFSETTO:-0500
TZNAME:EST
DTSTART:20241103T060000
END:STANDARD
BEGIN:DAYLIGHT
TZOFFSETFROM:-0500
TZOFFSETTO:-0400
TZNAME:EDT
DTSTART:20250309T070000
END:DAYLIGHT
BEGIN:STANDARD
TZOFFSETFROM:-0400
TZOFFSETTO:-0500
TZNAME:EST
DTSTART:20251102T060000
END:STANDARD
END:VTIMEZONE
BEGIN:VEVENT
DTSTART;TZID=America/New_York:20240709T140000
DTEND;TZID=America/New_York:20240709T150000
DTSTAMP:20260419T133707
CREATED:20240215T140740Z
LAST-MODIFIED:20240625T112749Z
UID:10000353-1720533600-1720537200@neppa.org
SUMMARY:Tactical Tuesday
DESCRIPTION:Presenter:Joshua Simmons\, P.E.\, Founder & CEO ofCogito Innovations\nTopic: “An Introduction to Low Earth Orbit (LEO) Solutions for Mission-Critical Operations”.  An overview of how LEO networks function\, a comparision of the major providers in the market today\, a presentation of utility use cases and a few deployment case studies showing the purpose/result of each.\n  \n  \n			\n				Register Now
URL:https://neppa.org/event/tactical-tuesday-23/
LOCATION:Virtual
CATEGORIES:Tactical Tuesday
ATTACH;FMTTYPE=image/png:https://neppa.org/wp-content/uploads/2023/01/Tactical-Tuesday-Cal-1-1.png
END:VEVENT
END:VCALENDAR