BEGIN:VCALENDAR
VERSION:2.0
PRODID:-//NEPPA - ECPv6.15.20//NONSGML v1.0//EN
CALSCALE:GREGORIAN
METHOD:PUBLISH
X-ORIGINAL-URL:https://neppa.org
X-WR-CALDESC:Events for NEPPA
REFRESH-INTERVAL;VALUE=DURATION:PT1H
X-Robots-Tag:noindex
X-PUBLISHED-TTL:PT1H
BEGIN:VTIMEZONE
TZID:America/New_York
BEGIN:DAYLIGHT
TZOFFSETFROM:-0500
TZOFFSETTO:-0400
TZNAME:EDT
DTSTART:20230312T070000
END:DAYLIGHT
BEGIN:STANDARD
TZOFFSETFROM:-0400
TZOFFSETTO:-0500
TZNAME:EST
DTSTART:20231105T060000
END:STANDARD
BEGIN:DAYLIGHT
TZOFFSETFROM:-0500
TZOFFSETTO:-0400
TZNAME:EDT
DTSTART:20240310T070000
END:DAYLIGHT
BEGIN:STANDARD
TZOFFSETFROM:-0400
TZOFFSETTO:-0500
TZNAME:EST
DTSTART:20241103T060000
END:STANDARD
BEGIN:DAYLIGHT
TZOFFSETFROM:-0500
TZOFFSETTO:-0400
TZNAME:EDT
DTSTART:20250309T070000
END:DAYLIGHT
BEGIN:STANDARD
TZOFFSETFROM:-0400
TZOFFSETTO:-0500
TZNAME:EST
DTSTART:20251102T060000
END:STANDARD
END:VTIMEZONE
BEGIN:VEVENT
DTSTART;TZID=America/New_York:20240910T140000
DTEND;TZID=America/New_York:20240910T150000
DTSTAMP:20260419T103914
CREATED:20240215T141358Z
LAST-MODIFIED:20240814T123756Z
UID:10000355-1725976800-1725980400@neppa.org
SUMMARY:Tactical Tuesday
DESCRIPTION:Topic:How vehicle-mounted cameras + AIcan help you better manage the grid while reducing costs\nPresenter: \nJuliet Su\, Head of Product for Noteworthy AI\n \nCompany Info: Noteworthy provides AI-powered camera systems that mount non-intrusively on fleet vehicles to automatically geolocate and capture high-resolution imagery of distribution poles as the vehicles drive. Proprietary machine learning models enable several applications in a single truck roll\, including asset inventory/GIS clean-up\, asset inspections\, vegetation management\, third-party attachment assessments\, lighting audits\, and more.\n\nPresentation Description: Explore how Noteworthy AI’s advanced vehicle-mounted camera system revolutionizes utility field operations across the US. This presentation will highlight how their technology works and its tangible benefits\, from boosting grid reliability to optimizing vegetation management.\n			\n				Register Now
URL:https://neppa.org/event/tactical-tuesday-25/
LOCATION:Virtual
CATEGORIES:Tactical Tuesday
ATTACH;FMTTYPE=image/png:https://neppa.org/wp-content/uploads/2023/01/Tactical-Tuesday-Cal-1-1.png
END:VEVENT
END:VCALENDAR