BEGIN:VCALENDAR
VERSION:2.0
PRODID:-//NEPPA - ECPv6.15.20//NONSGML v1.0//EN
CALSCALE:GREGORIAN
METHOD:PUBLISH
X-ORIGINAL-URL:https://neppa.org
X-WR-CALDESC:Events for NEPPA
REFRESH-INTERVAL;VALUE=DURATION:PT1H
X-Robots-Tag:noindex
X-PUBLISHED-TTL:PT1H
BEGIN:VTIMEZONE
TZID:America/New_York
BEGIN:DAYLIGHT
TZOFFSETFROM:-0500
TZOFFSETTO:-0400
TZNAME:EDT
DTSTART:20230312T070000
END:DAYLIGHT
BEGIN:STANDARD
TZOFFSETFROM:-0400
TZOFFSETTO:-0500
TZNAME:EST
DTSTART:20231105T060000
END:STANDARD
BEGIN:DAYLIGHT
TZOFFSETFROM:-0500
TZOFFSETTO:-0400
TZNAME:EDT
DTSTART:20240310T070000
END:DAYLIGHT
BEGIN:STANDARD
TZOFFSETFROM:-0400
TZOFFSETTO:-0500
TZNAME:EST
DTSTART:20241103T060000
END:STANDARD
BEGIN:DAYLIGHT
TZOFFSETFROM:-0500
TZOFFSETTO:-0400
TZNAME:EDT
DTSTART:20250309T070000
END:DAYLIGHT
BEGIN:STANDARD
TZOFFSETFROM:-0400
TZOFFSETTO:-0500
TZNAME:EST
DTSTART:20251102T060000
END:STANDARD
END:VTIMEZONE
BEGIN:VEVENT
DTSTART;TZID=America/New_York:20241008T140000
DTEND;TZID=America/New_York:20241008T150000
DTSTAMP:20260419T091306
CREATED:20240215T141627Z
LAST-MODIFIED:20240701T130107Z
UID:10000356-1728396000-1728399600@neppa.org
SUMMARY:Tactical Tuesday
DESCRIPTION:Presenter:Dominic Dillon\, President & CEO of3B Protection\, International\nTopic:Physical SecurityBallistic Perimeter Security\nLearn how you can protect your substation with a ballistic perimeter wall\, ballistic gate and ballistic man door. 3B Protection provides ballistic\, blast\, and break-in protection (UL 752 Level 8\, 9 and 10). 3B delivers ballistic projects (perimeter wall\, interior firewalls) with speed\, certainty and safey!\n			\n				Register Now
URL:https://neppa.org/event/tactical-tuesday-26/
LOCATION:Virtual
CATEGORIES:Tactical Tuesday
ATTACH;FMTTYPE=image/png:https://neppa.org/wp-content/uploads/2023/01/Tactical-Tuesday-Cal-1-1.png
END:VEVENT
END:VCALENDAR