BEGIN:VCALENDAR
VERSION:2.0
PRODID:-//NEPPA - ECPv6.15.20//NONSGML v1.0//EN
CALSCALE:GREGORIAN
METHOD:PUBLISH
X-WR-CALNAME:NEPPA
X-ORIGINAL-URL:https://neppa.org
X-WR-CALDESC:Events for NEPPA
REFRESH-INTERVAL;VALUE=DURATION:PT1H
X-Robots-Tag:noindex
X-PUBLISHED-TTL:PT1H
BEGIN:VTIMEZONE
TZID:America/New_York
BEGIN:DAYLIGHT
TZOFFSETFROM:-0500
TZOFFSETTO:-0400
TZNAME:EDT
DTSTART:20210314T070000
END:DAYLIGHT
BEGIN:STANDARD
TZOFFSETFROM:-0400
TZOFFSETTO:-0500
TZNAME:EST
DTSTART:20211107T060000
END:STANDARD
BEGIN:DAYLIGHT
TZOFFSETFROM:-0500
TZOFFSETTO:-0400
TZNAME:EDT
DTSTART:20220313T070000
END:DAYLIGHT
BEGIN:STANDARD
TZOFFSETFROM:-0400
TZOFFSETTO:-0500
TZNAME:EST
DTSTART:20221106T060000
END:STANDARD
BEGIN:DAYLIGHT
TZOFFSETFROM:-0500
TZOFFSETTO:-0400
TZNAME:EDT
DTSTART:20230312T070000
END:DAYLIGHT
BEGIN:STANDARD
TZOFFSETFROM:-0400
TZOFFSETTO:-0500
TZNAME:EST
DTSTART:20231105T060000
END:STANDARD
END:VTIMEZONE
BEGIN:VEVENT
DTSTART;TZID=America/New_York:20220404T083000
DTEND;TZID=America/New_York:20220404T100000
DTSTAMP:20260423T202044
CREATED:20220214T191036Z
LAST-MODIFIED:20220214T200535Z
UID:10000152-1649061000-1649066400@neppa.org
SUMMARY:@Your-Site Virtual:  Underground Distribution Review
DESCRIPTION:April 4\, 2022 | Zoom Meeting (8:30 am – 10:00 am)\n			\n				\n				\n				\n				\n				At NEPPA\, we are committed to helping our members enhance their safety awareness and develop effective training and risk management programs to better prepare and protect their organizations and employees. \nAs part of our commitment to our members to provide high-quality technical and safety training\, particularly in the shadows of COVID-19\, we are pleased to continue offering a new series of live\, instructor-led @Your-Site Virtual Training sessions.  \nParticipants may register for either an individual session\, for the Spring/Fall Series (8 Session Each) or for the full 2022 Series (16 Total Sessions): \n			\n				\n				\n				\n				\n				\n\n\n@Your-Site Virtual\nPer Session\nSpring Series (8 Sessions)\nFall Series (8 Sessions)\n2022 Series (16 Total Sessions)\n\n\nNEPPA Members\n$50 per person\n$380 per person\n$380 per person\n$740 per person\n\n\nNon-Members\n$100 per person\n$770 per person\n$7700 per person\n$1\,540 per person\n\n\n\n			\n				\n				\n				\n				\n				@Your-Site: Virtual – Session Schedule & Length\nAll sessions will be recorded and made available to any registrants unable to participate at the time of the training. Sessions are scheduled for 90-minutes which includes 15-minutes for Q&A. Recordings are available for 1-year after the date of broadcast. \n\n			\n				\n				\n				\n				\n				To register up to 5 participants\, please click the button below to complete the form. To process a bulk registration of more than 5\, please email training@neppa.org. \nOnce NEPPA receives and processes your registration\, participants will receive an auto-generated email with unique login credentials to access each of the individual the sessions. \n\n			\n				Register Now\n			\n			\n				\n				\n				\n				\n			\n				\n				\n				\n				\n				\n				\n				\n				\n				\n				\n				Frequently Asked Questions\n Q: How many @Your-Site: Virtual Training sessions are offered per year? \nA: For now\, NEPPA is planning to offer a total of 16 @Your-Site: Virtual Training sessions in 2022. The per person registration fees are: \n NEPPA Members: $50 per person\, per class\, $380 for each series (8 classes)\, or $740 for the full series (16 classes) Non-Members: $100 per person\, per class\, $740 for each series (8 classes)\, or $1\,5400 for the full series (16 classes) \nQ: How long is each class?  \nA: Each class is scheduled for a total of 90-minutes which includes a 15-minute\, live Q&A. \nQ: Are @Your-Site: Virtual Training Sessions live or pre-recorded? \nA: The @Your-Site: Virtual Training sessions are live\, instructor-led training sessions. For any registrants unable to participate live\, the sessions are recorded and will be made available after the class. Recordings are available for 1-year after the date of broadcast. \nQ: Is this a group registration or do registrants complete class individually?  \nA: In order to receive a certificate of completion\, participants need to register for the sessions individually. Certificates of completion only display the registrant’s name. That being said\, you do have the ability to register multiple individuals either one at a time\, or in bulk by submitting a roster to NEPPA. Certificates of completion are only available upon completion of the course. \nQ: Do registrants receive a Certificate of Completion?  \nA: At the completion of the course\, registrants will receive an email including a printable Certificate of Completion which includes their name and session title. \nQ: Are @Your-Site: Virtual Training Sessions recorded? \nA: The @Your-Site: Virtual Training sessions will be recorded and made available to registrants after the program. \nQ: Are there set dates for @Your-Site: Virtual Training\, or do participants login at their own convenience?  \nA: Since these are live\, instructor-led sessions\, participants are expected to join according to the schedule once published. Recordings will be made available for anyone unable to join on the specified training date. \nQ: Are the 2021 @Your-Site Virtual recordings still available? \nA: Yes\, NEPPA will continue to process registrations to access the 2021 @Your-Site Virtual Training sessions of the following topics: \n1 – Switching & Tagging2 – Personal Protective Grounding3 – Trouble Investigation4 – Transformer Review & Connections5 – Work Zone Safety6 – High Voltage Rubber Gloving \nContact training@neppa.org to register for and access the 2022 sessions. \n			\n				\n				\n				\n				\n				Questions?  \nPlease contact training@neppa.org or call the office at (978) 540-2200.\n			\n			\n				\n				\n				\n				\n			\n				\n				\n				\n				\n				\n				\n				\n				\n				\n				\n				Instructors \n			\n			\n				\n				\n				\n				\n			\n				\n				\n				\n				\n				\n				\n				\n				\n				\n				\n				\n				\n					Steve Socoby\n					Safety & Technical Trainer\, CUSP & Authorized OSHA Outreach Instructor (Construction) \n					Steve has 36 years of hands on experience in all facets of operations\, of public power utilities including: Line Superintendent; supervision of crews\, maintenance\, new construction\, reliability and associated plant & sub-station responsibilities. He is a recognized expert in safety and OSHA compliance. \nIn his role of Director of Training\, he is responsible for development and quality of safety & technical programs. He also oversees the line-workers’ school and teaches utility management and supervision\, electronic controls and power-line operation programs. \nRecognized as an industry leader and expert Steve has received the Distinguished Service Award from the Northeast Public Power Association and been recognized by the Maine State Legislature for his previous 30 Years of Distinguished Service. Steve attended the University of Maine at Orono. \n					\n				\n			\n				\n				\n				\n				\n				\n				\n					Linda Calderiso\n					Trainer\, Certified American Heart Associaiotn & Medic First Aid Trainer for First Aid\, CPR\, AED \n					Linda Calderiso has been a trainer with the Northeast Public Power Association since November 2000 and brings energy and professionalism to all the sessions she teaches. \nAs NEPPA’s primary First Aid\, CPR and AED instructor\, Linda is instrumental in ensuring NEPPA members meet their annual requirements in an engaging and fun learning environment.\n					\n				\n			\n				\n				\n				\n				\n				\n				\n					Dan Flynn\n					Technical & Safety Trainer  \n					Dan Flynn has been a safety trainer with Northeast Public Power Association\, since September 2018 after retiring from Wakefield Municipal Gas and Light Dept with more than a 40 year career in public power. \nDan started in the electric meter department in the 1970’s and worked his way through the electric line department as a lineman/line foremen and his last position as the electric department superintendent. Some of Dan’s responsibilities covered construction\, maintenance\, and safety of the electric line division. Dan continues to maintain his 1B/2A Mass. hoisting license and a Mass. Class A Driving license. \nDan is a lifelong resident of Wakefield\, Ma where he lives with his wife Alayne of 39 years they have two adult children. \nHe says “It is a privilege to continue to be involved with the public power industry in New England to give back any knowledge I’ve acquired over these many years.”\n					\n				\n			\n				\n				\n				\n				\n				\n				\n					Lou Gabriele\n					Technical & Safety Trainer\, Certified American Heart Association & Medic First Aid Trainer for First Aid\, CPR\, AED  \n					Lou Gabriele has been a technical and safety trainer with NEPPA for over 20 years. \nPrior to joining NEPPA\, Lou spent his 30+ year line career with Central Vermont Public Service (CVPS). Prior to being merged with Green Mountain Power\, Central Vermont Public Service Corp. was the largest electricity supplier in Vermont. Its customer base covered 160\,000 people in 163 towns\, villages and cities in Vermont.\n					\n				\n			\n				\n				\n				\n				\n				\n				\n					Tim Richardson\n					P.E.\,Technical & Safety Trainer \n					Tim Richardson joined NEPPA in September of 2019 and has been an asset to the training team. Tim has a long history working in the electric utility industry\, including as General Manager of Belmont Municipal Light Department from 1995 – 2007. \nMost recently\, Tim has worked as Principal of Fundy Power Services\, LLC and at Consulting Engineers Group prior to that. \nTim brings a wealth of both technical and safety expertise to the organization and applies his expertise of both in an easy-to-understand and easy-to-learn approach.
URL:https://neppa.org/event/your-site-virtual-underground-distribution-review-2/
LOCATION:Virtually
CATEGORIES:@Your-Site Virtual
ATTACH;FMTTYPE=image/png:https://neppa.org/wp-content/uploads/2021/01/2021-@Your-Site-Virtual-Bannerv2.png
END:VEVENT
BEGIN:VEVENT
DTSTART;TZID=America/New_York:20220426T083000
DTEND;TZID=America/New_York:20220426T100000
DTSTAMP:20260423T202044
CREATED:20220214T200153Z
LAST-MODIFIED:20220214T200436Z
UID:10000153-1650961800-1650967200@neppa.org
SUMMARY:@Your-Site Virtual:  Work Zone Safety
DESCRIPTION:April 26\, 2022 | Zoom Meeting (8:30 am – 10:00 am)\n			\n				\n				\n				\n				\n				At NEPPA\, we are committed to helping our members enhance their safety awareness and develop effective training and risk management programs to better prepare and protect their organizations and employees. \nAs part of our commitment to our members to provide high-quality technical and safety training\, particularly in the shadows of COVID-19\, we are pleased to continue offering a new series of live\, instructor-led @Your-Site Virtual Training sessions.  \nParticipants may register for either an individual session\, for the Spring/Fall Series (8 Session Each) or for the full 2022 Series (16 Total Sessions):\n			\n				\n				\n				\n				\n				\n\n\n@Your-Site Virtual\nPer Session\nSpring Series (8 Sessions)\nFall Series (8 Sessions)\n2022 Series (16 Total Sessions)\n\n\nNEPPA Members\n$50 per person\n$380 per person\n$380 per person\n$740 per person\n\n\nNon-Members\n$100 per person\n$770 per person\n$7700 per person\n$1\,540 per person\n\n\n\n			\n				\n				\n				\n				\n				@Your-Site: Virtual – Session Schedule & Length\nAll sessions will be recorded and made available to any registrants unable to participate at the time of the training. Sessions are scheduled for 90-minutes which includes 15-minutes for Q&A. Recordings are available for 1-year after the date of broadcast. \n\n			\n				\n				\n				\n				\n				To register up to 5 participants\, please click the button below to complete the form. To process a bulk registration of more than 5\, please email training@neppa.org. \nOnce NEPPA receives and processes your registration\, participants will receive an auto-generated email with unique login credentials to access each of the individual the sessions. \n\n			\n				Register Now\n			\n			\n				\n				\n				\n				\n			\n				\n				\n				\n				\n				\n				\n				\n				\n				\n				\n				Frequently Asked Questions\n Q: How many @Your-Site: Virtual Training sessions are offered per year? \nA: For now\, NEPPA is planning to offer a total of 16 @Your-Site: Virtual Training sessions in 2022. The per person registration fees are: \n NEPPA Members: $50 per person\, per class\, $380 for each series (8 classes)\, or $740 for the full series (16 classes) Non-Members: $100 per person\, per class\, $740 for each series (8 classes)\, or $1\,5400 for the full series (16 classes) \nQ: How long is each class?  \nA: Each class is scheduled for a total of 90-minutes which includes a 15-minute\, live Q&A. \nQ: Are @Your-Site: Virtual Training Sessions live or pre-recorded? \nA: The @Your-Site: Virtual Training sessions are live\, instructor-led training sessions. For any registrants unable to participate live\, the sessions are recorded and will be made available after the class. Recordings are available for 1-year after the date of broadcast. \nQ: Is this a group registration or do registrants complete class individually?  \nA: In order to receive a certificate of completion\, participants need to register for the sessions individually. Certificates of completion only display the registrant’s name. That being said\, you do have the ability to register multiple individuals either one at a time\, or in bulk by submitting a roster to NEPPA. Certificates of completion are only available upon completion of the course. \nQ: Do registrants receive a Certificate of Completion?  \nA: At the completion of the course\, registrants will receive an email including a printable Certificate of Completion which includes their name and session title. \nQ: Are @Your-Site: Virtual Training Sessions recorded? \nA: The @Your-Site: Virtual Training sessions will be recorded and made available to registrants after the program. \nQ: Are there set dates for @Your-Site: Virtual Training\, or do participants login at their own convenience?  \nA: Since these are live\, instructor-led sessions\, participants are expected to join according to the schedule once published. Recordings will be made available for anyone unable to join on the specified training date. \nQ: Are the 2021 @Your-Site Virtual recordings still available? \nA: Yes\, NEPPA will continue to process registrations to access the 2021 @Your-Site Virtual Training sessions of the following topics: \n1 – Switching & Tagging2 – Personal Protective Grounding3 – Trouble Investigation4 – Transformer Review & Connections5 – Work Zone Safety6 – High Voltage Rubber Gloving \nContact training@neppa.org to register for and access the 2022 sessions. \n			\n				\n				\n				\n				\n				Questions?  \nPlease contact training@neppa.org or call the office at (978) 540-2200.\n			\n			\n				\n				\n				\n				\n			\n				\n				\n				\n				\n				\n				\n				\n				\n				\n				\n				Instructors \n			\n			\n				\n				\n				\n				\n			\n				\n				\n				\n				\n				\n				\n				\n				\n				\n				\n				\n				\n					Steve Socoby\n					Safety & Technical Trainer\, CUSP & Authorized OSHA Outreach Instructor (Construction) \n					Steve has 36 years of hands on experience in all facets of operations\, of public power utilities including: Line Superintendent; supervision of crews\, maintenance\, new construction\, reliability and associated plant & sub-station responsibilities. He is a recognized expert in safety and OSHA compliance. \nIn his role of Director of Training\, he is responsible for development and quality of safety & technical programs. He also oversees the line-workers’ school and teaches utility management and supervision\, electronic controls and power-line operation programs. \nRecognized as an industry leader and expert Steve has received the Distinguished Service Award from the Northeast Public Power Association and been recognized by the Maine State Legislature for his previous 30 Years of Distinguished Service. Steve attended the University of Maine at Orono. \n					\n				\n			\n				\n				\n				\n				\n				\n				\n					Linda Calderiso\n					Trainer\, Certified American Heart Associaiotn & Medic First Aid Trainer for First Aid\, CPR\, AED \n					Linda Calderiso has been a trainer with the Northeast Public Power Association since November 2000 and brings energy and professionalism to all the sessions she teaches. \nAs NEPPA’s primary First Aid\, CPR and AED instructor\, Linda is instrumental in ensuring NEPPA members meet their annual requirements in an engaging and fun learning environment.\n					\n				\n			\n				\n				\n				\n				\n				\n				\n					Dan Flynn\n					Technical & Safety Trainer  \n					Dan Flynn has been a safety trainer with Northeast Public Power Association\, since September 2018 after retiring from Wakefield Municipal Gas and Light Dept with more than a 40 year career in public power. \nDan started in the electric meter department in the 1970’s and worked his way through the electric line department as a lineman/line foremen and his last position as the electric department superintendent. Some of Dan’s responsibilities covered construction\, maintenance\, and safety of the electric line division. Dan continues to maintain his 1B/2A Mass. hoisting license and a Mass. Class A Driving license. \nDan is a lifelong resident of Wakefield\, Ma where he lives with his wife Alayne of 39 years they have two adult children. \nHe says “It is a privilege to continue to be involved with the public power industry in New England to give back any knowledge I’ve acquired over these many years.”\n					\n				\n			\n				\n				\n				\n				\n				\n				\n					Lou Gabriele\n					Technical & Safety Trainer\, Certified American Heart Association & Medic First Aid Trainer for First Aid\, CPR\, AED  \n					Lou Gabriele has been a technical and safety trainer with NEPPA for over 20 years. \nPrior to joining NEPPA\, Lou spent his 30+ year line career with Central Vermont Public Service (CVPS). Prior to being merged with Green Mountain Power\, Central Vermont Public Service Corp. was the largest electricity supplier in Vermont. Its customer base covered 160\,000 people in 163 towns\, villages and cities in Vermont.\n					\n				\n			\n				\n				\n				\n				\n				\n				\n					Tim Richardson\n					P.E.\,Technical & Safety Trainer \n					Tim Richardson joined NEPPA in September of 2019 and has been an asset to the training team. Tim has a long history working in the electric utility industry\, including as General Manager of Belmont Municipal Light Department from 1995 – 2007. \nMost recently\, Tim has worked as Principal of Fundy Power Services\, LLC and at Consulting Engineers Group prior to that. \nTim brings a wealth of both technical and safety expertise to the organization and applies his expertise of both in an easy-to-understand and easy-to-learn approach.
URL:https://neppa.org/event/your-site-virtual-work-zone-safety-2/
LOCATION:Virtually
CATEGORIES:@Your-Site Virtual
ATTACH;FMTTYPE=image/png:https://neppa.org/wp-content/uploads/2021/01/2021-@Your-Site-Virtual-Bannerv2.png
END:VEVENT
END:VCALENDAR