BEGIN:VCALENDAR
VERSION:2.0
PRODID:-//NEPPA - ECPv6.15.20//NONSGML v1.0//EN
CALSCALE:GREGORIAN
METHOD:PUBLISH
X-ORIGINAL-URL:https://neppa.org
X-WR-CALDESC:Events for NEPPA
REFRESH-INTERVAL;VALUE=DURATION:PT1H
X-Robots-Tag:noindex
X-PUBLISHED-TTL:PT1H
BEGIN:VTIMEZONE
TZID:America/New_York
BEGIN:DAYLIGHT
TZOFFSETFROM:-0500
TZOFFSETTO:-0400
TZNAME:EDT
DTSTART:20220313T070000
END:DAYLIGHT
BEGIN:STANDARD
TZOFFSETFROM:-0400
TZOFFSETTO:-0500
TZNAME:EST
DTSTART:20221106T060000
END:STANDARD
BEGIN:DAYLIGHT
TZOFFSETFROM:-0500
TZOFFSETTO:-0400
TZNAME:EDT
DTSTART:20230312T070000
END:DAYLIGHT
BEGIN:STANDARD
TZOFFSETFROM:-0400
TZOFFSETTO:-0500
TZNAME:EST
DTSTART:20231105T060000
END:STANDARD
BEGIN:DAYLIGHT
TZOFFSETFROM:-0500
TZOFFSETTO:-0400
TZNAME:EDT
DTSTART:20240310T070000
END:DAYLIGHT
BEGIN:STANDARD
TZOFFSETFROM:-0400
TZOFFSETTO:-0500
TZNAME:EST
DTSTART:20241103T060000
END:STANDARD
END:VTIMEZONE
BEGIN:VEVENT
DTSTART;TZID=America/New_York:20230124T083000
DTEND;TZID=America/New_York:20230124T100000
DTSTAMP:20260423T073808
CREATED:20221207T203055Z
LAST-MODIFIED:20221207T204033Z
UID:10000203-1674549000-1674554400@neppa.org
SUMMARY:@ Your-Site Virtual Training - Substation Components
DESCRIPTION:Substation Components\n			\n				\n				\n				\n				\n				January 24\, 2023 | Virtual (8:30 am – 10:30 am)\n			\n				\n				\n				\n				\n				\n\n\n\n\nAt NEPPA\, we are committed to helping our members enhance their safety awareness and develop effective training and risk management programs to better prepare and protect their organizations and employees.  \nAs part of our commitment to our members to provide high-quality technical and safety training we are pleased to continue offering live\, instructor-led @Your-Site Virtual Training sessions. \n @Your-Site: Virtual – Session Schedule & Length \n All sessions will be recorded and made available to any registrants unable to participate at the time of the training. Sessions are scheduled for 90-minutes which includes 15-minutes for Q&A. Recordings are available for 1-year after the date of broadcast. \n\n\n\n\n\n			\n				\n				\n				\n				\n				\n\n\n\n\nYour-Site Virtual(90-minute training (8:30 am – 10:00 am)Dates are subject to change \nRegistration Fees for @Your-Site: Virtual TrainingParticipant may register for either an individual sessions: \nNEPPA Member:  $55 per personNon-Member:  $110 per person \n\n\n\n\n\n			\n				\n				\n				\n				\n				To register up to 5 participants\, please click the button below to complete the form. To process a bulk registration of more than 5\, please email training@neppa.org. \nOnce NEPPA receives and processes your registration\, participants will receive an auto-generated email with unique login credentials to access each of the individual the sessions. \n\n			\n				\n				\n				\n				\n				\n\n\n\nREGISTER NOW  \n\n\n\n\n			\n			\n				\n				\n				\n				\n			\n				\n				\n				\n				\n				\n				\n				\n				\n				\n				\n				Questions?  Please contact training@neppa.org or call the office at (978) 540-2200.
URL:https://neppa.org/event/your-site-virtual-training-substation-components/
CATEGORIES:@Your-Site Virtual
ATTACH;FMTTYPE=image/png:https://neppa.org/wp-content/uploads/2022/12/@Your-Site-Virtual-Banner-Less-1-1.png
END:VEVENT
BEGIN:VEVENT
DTSTART;TZID=America/New_York:20230125T083000
DTEND;TZID=America/New_York:20230125T100000
DTSTAMP:20260423T073808
CREATED:20221207T205325Z
LAST-MODIFIED:20221207T205325Z
UID:10000204-1674635400-1674640800@neppa.org
SUMMARY:@ Your-Site Virtual Training - Rigging\, Ropes & Safety
DESCRIPTION:Rigging\, Ropes & Safety \n			\n				\n				\n				\n				\n				January 25\, 2023 | Virtual (8:30 am – 10:30 am)\n			\n				\n				\n				\n				\n				\n\n\n\n\nAt NEPPA\, we are committed to helping our members enhance their safety awareness and develop effective training and risk management programs to better prepare and protect their organizations and employees.  \nAs part of our commitment to our members to provide high-quality technical and safety training we are pleased to continue offering live\, instructor-led @Your-Site Virtual Training sessions. \n @Your-Site: Virtual – Session Schedule & Length \n All sessions will be recorded and made available to any registrants unable to participate at the time of the training. Sessions are scheduled for 90-minutes which includes 15-minutes for Q&A. Recordings are available for 1-year after the date of broadcast. \n\n\n\n\n\n			\n				\n				\n				\n				\n				\n\n\n\n\nYour-Site Virtual(90-minute training (8:30 am – 10:00 am)Dates are subject to change \nRegistration Fees for @Your-Site: Virtual TrainingParticipant may register for either an individual sessions: \nNEPPA Member:  $55 per personNon-Member:  $110 per person \n\n\n\n\n\n			\n				\n				\n				\n				\n				To register up to 5 participants\, please click the button below to complete the form. To process a bulk registration of more than 5\, please email training@neppa.org. \nOnce NEPPA receives and processes your registration\, participants will receive an auto-generated email with unique login credentials to access each of the individual the sessions. \n\n			\n				\n				\n				\n				\n				\n\n\n\nREGISTER NOW  \n\n\n\n\n			\n			\n				\n				\n				\n				\n			\n				\n				\n				\n				\n				\n				\n				\n				\n				\n				\n				Questions?  Please contact training@neppa.org or call the office at (978) 540-2200.
URL:https://neppa.org/event/your-site-virtual-training-rigging-ropes-safety/
LOCATION:Virtually
CATEGORIES:@Your-Site Virtual
ATTACH;FMTTYPE=image/png:https://neppa.org/wp-content/uploads/2022/12/@Your-Site-Virtual-Banner-Less-1-1.png
END:VEVENT
END:VCALENDAR