BEGIN:VCALENDAR
VERSION:2.0
PRODID:-//NEPPA - ECPv6.15.20//NONSGML v1.0//EN
CALSCALE:GREGORIAN
METHOD:PUBLISH
X-WR-CALNAME:NEPPA
X-ORIGINAL-URL:https://neppa.org
X-WR-CALDESC:Events for NEPPA
REFRESH-INTERVAL;VALUE=DURATION:PT1H
X-Robots-Tag:noindex
X-PUBLISHED-TTL:PT1H
BEGIN:VTIMEZONE
TZID:America/New_York
BEGIN:DAYLIGHT
TZOFFSETFROM:-0500
TZOFFSETTO:-0400
TZNAME:EDT
DTSTART:20220313T070000
END:DAYLIGHT
BEGIN:STANDARD
TZOFFSETFROM:-0400
TZOFFSETTO:-0500
TZNAME:EST
DTSTART:20221106T060000
END:STANDARD
BEGIN:DAYLIGHT
TZOFFSETFROM:-0500
TZOFFSETTO:-0400
TZNAME:EDT
DTSTART:20230312T070000
END:DAYLIGHT
BEGIN:STANDARD
TZOFFSETFROM:-0400
TZOFFSETTO:-0500
TZNAME:EST
DTSTART:20231105T060000
END:STANDARD
BEGIN:DAYLIGHT
TZOFFSETFROM:-0500
TZOFFSETTO:-0400
TZNAME:EDT
DTSTART:20240310T070000
END:DAYLIGHT
BEGIN:STANDARD
TZOFFSETFROM:-0400
TZOFFSETTO:-0500
TZNAME:EST
DTSTART:20241103T060000
END:STANDARD
END:VTIMEZONE
BEGIN:VEVENT
DTSTART;TZID=America/New_York:20230418T083000
DTEND;TZID=America/New_York:20230418T100000
DTSTAMP:20260423T031906
CREATED:20221207T213621Z
LAST-MODIFIED:20221207T214627Z
UID:10000205-1681806600-1681812000@neppa.org
SUMMARY:@ Your-Site Virtual Training - Underground Distribution Review
DESCRIPTION:Underground Distribution Review\n			\n				\n				\n				\n				\n				April 18\, 2023 | Virtual (8:30 am – 10:30 am)\n			\n				\n				\n				\n				\n				\n\n\n\n\nAt NEPPA\, we are committed to helping our members enhance their safety awareness and develop effective training and risk management programs to better prepare and protect their organizations and employees.  \nAs part of our commitment to our members to provide high-quality technical and safety training we are pleased to continue offering live\, instructor-led @Your-Site Virtual Training sessions. \n @Your-Site: Virtual – Session Schedule & Length \n All sessions will be recorded and made available to any registrants unable to participate at the time of the training. Sessions are scheduled for 90-minutes which includes 15-minutes for Q&A. Recordings are available for 1-year after the date of broadcast. \n\n\n\n\n\n			\n				\n				\n				\n				\n				\n\n\n\n\nYour-Site Virtual(90-minute training (8:30 am – 10:00 am)Dates are subject to change \nRegistration Fees for @Your-Site: Virtual TrainingParticipant may register for either an individual sessions: \nNEPPA Member:  $55 per personNon-Member:  $110 per person \n\n\n\n\n\n			\n				\n				\n				\n				\n				To register up to 5 participants\, please click the button below to complete the form. To process a bulk registration of more than 5\, please email training@neppa.org. \nOnce NEPPA receives and processes your registration\, participants will receive an auto-generated email with unique login credentials to access each of the individual the sessions. \n\n			\n				\n				\n				\n				\n				\n\n\n\nREGISTER NOW  \n\n\n\n\n			\n			\n				\n				\n				\n				\n			\n				\n				\n				\n				\n				\n				\n				\n				\n				\n				\n				Questions?  Please contact training@neppa.org or call the office at (978) 540-2200.
URL:https://neppa.org/event/your-site-virtual-training-underground-distribution-review/
LOCATION:Virtually
CATEGORIES:@Your-Site Virtual
ATTACH;FMTTYPE=image/png:https://neppa.org/wp-content/uploads/2022/12/@Your-Site-Virtual-Banner-Less-1-1.png
END:VEVENT
BEGIN:VEVENT
DTSTART;TZID=America/New_York:20230419T083000
DTEND;TZID=America/New_York:20230419T100000
DTSTAMP:20260423T031906
CREATED:20221207T214040Z
LAST-MODIFIED:20221207T214058Z
UID:10000206-1681893000-1681898400@neppa.org
SUMMARY:A Your-Site Virtual Training - Job Briefings
DESCRIPTION:Job Briefings \n			\n				\n				\n				\n				\n				April 19\, 2023  |  Virtual (8:30 am – 10:30 am)\n			\n				\n				\n				\n				\n				\n\n\n\n\nAt NEPPA\, we are committed to helping our members enhance their safety awareness and develop effective training and risk management programs to better prepare and protect their organizations and employees.  \nAs part of our commitment to our members to provide high-quality technical and safety training we are pleased to continue offering live\, instructor-led @Your-Site Virtual Training sessions. \n @Your-Site: Virtual – Session Schedule & Length \n All sessions will be recorded and made available to any registrants unable to participate at the time of the training. Sessions are scheduled for 90-minutes which includes 15-minutes for Q&A. Recordings are available for 1-year after the date of broadcast. \n\n\n\n\n\n			\n				\n				\n				\n				\n				\n\n\n\n\nYour-Site Virtual(90-minute training (8:30 am – 10:00 am)Dates are subject to change \nRegistration Fees for @Your-Site: Virtual TrainingParticipant may register for either an individual sessions: \nNEPPA Member:  $55 per personNon-Member:  $110 per person \n\n\n\n\n\n			\n				\n				\n				\n				\n				To register up to 5 participants\, please click the button below to complete the form. To process a bulk registration of more than 5\, please email training@neppa.org. \nOnce NEPPA receives and processes your registration\, participants will receive an auto-generated email with unique login credentials to access each of the individual the sessions. \n\n			\n				\n				\n				\n				\n				\n\n\n\nREGISTER NOW  \n\n\n\n\n			\n			\n				\n				\n				\n				\n			\n				\n				\n				\n				\n				\n				\n				\n				\n				\n				\n				Questions?  Please contact training@neppa.org or call the office at (978) 540-2200.
URL:https://neppa.org/event/a-your-site-virtual-training-jo-briefings/
LOCATION:Virtually
CATEGORIES:@Your-Site Virtual
ATTACH;FMTTYPE=image/png:https://neppa.org/wp-content/uploads/2022/12/@Your-Site-Virtual-Banner-Less-1-1.png
END:VEVENT
END:VCALENDAR