BEGIN:VCALENDAR
VERSION:2.0
PRODID:-//NEPPA - ECPv6.15.20//NONSGML v1.0//EN
CALSCALE:GREGORIAN
METHOD:PUBLISH
X-ORIGINAL-URL:https://neppa.org
X-WR-CALDESC:Events for NEPPA
REFRESH-INTERVAL;VALUE=DURATION:PT1H
X-Robots-Tag:noindex
X-PUBLISHED-TTL:PT1H
BEGIN:VTIMEZONE
TZID:America/New_York
BEGIN:DAYLIGHT
TZOFFSETFROM:-0500
TZOFFSETTO:-0400
TZNAME:EDT
DTSTART:20190310T070000
END:DAYLIGHT
BEGIN:STANDARD
TZOFFSETFROM:-0400
TZOFFSETTO:-0500
TZNAME:EST
DTSTART:20191103T060000
END:STANDARD
BEGIN:DAYLIGHT
TZOFFSETFROM:-0500
TZOFFSETTO:-0400
TZNAME:EDT
DTSTART:20200308T070000
END:DAYLIGHT
BEGIN:STANDARD
TZOFFSETFROM:-0400
TZOFFSETTO:-0500
TZNAME:EST
DTSTART:20201101T060000
END:STANDARD
BEGIN:DAYLIGHT
TZOFFSETFROM:-0500
TZOFFSETTO:-0400
TZNAME:EDT
DTSTART:20210314T070000
END:DAYLIGHT
BEGIN:STANDARD
TZOFFSETFROM:-0400
TZOFFSETTO:-0500
TZNAME:EST
DTSTART:20211107T060000
END:STANDARD
END:VTIMEZONE
BEGIN:VEVENT
DTSTART;TZID=America/New_York:20201005T080000
DTEND;TZID=America/New_York:20201005T093000
DTSTAMP:20260422T161018
CREATED:20200922T191057Z
LAST-MODIFIED:20210222T175059Z
UID:10000085-1601884800-1601890200@neppa.org
SUMMARY:General Manager / General Forum Roundtable
DESCRIPTION:2020 General Manager & General Forman Resource Roundtable\n \nOctober 5\, 2020 (8:00 am – 9:30 am)    |    NEPPA Headquarters\, Littleton\, MA; Web Meeting\nNEPPA is pleased to announce we will be offering a FREE In person / Virtual General Manager Roundtable on Monday\, October 5th beginning at 8:00 am via In-person & Zoom.   \n\nTo maintain security best practices for Zoom meetings\, registration and approval are required.  Please submit your registration using the “Register Now” button below and once approved\, unique login credentials will be sent to you. \nWho Should Attend? \nThis Roundtable is designed for anyone involved with Mutual Aid Software: \n\nGeneral Managers\nGeneral Foreman\nMutual Aid Software Users\n\nAgenda \nThe agenda is being finalized and is therefore subject to change. \n8:00 am    Guest Presenter:  Nick Lawler\, GM\, LELWD and Chair of NEPPA’s Mutual Aid Committee \nWorried about the storm season ahead?  Not sure how to call for Mutual Aid? We are offering a training session to learn about NEPPA’s new outage notification software! \nCome and learn how the Veoci system will simplify the process for requesting and tracking mutual aid\, followed by a Q & A session. \nDon’t miss this opportunity to be prepared for the storm season! \n 9:00 am   Q&A  \n9:30 am   Adjourn  \nRegistration \nRegistration is required\, Complimentary to members. \n \nQuestions? \nPlease contact Wendy Esche\, Director of Marketing\, Communications & Events at wesche@neppa.org or call (978) 540-2207.
URL:https://neppa.org/event/general-manager-general-forum-roundtable/
LOCATION:In Person or Virtual\, 200 New Estate Rd\, Littleton\, MA\, 01460\, United States
CATEGORIES:Roundtables
ATTACH;FMTTYPE=image/png:https://neppa.org/wp-content/uploads/2020/09/GM-GF-Rtable-.png
END:VEVENT
END:VCALENDAR