BEGIN:VCALENDAR
VERSION:2.0
PRODID:-//NEPPA - ECPv6.15.20//NONSGML v1.0//EN
CALSCALE:GREGORIAN
METHOD:PUBLISH
X-WR-CALNAME:NEPPA
X-ORIGINAL-URL:https://neppa.org
X-WR-CALDESC:Events for NEPPA
REFRESH-INTERVAL;VALUE=DURATION:PT1H
X-Robots-Tag:noindex
X-PUBLISHED-TTL:PT1H
BEGIN:VTIMEZONE
TZID:America/New_York
BEGIN:DAYLIGHT
TZOFFSETFROM:-0500
TZOFFSETTO:-0400
TZNAME:EDT
DTSTART:20200308T070000
END:DAYLIGHT
BEGIN:STANDARD
TZOFFSETFROM:-0400
TZOFFSETTO:-0500
TZNAME:EST
DTSTART:20201101T060000
END:STANDARD
BEGIN:DAYLIGHT
TZOFFSETFROM:-0500
TZOFFSETTO:-0400
TZNAME:EDT
DTSTART:20210314T070000
END:DAYLIGHT
BEGIN:STANDARD
TZOFFSETFROM:-0400
TZOFFSETTO:-0500
TZNAME:EST
DTSTART:20211107T060000
END:STANDARD
BEGIN:DAYLIGHT
TZOFFSETFROM:-0500
TZOFFSETTO:-0400
TZNAME:EDT
DTSTART:20220313T070000
END:DAYLIGHT
BEGIN:STANDARD
TZOFFSETFROM:-0400
TZOFFSETTO:-0500
TZNAME:EST
DTSTART:20221106T060000
END:STANDARD
END:VTIMEZONE
BEGIN:VEVENT
DTSTART;TZID=America/New_York:20210721T090000
DTEND;TZID=America/New_York:20210721T110000
DTSTAMP:20260422T031040
CREATED:20210701T155113Z
LAST-MODIFIED:20210701T155307Z
UID:10000008-1626858000-1626865200@neppa.org
SUMMARY:What's Next? Wood Pole Preservatives Informational Seminar
DESCRIPTION:Each year\, Holyoke Gas & Electric Department negotiates a wood poles contract on behalf of NEPPA members and would like to get a consensus from members to standardize wood pole treatments for next year’s bid. \n As you probably know\, the Pentachlorophenol wood preservative will no longer be available for use in treating wood poles after this year.  This virtual session is an opportunity to discuss available treatment options including the pros/cons of each from two major wood pole suppliers\, Stella Jones and Koppers. \n Following the session\, NEPPA will initiate a survey to members to measure consensus for a standard treatment option based on the information provided. \n			\n			\n				\n				\n				\n				\n				\n				\n				\n				\n				\n				\n			\n			\n				\n				\n				\n				\n			\n				\n				\n				\n				\n				\n				\n				\n				\n				\n				\n				AGENDA\nAgenda details are subject to change \n9:00 am       Introduction \nPresentation and Q&Aby Tom Greene\, Stella Jones \n10:00 am \nPresentation and Q&Aby Michelle Griffin\, Koppers \n10:45 am    Members Only:  Q&A and Discussion \n11:00 am     Adjourn \n			\n				\n				\n				\n				\n				REGISTRATION\nParticipation in this informational seminar is free\, however advance registration is required.   Please click below to register directly on Zoom and receive your unique login credentials. \n			\n			\n				\n				\n				\n				\n			\n				\n				\n				\n				\n				\n				\n				REGISTER NOW\n			\n				\n				\n				\n				\n				QUESTIONS?\nPlease contact training@neppa.org or call the office at (978) 540-2200.
URL:https://neppa.org/event/wood-pole-preservatives/
LOCATION:Virtual
CATEGORIES:Roundtables
ATTACH;FMTTYPE=image/png:https://neppa.org/wp-content/uploads/2021/07/2021-Wood-Pole-Preservatives-Informational-Session-Banner.png
END:VEVENT
END:VCALENDAR