BEGIN:VCALENDAR
VERSION:2.0
PRODID:-//NEPPA - ECPv6.15.20//NONSGML v1.0//EN
CALSCALE:GREGORIAN
METHOD:PUBLISH
X-WR-CALNAME:NEPPA
X-ORIGINAL-URL:https://neppa.org
X-WR-CALDESC:Events for NEPPA
REFRESH-INTERVAL;VALUE=DURATION:PT1H
X-Robots-Tag:noindex
X-PUBLISHED-TTL:PT1H
BEGIN:VTIMEZONE
TZID:America/New_York
BEGIN:DAYLIGHT
TZOFFSETFROM:-0500
TZOFFSETTO:-0400
TZNAME:EDT
DTSTART:20210314T070000
END:DAYLIGHT
BEGIN:STANDARD
TZOFFSETFROM:-0400
TZOFFSETTO:-0500
TZNAME:EST
DTSTART:20211107T060000
END:STANDARD
BEGIN:DAYLIGHT
TZOFFSETFROM:-0500
TZOFFSETTO:-0400
TZNAME:EDT
DTSTART:20220313T070000
END:DAYLIGHT
BEGIN:STANDARD
TZOFFSETFROM:-0400
TZOFFSETTO:-0500
TZNAME:EST
DTSTART:20221106T060000
END:STANDARD
BEGIN:DAYLIGHT
TZOFFSETFROM:-0500
TZOFFSETTO:-0400
TZNAME:EDT
DTSTART:20230312T070000
END:DAYLIGHT
BEGIN:STANDARD
TZOFFSETFROM:-0400
TZOFFSETTO:-0500
TZNAME:EST
DTSTART:20231105T060000
END:STANDARD
END:VTIMEZONE
BEGIN:VEVENT
DTSTART;TZID=America/New_York:20220215T100000
DTEND;TZID=America/New_York:20220215T113000
DTSTAMP:20260421T171419
CREATED:20220201T171831Z
LAST-MODIFIED:20220201T173845Z
UID:10000148-1644919200-1644924600@neppa.org
SUMMARY:Federal Funding 101
DESCRIPTION:Last year’s Bipartisan Infrastructure Law opened up significant new funding for grid modernization\, reliability upgrades\, and energy innovation.  NEPPA is committed to assisting members in bringing new investment to our members in the New England region\, including offering alerts about federal funding opportunities and regional advocacy. \nAs part of our focus on grants\, NEPPA is offering a 90-minute webinar – “Federal Funding 101” – to assist members in understanding the new law\, key mindsets to adopt when thinking about funding projects with federal dollars\, and the process of writing a federal grant application.  \nThe webinar will be presented by our DC consultants at Meguire Whitney and offer insights and strategies for securing federal grants. \n  \nWhat: Federal Funding 101 \nWhen: February 15\, 2022 10:00am \nWho: NEPPA members only \nWhere: Online at https://us02web.zoom.us/j/84259459955 \n Advance registration is required.  We hope you will join us for this informative session! \n  \n  \n 
URL:https://neppa.org/event/federal-funding-101-2/
LOCATION:Webinar
ATTACH;FMTTYPE=image/png:https://neppa.org/wp-content/uploads/2022/02/Federal-Funding-L-1.png
END:VEVENT
END:VCALENDAR