BEGIN:VCALENDAR
VERSION:2.0
PRODID:-//NEPPA - ECPv6.15.20//NONSGML v1.0//EN
CALSCALE:GREGORIAN
METHOD:PUBLISH
X-ORIGINAL-URL:https://neppa.org
X-WR-CALDESC:Events for NEPPA
REFRESH-INTERVAL;VALUE=DURATION:PT1H
X-Robots-Tag:noindex
X-PUBLISHED-TTL:PT1H
BEGIN:VTIMEZONE
TZID:America/New_York
BEGIN:DAYLIGHT
TZOFFSETFROM:-0500
TZOFFSETTO:-0400
TZNAME:EDT
DTSTART:20210314T070000
END:DAYLIGHT
BEGIN:STANDARD
TZOFFSETFROM:-0400
TZOFFSETTO:-0500
TZNAME:EST
DTSTART:20211107T060000
END:STANDARD
BEGIN:DAYLIGHT
TZOFFSETFROM:-0500
TZOFFSETTO:-0400
TZNAME:EDT
DTSTART:20220313T070000
END:DAYLIGHT
BEGIN:STANDARD
TZOFFSETFROM:-0400
TZOFFSETTO:-0500
TZNAME:EST
DTSTART:20221106T060000
END:STANDARD
BEGIN:DAYLIGHT
TZOFFSETFROM:-0500
TZOFFSETTO:-0400
TZNAME:EDT
DTSTART:20230312T070000
END:DAYLIGHT
BEGIN:STANDARD
TZOFFSETFROM:-0400
TZOFFSETTO:-0500
TZNAME:EST
DTSTART:20231105T060000
END:STANDARD
END:VTIMEZONE
BEGIN:VEVENT
DTSTART;TZID=America/New_York:20220907T080000
DTEND;TZID=America/New_York:20220907T120000
DTSTAMP:20260421T064050
CREATED:20220228T162417Z
LAST-MODIFIED:20220228T174617Z
UID:10000166-1662537600-1662552000@neppa.org
SUMMARY:Hoisting 1B - 1D
DESCRIPTION:NEPPA offers hoisting Continuing Education and Test Prep classes for: \n> Hoisting 1B-1D: hoisting machines\, i.e. cranes and bucket trucks\n> Hoisting 2A-2C: digging machines\, i.e. excavators and backhoes \nPer mandated requirement\, all classes are scheduled for 4 hours. These classes are for both\, continuing education (to renew the license) and the test prep (to prepare for the test to receive a brand-new license). \nONLY test prep attendees are NOT required to attend the full 4 hours of class. \nStudents attending classes for continuing education will need to bring their hoisting license for verification and will receive a certificate of completion at the end of each class. If the hoisting license is not brought to class for verification\, or if the license has been expired for more than a year\, the certificate will not be issued. In this case\, you will have to take the test again. Those who attend for the test prep will receive information to study for the test. \n			\n				\n				\n				\n				\n				Class Schedule*\nHoisting classes are scheduled to be held quarterly at the NEPPA Training Center\, however dates are subject to change and may be cancelled if there is lack of interest. \nHoisting Training is also offered @Your-Site. Please indicate your preference on the registration form. \n1B-1D Hoisting Class – (8:00 am – Noon) \nMarch 8\, 2022June 8\, 2022September 7\, 2022November 29\, 2022 \n2A-2C Hoisting Class – (8:00 am – Noon) \nMarch 15\, 2022June 9\, 2022September 8\, 2022December 6\, 2022 \n* To request a 2D Hoisting Class\, contact NEPPA at (978) 540-2200. \n			\n				\n				\n				\n				\n				Location NEPPA Training Center200 New Estate Road Littleton\, MA 01460\n\n			\n				\n				\n				\n				\n				Registration FeesRegistration fees include coffee as well as a Certificate of Completion.\n\n\n\nMembers:\n$70\n\n\nNon-Members:\n$140\n\n\n\n			\n				\n				\n				\n				\n				If you are looking to hold Hoisting Training @Your-Site\, please be sure to select “1B-1D Hoisting: @Your-Site” or “2A-2C Hoisting: @Your-Site” on the registration form.  \nClasses scheduled @Your-Site are subject to the same per person and minimum class size as other 3-hour @Your-Site Training Sessions: \n          NEPPA Members (Utility & Affiliate) \n$70 perperson\, minimum $600 (i.e. 9 participants) \nNon-Members \n$140 per person\, minimum $1\,200 (i.e. 9 participants) \n			\n			\n				\n				\n				\n				\n			\n				\n				\n				\n				\n				\n				\n				Register Now\n			\n				\n				\n				\n				\n				Instructors  \n			\n			\n				\n				\n				\n				\n			\n				\n				\n				\n				\n				\n				\n				\n				\n				\n				\n				\n				\n					Dan Flynn\n					Safety & Technical Trainer \n					Dan Flynn has been a safety trainer with Northeast Public Power Association\, since September 2018 after retiring from Wakefield Municipal Gas and Light Dept with more than a 40 year career in public power. \nDan started in the electric meter department in the 1970’s and worked his way through the electric line department as a lineman/line foremen and his last position as the electric department superintendent.  Some of Dan’s responsibilities covered construction\, maintenance\, and safety of the electric line division.  Dan continues to maintain his  1B/2A Mass. hoisting license and a Mass. Class A Driving license. \nDan is a lifelong resident of Wakefield\, MA where he lives with his wife Alayne of 39 years they have two adult children. \nHe says “It is a privilege  to continue to be involved with the public power industry in New England to give back any knowledge I’ve acquired over these many years.”\n					\n				\n			\n				\n				\n				\n				\n				Lodging\nLodging is not included in your registration fees and must be arranged directly with the hotel. If you need overnight accommodations\, please contact any of the following hotels directly and be sure to mention you’re with NEPPA (or the appropriate code/account number) to receive the negotiated rate: \nCourtyard by Marriott Littleton – $137/night + tax102 Constitution AvenueLittleton\, MA 01460(978) 440-5040 – If calling to make your reservation\, be sure to mention either NEPPA or Northeast Public Power \nBoxboro Regency Hotel & Conference Center – $89/night + tax242 Adams PlaceBoxboro\, MA 01719(978) 263-8701 \nThe Westford Regency Inn & Conference CenterJanuary 1 – March 31\, 2022 – $99/night + taxApril 1 – October 31\, 2022 – $119/night + taxNovember 1 – December 31\, 2022 – $99/night + tax219 Littleton RoadWestford\, MA 01886(978) 692-8200 \nSpringHill Suites Devens Common Center – $129/night + tax27 Andrews ParkwayDevens\, MA 01434(978) 772-3030 \nHilton Garden Inn Devens – $129/night + tax59 Andrews ParkwayDevens\, MA 01434(978) 772-0600 \n \n			\n			\n				\n				\n				\n				\n			\n				\n				\n				\n				\n				\n				\n				\n				\n				\n				\n				Questions? Please contact training@neppa.org or call the office at (978) 540-2200.
URL:https://neppa.org/event/hoisting-1b-1d-2/2022-09-07/
LOCATION:NEPPA Training Center\, 200 New Estate Rd\, Littleton\, MA\, 01460\, United States
CATEGORIES:Hoisting
ATTACH;FMTTYPE=image/png:https://neppa.org/wp-content/uploads/2022/02/Hoisting-1B-1C_-2A-2C-General-banner-1.png
END:VEVENT
BEGIN:VEVENT
DTSTART;TZID=America/New_York:20220908T080000
DTEND;TZID=America/New_York:20220908T120000
DTSTAMP:20260421T064050
CREATED:20220228T174021Z
LAST-MODIFIED:20220228T180018Z
UID:10000170-1662624000-1662638400@neppa.org
SUMMARY:Hoisting 2A - 2C
DESCRIPTION:NEPPA offers hoisting Continuing Education and Test Prep classes for: \n> Hoisting 1B-1D: hoisting machines\, i.e. cranes and bucket trucks\n> Hoisting 2A-2C: digging machines\, i.e. excavators and backhoes \nPer mandated requirement\, all classes are scheduled for 4 hours. These classes are for both\, continuing education (to renew the license) and the test prep (to prepare for the test to receive a brand-new license). \nONLY test prep attendees are NOT required to attend the full 4 hours of class. \nStudents attending classes for continuing education will need to bring their hoisting license for verification and will receive a certificate of completion at the end of each class. If the hoisting license is not brought to class for verification\, or if the license has been expired for more than a year\, the certificate will not be issued. In this case\, you will have to take the test again. Those who attend for the test prep will receive information to study for the test. \n			\n				\n				\n				\n				\n				Class Schedule*\nHoisting classes are scheduled to be held quarterly at the NEPPA Training Center\, however dates are subject to change and may be cancelled if there is lack of interest. \nHoisting Training is also offered @Your-Site. Please indicate your preference on the registration form. \n1B-1D Hoisting Class – (8:00 am – Noon) \nMarch 8\, 2022\nJune 8\, 2022\nSeptember 7\, 2022\nNovember 29\, 2022 \n2A-2C Hoisting Class – (8:00 am – Noon) \nMarch 15\, 2022\nJune 9\, 2022\nSeptember 8\, 2022\nDecember 6\, 2022 \n* To request a 2D Hoisting Class\, contact NEPPA at (978) 540-2200. \n			\n				\n				\n				\n				\n				Location\nNEPPA Training Center\n200 New Estate Road\nLittleton\, MA 01460\n			\n				\n				\n				\n				\n				Registration FeesRegistration fees include coffee as well as a Certificate of Completion.\n\n\n\nMembers:\n$70\n\n\nNon-Members:\n$140\n\n\n\n			\n				\n				\n				\n				\n				If you are looking to hold Hoisting Training @Your-Site\, please be sure to select “1B-1D Hoisting: @Your-Site” or “2A-2C Hoisting: @Your-Site” on the registration form.  \nClasses scheduled @Your-Site are subject to the same per person and minimum class size as other 3-hour @Your-Site Training Sessions: \nNEPPA Members (Utility & Affiliate)$70 perperson\, minimum $600 (i.e. 9 participants) \nNon-Members$140 per person\, minimum $1\,200 (i.e. 9 participants) \n			\n			\n				\n				\n				\n				\n			\n				\n				\n				\n				\n				\n				\n				Register Now\n			\n				\n				\n				\n				\n				Instructors \n			\n			\n				\n				\n				\n				\n			\n				\n				\n				\n				\n				\n				\n				\n				\n				\n				\n				\n				\n					Dan Flynn\n					Safety & Technical Trainer \n					Dan Flynn has been a safety trainer with Northeast Public Power Association\, since September 2018 after retiring from Wakefield Municipal Gas and Light Dept with more than a 40 year career in public power. \nDan started in the electric meter department in the 1970’s and worked his way through the electric line department as a lineman/line foremen and his last position as the electric department superintendent. Some of Dan’s responsibilities covered construction\, maintenance\, and safety of the electric line division. Dan continues to maintain his 1B/2A Mass. hoisting license and a Mass. Class A Driving license. \nDan is a lifelong resident of Wakefield\, MA where he lives with his wife Alayne of 39 years they have two adult children. \nHe says “It is a privilege to continue to be involved with the public power industry in New England to give back any knowledge I’ve acquired over these many years.”\n					\n				\n			\n				\n				\n				\n				\n				\nLodging\nLodging is not included in your registration fees and must be arranged directly with the hotel. If you need overnight accommodations\, please contact any of the following hotels directly and be sure to mention you’re with NEPPA (or the appropriate code/account number) to receive the negotiated rate: \nCourtyard by Marriott Littleton – $137/night + tax\n102 Constitution Avenue\nLittleton\, MA 01460\n(978) 440-5040 – If calling to make your reservation\, be sure to mention either NEPPA or Northeast Public Power\n \nBoxboro Regency Hotel & Conference Center – $89/night + tax\n242 Adams Place\nBoxboro\, MA 01719\n(978) 263-8701 \nThe Westford Regency Inn & Conference Center\nJanuary 1 – March 31\, 2022 – $99/night + tax\nApril 1 – October 31\, 2022 – $119/night + tax\nNovember 1 – December 31\, 2022 – $99/night + tax\n219 Littleton Road\nWestford\, MA 01886\n(978) 692-8200\n \nSpringHill Suites Devens Common Center – $129/night + tax\n27 Andrews Parkway\nDevens\, MA 01434\n(978) 772-3030\n \nHilton Garden Inn Devens – $129/night + tax\n59 Andrews Parkway\nDevens\, MA 01434\n(978) 772-0600\n \n \n			\n			\n				\n				\n				\n				\n			\n				\n				\n				\n				\n				\n				\n				\n				\n				\n				\n				Questions?\nPlease contact training@neppa.org or call the office at (978) 540-2200.
URL:https://neppa.org/event/hoisting-2a-2c/2022-09-08/
LOCATION:NEPPA Training Center\, 200 New Estate Rd\, Littleton\, MA\, 01460\, United States
CATEGORIES:Hoisting
ATTACH;FMTTYPE=image/png:https://neppa.org/wp-content/uploads/2022/02/Hoisting-1B-1C_-2A-2C-General-banner-1.png
END:VEVENT
BEGIN:VEVENT
DTSTART;TZID=America/New_York:20220908T083000
DTEND;TZID=America/New_York:20220908T130000
DTSTAMP:20260421T064050
CREATED:20220826T135001Z
LAST-MODIFIED:20220829T123819Z
UID:10000176-1662625800-1662642000@neppa.org
SUMMARY:General Foreman Roundtable
DESCRIPTION:NEPPA will be holding a Kick-off General Foreman’s Roundtable on Thursday\, September 8\, 2022 at the NEPPA Training Center (200 New Estate Road\, Littleton\, MA 01460). \nWe’d love your support as we want to bring together the Journeyman lineman that are leading your utility operations. The final agenda is yet not approved however some of the topics will include identification of the difficulty of transitioning into a leadership position; the NEPPA Underground Training Yard construction and utilization; and the need and implementation of a climbing school for all new apprentices. \n \nIt will certainly be worth your efforts to attend the roundtable.  \n			\n				Register Now
URL:https://neppa.org/event/gf-roundtable/
LOCATION:NEPPA Training Center\, 200 New Estate Rd\, Littleton\, MA\, 01460\, United States
CATEGORIES:Roundtables
ATTACH;FMTTYPE=image/png:https://neppa.org/wp-content/uploads/2022/08/2022-GF-RDT-1-2-1.png
END:VEVENT
BEGIN:VEVENT
DTSTART;TZID=America/New_York:20220913T080000
DTEND;TZID=America/New_York:20220916T140000
DTSTAMP:20260421T064050
CREATED:20211022T164117Z
LAST-MODIFIED:20211022T172425Z
UID:10000022-1663056000-1663336800@neppa.org
SUMMARY:Apprentice Lineworker Program - Year 1
DESCRIPTION:NEPPA has adopted the four-year curriculum of the Northwest Lineman College’s Lineworker Certification Program and combines hands-on and formal classroom training.  Students attend class four times a year for four days each to complete the four-year program. \nIn addition to classroom time\, students are expected to: \nSelf-study by reading the material \nTrack\, record\, and submit monthly apprenticeship reports of on-the-job training \nTrack\, record and submit quarterly “competency” forms \nEach year\, students participate in an additional two-day Skills Assessment Rodeo each year. The Apprentice Rodeo is designed to showcase the apprentices’ developing technical and climbing skills\, and to reinforce the program’s focus on professionalism\, safety\, and proper technique. \nAttendance Policy \nStudents are required to attend all 16-days of the in-class program as well as the two-day Skills Assessment Rodeo.  Any student unable to attend their regularly scheduled class or the Skills Assessment Rodeo is required to make-up the time\, training\, and competencies covered during those class days. To progress into the next year or to complete the Program\, all students must complete the full program requirements. \n  \n  \nQuestions? Please contact training@neppa.org or call (978) 540-2200.
URL:https://neppa.org/event/apprentice-lineworker-program-year-1-2/2022-09-13/
LOCATION:NEPPA Training Center\, 200 New Estate Rd\, Littleton\, MA\, 01460\, United States
CATEGORIES:Apprentice Lineworker Program
ATTACH;FMTTYPE=image/png:https://neppa.org/wp-content/uploads/2021/10/2022-App-LW-Event-Banner.png
END:VEVENT
BEGIN:VEVENT
DTSTART;TZID=America/New_York:20220913T140000
DTEND;TZID=America/New_York:20220913T153000
DTSTAMP:20260421T064050
CREATED:20220823T141547Z
LAST-MODIFIED:20220824T164345Z
UID:10000173-1663077600-1663083000@neppa.org
SUMMARY:Tactical Tuesday! IIJA and IRA Federal Grants Update
DESCRIPTION:IIJA and IRA Federal Grants Update \n			\n				\n				\n				\n				\n				Learn about the status of various grant programs created by the Infrastructure Investment and Jobs Act and the recently-passed Inflation Reduction Act\, including how to stay on top of opportunities and design competitive projects. \nPresenter:  McGuire Whitney \n			\n				Register Now
URL:https://neppa.org/event/tactical-tuesday-2/
LOCATION:Virtually
CATEGORIES:Tactical Tuesday
ATTACH;FMTTYPE=image/png:https://neppa.org/wp-content/uploads/2022/08/Tactical-Tuesday-Cal-1.png
END:VEVENT
BEGIN:VEVENT
DTSTART;TZID=America/New_York:20220919T080000
DTEND;TZID=America/New_York:20220920T150000
DTSTAMP:20260421T064050
CREATED:20220825T154230Z
LAST-MODIFIED:20220825T154835Z
UID:10000175-1663574400-1663686000@neppa.org
SUMMARY:2022 Customer Service\, Credit & Collections Conference
DESCRIPTION:Click here for more information \n			\n				Register Now
URL:https://neppa.org/event/2022-customer-service-credit-collections-conference/
LOCATION:Doubletree by Hilton Manchester Downtown\, 700 Elm Street\, Manchester\, NH\, 03101\, United States
CATEGORIES:Customer Service
ATTACH;FMTTYPE=image/png:https://neppa.org/wp-content/uploads/2022/08/2022-CS-banner-II-1.png
END:VEVENT
BEGIN:VEVENT
DTSTART;TZID=America/New_York:20220927T080000
DTEND;TZID=America/New_York:20220930T140000
DTSTAMP:20260421T064050
CREATED:20211022T164304Z
LAST-MODIFIED:20211022T172520Z
UID:10000030-1664265600-1664546400@neppa.org
SUMMARY:Apprentice Lineworker Program - Year 2
DESCRIPTION:NEPPA has adopted the four-year curriculum of the Northwest Lineman College’s Lineworker Certification Program and combines hands-on and formal classroom training.  Students attend class four times a year for four days each to complete the four-year program. \nIn addition to classroom time\, students are expected to: \nSelf-study by reading the material \nTrack\, record\, and submit monthly apprenticeship reports of on-the-job training \nTrack\, record and submit quarterly “competency” forms \nEach year\, students participate in an additional two-day Skills Assessment Rodeo each year. The Apprentice Rodeo is designed to showcase the apprentices’ developing technical and climbing skills\, and to reinforce the program’s focus on professionalism\, safety\, and proper technique. \nAttendance Policy \nStudents are required to attend all 16-days of the in-class program as well as the two-day Skills Assessment Rodeo.  Any student unable to attend their regularly scheduled class or the Skills Assessment Rodeo is required to make-up the time\, training\, and competencies covered during those class days. To progress into the next year or to complete the Program\, all students must complete the full program requirements. \n  \n  \nQuestions? Please contact training@neppa.org or call (978) 540-2200.
URL:https://neppa.org/event/apprentice-lineworker-program-year-2-2/2022-09-27/
LOCATION:NEPPA Training Center\, 200 New Estate Rd\, Littleton\, MA\, 01460\, United States
CATEGORIES:Apprentice Lineworker Program
ATTACH;FMTTYPE=image/png:https://neppa.org/wp-content/uploads/2021/10/2022-App-LW-Event-Banner.png
END:VEVENT
END:VCALENDAR