BEGIN:VCALENDAR
VERSION:2.0
PRODID:-//NEPPA - ECPv6.15.20//NONSGML v1.0//EN
CALSCALE:GREGORIAN
METHOD:PUBLISH
X-WR-CALNAME:NEPPA
X-ORIGINAL-URL:https://neppa.org
X-WR-CALDESC:Events for NEPPA
REFRESH-INTERVAL;VALUE=DURATION:PT1H
X-Robots-Tag:noindex
X-PUBLISHED-TTL:PT1H
BEGIN:VTIMEZONE
TZID:America/New_York
BEGIN:DAYLIGHT
TZOFFSETFROM:-0500
TZOFFSETTO:-0400
TZNAME:EDT
DTSTART:20210314T070000
END:DAYLIGHT
BEGIN:STANDARD
TZOFFSETFROM:-0400
TZOFFSETTO:-0500
TZNAME:EST
DTSTART:20211107T060000
END:STANDARD
BEGIN:DAYLIGHT
TZOFFSETFROM:-0500
TZOFFSETTO:-0400
TZNAME:EDT
DTSTART:20220313T070000
END:DAYLIGHT
BEGIN:STANDARD
TZOFFSETFROM:-0400
TZOFFSETTO:-0500
TZNAME:EST
DTSTART:20221106T060000
END:STANDARD
BEGIN:DAYLIGHT
TZOFFSETFROM:-0500
TZOFFSETTO:-0400
TZNAME:EDT
DTSTART:20230312T070000
END:DAYLIGHT
BEGIN:STANDARD
TZOFFSETFROM:-0400
TZOFFSETTO:-0500
TZNAME:EST
DTSTART:20231105T060000
END:STANDARD
END:VTIMEZONE
BEGIN:VEVENT
DTSTART;TZID=America/New_York:20221101T080000
DTEND;TZID=America/New_York:20221104T140000
DTSTAMP:20260421T040041
CREATED:20211022T164117Z
LAST-MODIFIED:20211022T172425Z
UID:10000023-1667289600-1667570400@neppa.org
SUMMARY:Apprentice Lineworker Program - Year 1
DESCRIPTION:NEPPA has adopted the four-year curriculum of the Northwest Lineman College’s Lineworker Certification Program and combines hands-on and formal classroom training.  Students attend class four times a year for four days each to complete the four-year program. \nIn addition to classroom time\, students are expected to: \nSelf-study by reading the material \nTrack\, record\, and submit monthly apprenticeship reports of on-the-job training \nTrack\, record and submit quarterly “competency” forms \nEach year\, students participate in an additional two-day Skills Assessment Rodeo each year. The Apprentice Rodeo is designed to showcase the apprentices’ developing technical and climbing skills\, and to reinforce the program’s focus on professionalism\, safety\, and proper technique. \nAttendance Policy \nStudents are required to attend all 16-days of the in-class program as well as the two-day Skills Assessment Rodeo.  Any student unable to attend their regularly scheduled class or the Skills Assessment Rodeo is required to make-up the time\, training\, and competencies covered during those class days. To progress into the next year or to complete the Program\, all students must complete the full program requirements. \n  \n  \nQuestions? Please contact training@neppa.org or call (978) 540-2200.
URL:https://neppa.org/event/apprentice-lineworker-program-year-1-2/2022-11-01/
LOCATION:NEPPA Training Center\, 200 New Estate Rd\, Littleton\, MA\, 01460\, United States
CATEGORIES:Apprentice Lineworker Program
ATTACH;FMTTYPE=image/png:https://neppa.org/wp-content/uploads/2021/10/2022-App-LW-Event-Banner.png
END:VEVENT
BEGIN:VEVENT
DTSTART;TZID=America/New_York:20221101T080000
DTEND;TZID=America/New_York:20221104T140000
DTSTAMP:20260421T040041
CREATED:20220829T172348Z
LAST-MODIFIED:20230214T003809Z
UID:10000182-1667289600-1667570400@neppa.org
SUMMARY:2022 Metering II Program
DESCRIPTION:NEPPA’s Metering II Program is designed to build upon the introductory concepts of Metering I. Metering II explores advanced application of concepts\, how to apply theory in practice and understand system design elements and equipment. \nUpon successful completion of the Program\, including a final exam\, students are awarded a Certificate of Completion. \n			\n				\n				\n				\n				\n				Click here to download the detailed agenda.\n			\n				\n				\n				\n				\n				WHO SHOULD ATTEND\nThis course is designed for: \n\nIntermediate or transitioning Meter Technicians\nLineworkers\nSupervisors or Managers transitioning from other departments\n\n\nLEARNING OBJECTIVES\nUpon completion of the program\, participants will be able to successfully: \n\nDemonstrate a foundational knowledge of how electricity is measured through meters.\nPractice advanced applications of meter installations and measurements.\nApply advanced programming\, testing and design concepts to real-world applications.\nDevelop a system design that demonstrates a deep understanding of the system’s configuration.\nRecognize applicable standards and specifications such as the National Electrical Safety Code (NESC).\nDemonstrate an understanding of meter multipliers.\nTest the impacts of metering on billing and revenue protection.\n\n			\n				\n				\n				\n				\n				COURSE PREREQUISITES\nStudents are expected to have completed NEPPA’s Basic Electricity and Mathematics for Utility Operations and Metering I programs\, and/or demonstrate a solid understanding of basic electricity concepts\, theory and mathematics through prequalification testing. \nTESTING\nThis Program includes a Final Exam to demonstrate comprehension of the material (25 Questions). \n			\n				\n				\n				\n				\n				SUPPLEMENTAL MATERIALS *\nIn addition to the student binder with module printouts\, students are provided with the following supplemental materials: \n\nProgram T-Shirt\nCalculator\nMeter Socket Checks Handbook\nPocket Guide to Watthour Meters\n\n* Materials will be provided for participants who have not already received equipment in other programs. \n			\n				\n				\n				\n				\n				COURSE DATES & LOCATION\nMetering II will be held November 1 – 3\, 2022 in-person at NEPPA’s Training Center: \nNEPPA Training Center200 New Estate RoadLittleton\, MA 01460 \n			\n				\n				\n				\n				\n				REGISTRATION\nRegistration fees include supplemental materials\, a program t-shirt\, printed student materials and lunch each day. \nMembers: $1\,350 \nNon-Members: $2\,100 \nTo register\, please click the button below and complete your registration online. \n\n			\n				REGISTER NOW\n			\n			\n				\n				\n				\n				\n			\n				\n				\n				\n				\n				\n				\n				\n				\n				\n				\n				Click here to download the detailed agenda.\n			\n			\n				\n				\n				\n				\n			\n				\n				\n				\n				\n				\n				\n				\n				\n				\n				\n				QUESTIONS?\nPlease contact training@neppa.org or call the office at (978) 540-2200.
URL:https://neppa.org/event/2022-metering-ii-program/
LOCATION:NEPPA Training Center\, 200 New Estate Rd\, Littleton\, MA\, 01460\, United States
CATEGORIES:Metering II Program
ATTACH;FMTTYPE=image/png:https://neppa.org/wp-content/uploads/2021/03/2021-Metering-II-Banner.png
END:VEVENT
BEGIN:VEVENT
DTSTART;TZID=America/New_York:20221101T083000
DTEND;TZID=America/New_York:20221101T103000
DTSTAMP:20260421T040041
CREATED:20221020T135747Z
LAST-MODIFIED:20221020T205313Z
UID:10000091-1667291400-1667298600@neppa.org
SUMMARY:@Your-Site Virtual Training - Ergonomics
DESCRIPTION:November 1\, 2022 | Zoom Meeting (8:30 am – 10:30 am)\n			\n				\n				\n				\n				\n				At NEPPA\, we are committed to helping our members enhance their safety awareness and develop effective training and risk management programs to better prepare and protect their organizations and employees. As part of our commitment to our members to provide high-quality technical and safety training\, particularly in the shadows of COVID-19\, we are pleased to continue offering a new series of live\, instructor-led @Your-Site Virtual Training sessions.  Participants may register for either an individual session\, for the Spring/Fall Series (8 Session Each) or for the full 2022 Series (16 Total Sessions): \n			\n				\n				\n				\n				\n				\n\n\n@Your-Site Virtual\nPer Session\nSpring Series (8 Sessions)\nFall Series (8 Sessions)\n2022 Series (16 Total Sessions)\n\n\nNEPPA Members\n$50 per person\n$380 per person\n$380 per person\n$740 per person\n\n\nNon-Members\n$100 per person\n$770 per person\n$770 per person\n$1\,540 per person\n\n\n\n			\n				\n				\n				\n				\n				@Your-Site: Virtual – Session Schedule & Length All sessions will be recorded and made available to any registrants unable to participate at the time of the training. Sessions are scheduled for 90-minutes which includes 15-minutes for Q&A. Recordings are available for 1-year after the date of broadcast. \n\n			\n				\n				\n				\n				\n				To register up to 5 participants\, please click the button below to complete the form. To process a bulk registration of more than 5\, please email training@neppa.org. \nOnce NEPPA receives and processes your registration\, participants will receive an auto-generated email with unique login credentials to access each of the individual the sessions. \n\n			\n				Register Now\n			\n			\n				\n				\n				\n				\n			\n				\n				\n				\n				\n				\n				\n				\n				\n				\n				\n				Contact training@neppa.org to ask any questions. \n			\n				\n				\n				\n				\n				Questions?  Please contact training@neppa.org or call the office at (978) 540-2200.
URL:https://neppa.org/event/your-site-ergonomics/
LOCATION:Virtually
CATEGORIES:@Your-Site Virtual
ATTACH;FMTTYPE=image/png:https://neppa.org/wp-content/uploads/2022/10/@Ergonomics-Nov-2022-1-3.png-AAA.png
END:VEVENT
BEGIN:VEVENT
DTSTART;TZID=America/New_York:20221108T080000
DTEND;TZID=America/New_York:20221109T160000
DTSTAMP:20260421T040041
CREATED:20220908T162030Z
LAST-MODIFIED:20220914T152253Z
UID:10000183-1667894400-1668009600@neppa.org
SUMMARY:Cost of Service Workshop:  Implementation and Application
DESCRIPTION:NEPPA has partnered with the American Public Power Association to bring a high caliber cost of service workshop:  Implementation and Application training. Participants will participate in a two-day training program. \nWho Should Attend\nThese courses are designed for: \n>General managers>Commissioners>Finance and accounting personnel>Rate analysts>Financial planners>Policymakers \n  \n			\n				\n				\n				\n				\n				Click here to download the detailed agenda. \n			\n				\n				\n				\n				\n				Course Overview (8:30 am – 4:00 pm\, November 8-9\, 2022)\nExplore the ins and outs of cost of service—from key concepts to the nuts and bolts of working through a cost of service model. Get hands-on experience working with an actual Excel model to apply cost of service and rate design principles and processes to electric\, water\, sewer\, gas\, and other municipal services. Complete the step-by-step process of putting a cost of service study together and review how to develop a fully functional and unbundled cost of service study. As you explore what it takes to do a thorough cost analysis\, gain lessons learned from real-world examples.This course does not have prerequisites\, nor does it require advance preparation. \nCourse Topics• Basic cost of service and pricing concepts\, terminology\, and processes• Collecting and using cost of service data and organizing costs• Allocating municipal facilities and expenses• Classifying generation\, transmission\, and distribution expenses• Categorizing generation types and primary cost components• Collecting and applying load research data• Developing and applying cost allocation factors• Gauging customer voltage levels• Apply cost allocation factors in a cost of service model• Determining monthly customer facilities and billing costs• Identifying bundled and unbundled primary cost components• Applying cost of service components to rate designs• Understanding the limitations of a traditional cost-of-service model \n			\n				\n				\n				\n				\n				Learning Outcomes\nUpon completion of this course\, participants will be able to successfully: \n• Explain the role of rates and cost of service studies\, define common terminology• Understand how to identify\, collect\, and organize costs• Explain how to functionalize utility assets and expenses• Outline how utility assets and expenses are classified• Develop and apply cost allocation factors\, and define how customer allocation factors are determined• Identify methods used to collect load research data\, and how to utilize utility load data to properly assign customer costs• Outline how to determine monthly customer facilities and billing costs\, and explain cost components of your utility• Describe bundled and unbundled primary cost components\, and specify cost components related to monthly customer charge• Understand how to implement rate adjustments based on cost of service study results• Utilize a functional cost of service model\, and summarize study results for end user\, Board\, Commission or Council• Understand the limitations of a traditional cost-of-service model \n			\n				\n				\n				\n				\n				2-Day Program (November 8 – 9\, 2022) \n\n\n\nMembers:\n$895\n\n\nNon-Members:\n$1\,625\n\n\n\n  \n			\n				Register Now\n			\n				\n				\n				\n				\n				Questions?  \nPlease contact training@neppa.org or call the office at (978) 540-2200.
URL:https://neppa.org/event/cost-of-service-workshop-implementation-and-application/
LOCATION:NEPPA Training Center\, 200 New Estate Rd\, Littleton\, MA\, 01460\, United States
ATTACH;FMTTYPE=image/png:https://neppa.org/wp-content/uploads/2022/09/COS-Implementation-Appl-Banner-1-5.png
END:VEVENT
BEGIN:VEVENT
DTSTART;TZID=America/New_York:20221108T140000
DTEND;TZID=America/New_York:20221108T153000
DTSTAMP:20260421T040041
CREATED:20221012T145130Z
LAST-MODIFIED:20221020T124542Z
UID:10000185-1667916000-1667921400@neppa.org
SUMMARY:Tactical Tuesday - Utility Reliability: Data Collection\, Benchmarking and the Outage Data Initiative (ODI)
DESCRIPTION:Utility Reliability: Data Collection\, Benchmarking and the Outage Data Initiative (ODI)\n			\n				\n				\n				\n				\n				\n			\n				\n				\n				\n				\n				This tactical Tuesday will provide an overview of reliability data benchmarking opportunities through statistics and touch on the work of the ODI for data collection during restoration. \n			\n				\n				\n				\n				\n				  \nPresenter:Scott Sternfeld\, Outage Data InitiativeMike Hyland\, NEPPA\n			\n				Register Now
URL:https://neppa.org/event/tactical-tuesday-4/
LOCATION:Virtually
CATEGORIES:Tactical Tuesday
ATTACH;FMTTYPE=image/png:https://neppa.org/wp-content/uploads/2022/08/Tactical-Tuesday-Cal-1.png
END:VEVENT
BEGIN:VEVENT
DTSTART;TZID=America/New_York:20221110T090000
DTEND;TZID=America/New_York:20221110T110000
DTSTAMP:20260421T040042
CREATED:20220222T155541Z
LAST-MODIFIED:20220222T155708Z
UID:10000159-1668070800-1668078000@neppa.org
SUMMARY:NEPPA Board of Directors Meeting
DESCRIPTION:Littleton\, MA \nFor more informtion please contact the NEPPA office at (978) 540-2200! \n  \n 
URL:https://neppa.org/event/neppa-board-of-directors-meeting-2/
LOCATION:MA
CATEGORIES:Board of Directors
ATTACH;FMTTYPE=image/png:https://neppa.org/wp-content/uploads/2022/02/NEPPA-BOD.png
END:VEVENT
BEGIN:VEVENT
DTSTART;TZID=America/New_York:20221115T080000
DTEND;TZID=America/New_York:20221118T140000
DTSTAMP:20260421T040042
CREATED:20211022T164304Z
LAST-MODIFIED:20211022T172520Z
UID:10000031-1668499200-1668780000@neppa.org
SUMMARY:Apprentice Lineworker Program - Year 2
DESCRIPTION:NEPPA has adopted the four-year curriculum of the Northwest Lineman College’s Lineworker Certification Program and combines hands-on and formal classroom training.  Students attend class four times a year for four days each to complete the four-year program. \nIn addition to classroom time\, students are expected to: \nSelf-study by reading the material \nTrack\, record\, and submit monthly apprenticeship reports of on-the-job training \nTrack\, record and submit quarterly “competency” forms \nEach year\, students participate in an additional two-day Skills Assessment Rodeo each year. The Apprentice Rodeo is designed to showcase the apprentices’ developing technical and climbing skills\, and to reinforce the program’s focus on professionalism\, safety\, and proper technique. \nAttendance Policy \nStudents are required to attend all 16-days of the in-class program as well as the two-day Skills Assessment Rodeo.  Any student unable to attend their regularly scheduled class or the Skills Assessment Rodeo is required to make-up the time\, training\, and competencies covered during those class days. To progress into the next year or to complete the Program\, all students must complete the full program requirements. \n  \n  \nQuestions? Please contact training@neppa.org or call (978) 540-2200.
URL:https://neppa.org/event/apprentice-lineworker-program-year-2-2/2022-11-15/
LOCATION:NEPPA Training Center\, 200 New Estate Rd\, Littleton\, MA\, 01460\, United States
CATEGORIES:Apprentice Lineworker Program
ATTACH;FMTTYPE=image/png:https://neppa.org/wp-content/uploads/2021/10/2022-App-LW-Event-Banner.png
END:VEVENT
BEGIN:VEVENT
DTSTART;TZID=America/New_York:20221115T080000
DTEND;TZID=America/New_York:20221118T140000
DTSTAMP:20260421T040042
CREATED:20220829T163058Z
LAST-MODIFIED:20230828T164035Z
UID:10000181-1668499200-1668780000@neppa.org
SUMMARY:2022 Substation II Program - Cancelled
DESCRIPTION:NEPPA is pleased to be offer Substation II Program.   \nSubstation II Program will continue to be held 4-days/week for 4 weeks/year. NEPPA’s Substation II Program is designed to build upon the foundations learned in the Substation I Program\, and focus on the principles of substation design\, construction\, operations and maintenance. \nIn addition to in-class lecture\, the Substation II Program incorporates hands-on application of concepts and testing\, field visits and tours of different installations\, and weekly testing including a final exam to demonstrate knowledge and comprehension of the course content. \nUpon successful completion of the Program\, students are awarded a Certificate of Completion. \n			\n				\n				\n				\n				\n				SESSION DATES & HOURS\nClasses are held Tuesday – Thursday from 8:00 am – 2:00 pm; and Fridays 8:00 am – 11:00 am. \nEach Friday of the session will consist of a virtual review of the week’s material and online testing. Students should plan to attend classes in-person at the Training Center Tuesday – Thursday\, and join the session(s) remotely on Friday. \nDates are subject to change however advance notice will be provided\, as needed. \nNEW DATES: \nSession I: October 4 -7\, 2022Session II: October 18 – 21\, 2022Session III: November 15 – 18\, 2022 – CXLSession IV: December 13 – 16\, 2022 – CXL \n			\n				\n				\n				\n				\n				REGISTRATION\nRegistration fees include coffee and lunch each day.  If you have any dietary restrictions or considerations\, please make note on your registration. \nMembers:             $2\,625 \nNon-Members:  $3\,900 \n			\n				REGISTER - Closed\n			\n			\n				\n				\n				\n				\n			\n				\n				\n				\n				\n				\n				\n			\n				\n				\n				\n				\n			\n				\n				\n				\n				\n				\n				\n			\n				\n				\n				\n				\n			\n				\n				\n				\n				\n				\n				\n				\n				\n				\n				\n				QUESTIONS?\nPlease contact training@neppa.org or call the office at (978) 540-2200.
URL:https://neppa.org/event/2022-substation-ii-program-4/
LOCATION:NEPPA Training Center\, 200 New Estate Rd\, Littleton\, MA\, 01460\, United States
CATEGORIES:Substation II Program
ATTACH;FMTTYPE=image/png:https://neppa.org/wp-content/uploads/2022/08/2022-Substation-II-banner-new-dates.png
END:VEVENT
BEGIN:VEVENT
DTSTART;TZID=America/New_York:20221122T083000
DTEND;TZID=America/New_York:20221122T103000
DTSTAMP:20260421T040042
CREATED:20221020T140548Z
LAST-MODIFIED:20221103T172204Z
UID:10000092-1669105800-1669113000@neppa.org
SUMMARY:@Your-Site Virtual Training - Circuit Breakers & Relays
DESCRIPTION:November 22\, 2022 | Zoom Meeting (8:30 am – 10:30 am)\n			\n				\n				\n				\n				\n				At NEPPA\, we are committed to helping our members enhance their safety awareness and develop effective training and risk management programs to better prepare and protect their organizations and employees. As part of our commitment to our members to provide high-quality technical and safety training\, particularly in the shadows of COVID-19\, we are pleased to continue offering a new series of live\, instructor-led @Your-Site Virtual Training sessions.  Participants may register for either an individual session\, for the Spring/Fall Series (8 Session Each) or for the full 2022 Series (16 Total Sessions): \n			\n				\n				\n				\n				\n				\n\n\n@Your-Site Virtual\nPer Session\nSpring Series (8 Sessions)\nFall Series (8 Sessions)\n2022 Series (16 Total Sessions)\n\n\nNEPPA Members\n$50 per person\n$380 per person\n$380 per person\n$740 per person\n\n\nNon-Members\n$100 per person\n$770 per person\n$770 per person\n$1\,540 per person\n\n\n\n			\n				\n				\n				\n				\n				@Your-Site: Virtual – Session Schedule & Length All sessions will be recorded and made available to any registrants unable to participate at the time of the training. Sessions are scheduled for 90-minutes which includes 15-minutes for Q&A. Recordings are available for 1-year after the date of broadcast. \n\n			\n				\n				\n				\n				\n				To register up to 5 participants\, please click the button below to complete the form. To process a bulk registration of more than 5\, please email training@neppa.org. \nOnce NEPPA receives and processes your registration\, participants will receive an auto-generated email with unique login credentials to access each of the individual the sessions. \n\n			\n				Register Now\n			\n			\n				\n				\n				\n				\n			\n				\n				\n				\n				\n				\n				\n				\n				\n				\n				\n				Contact training@neppa.org to ask any questions. \n			\n				\n				\n				\n				\n				Questions?  Please contact training@neppa.org or call the office at (978) 540-2200.
URL:https://neppa.org/event/your-service-virtual-circuit-breakers-relays/
LOCATION:Virtually
CATEGORIES:@Your-Site Virtual
ATTACH;FMTTYPE=image/png:https://neppa.org/wp-content/uploads/2022/10/@Circuit-Breakers-Nov-22-SQ.png
END:VEVENT
BEGIN:VEVENT
DTSTART;TZID=America/New_York:20221129T080000
DTEND;TZID=America/New_York:20221129T120000
DTSTAMP:20260421T040042
CREATED:20220228T162417Z
LAST-MODIFIED:20220228T174617Z
UID:10000167-1669708800-1669723200@neppa.org
SUMMARY:Hoisting 1B - 1D
DESCRIPTION:NEPPA offers hoisting Continuing Education and Test Prep classes for: \n> Hoisting 1B-1D: hoisting machines\, i.e. cranes and bucket trucks\n> Hoisting 2A-2C: digging machines\, i.e. excavators and backhoes \nPer mandated requirement\, all classes are scheduled for 4 hours. These classes are for both\, continuing education (to renew the license) and the test prep (to prepare for the test to receive a brand-new license). \nONLY test prep attendees are NOT required to attend the full 4 hours of class. \nStudents attending classes for continuing education will need to bring their hoisting license for verification and will receive a certificate of completion at the end of each class. If the hoisting license is not brought to class for verification\, or if the license has been expired for more than a year\, the certificate will not be issued. In this case\, you will have to take the test again. Those who attend for the test prep will receive information to study for the test. \n			\n				\n				\n				\n				\n				Class Schedule*\nHoisting classes are scheduled to be held quarterly at the NEPPA Training Center\, however dates are subject to change and may be cancelled if there is lack of interest. \nHoisting Training is also offered @Your-Site. Please indicate your preference on the registration form. \n1B-1D Hoisting Class – (8:00 am – Noon) \nMarch 8\, 2022June 8\, 2022September 7\, 2022November 29\, 2022 \n2A-2C Hoisting Class – (8:00 am – Noon) \nMarch 15\, 2022June 9\, 2022September 8\, 2022December 6\, 2022 \n* To request a 2D Hoisting Class\, contact NEPPA at (978) 540-2200. \n			\n				\n				\n				\n				\n				Location NEPPA Training Center200 New Estate Road Littleton\, MA 01460\n\n			\n				\n				\n				\n				\n				Registration FeesRegistration fees include coffee as well as a Certificate of Completion.\n\n\n\nMembers:\n$70\n\n\nNon-Members:\n$140\n\n\n\n			\n				\n				\n				\n				\n				If you are looking to hold Hoisting Training @Your-Site\, please be sure to select “1B-1D Hoisting: @Your-Site” or “2A-2C Hoisting: @Your-Site” on the registration form.  \nClasses scheduled @Your-Site are subject to the same per person and minimum class size as other 3-hour @Your-Site Training Sessions: \n          NEPPA Members (Utility & Affiliate) \n$70 perperson\, minimum $600 (i.e. 9 participants) \nNon-Members \n$140 per person\, minimum $1\,200 (i.e. 9 participants) \n			\n			\n				\n				\n				\n				\n			\n				\n				\n				\n				\n				\n				\n				Register Now\n			\n				\n				\n				\n				\n				Instructors  \n			\n			\n				\n				\n				\n				\n			\n				\n				\n				\n				\n				\n				\n				\n				\n				\n				\n				\n				\n					Dan Flynn\n					Safety & Technical Trainer \n					Dan Flynn has been a safety trainer with Northeast Public Power Association\, since September 2018 after retiring from Wakefield Municipal Gas and Light Dept with more than a 40 year career in public power. \nDan started in the electric meter department in the 1970’s and worked his way through the electric line department as a lineman/line foremen and his last position as the electric department superintendent.  Some of Dan’s responsibilities covered construction\, maintenance\, and safety of the electric line division.  Dan continues to maintain his  1B/2A Mass. hoisting license and a Mass. Class A Driving license. \nDan is a lifelong resident of Wakefield\, MA where he lives with his wife Alayne of 39 years they have two adult children. \nHe says “It is a privilege  to continue to be involved with the public power industry in New England to give back any knowledge I’ve acquired over these many years.”\n					\n				\n			\n				\n				\n				\n				\n				Lodging\nLodging is not included in your registration fees and must be arranged directly with the hotel. If you need overnight accommodations\, please contact any of the following hotels directly and be sure to mention you’re with NEPPA (or the appropriate code/account number) to receive the negotiated rate: \nCourtyard by Marriott Littleton – $137/night + tax102 Constitution AvenueLittleton\, MA 01460(978) 440-5040 – If calling to make your reservation\, be sure to mention either NEPPA or Northeast Public Power \nBoxboro Regency Hotel & Conference Center – $89/night + tax242 Adams PlaceBoxboro\, MA 01719(978) 263-8701 \nThe Westford Regency Inn & Conference CenterJanuary 1 – March 31\, 2022 – $99/night + taxApril 1 – October 31\, 2022 – $119/night + taxNovember 1 – December 31\, 2022 – $99/night + tax219 Littleton RoadWestford\, MA 01886(978) 692-8200 \nSpringHill Suites Devens Common Center – $129/night + tax27 Andrews ParkwayDevens\, MA 01434(978) 772-3030 \nHilton Garden Inn Devens – $129/night + tax59 Andrews ParkwayDevens\, MA 01434(978) 772-0600 \n \n			\n			\n				\n				\n				\n				\n			\n				\n				\n				\n				\n				\n				\n				\n				\n				\n				\n				Questions? Please contact training@neppa.org or call the office at (978) 540-2200.
URL:https://neppa.org/event/hoisting-1b-1d-2/2022-11-29/
LOCATION:NEPPA Training Center\, 200 New Estate Rd\, Littleton\, MA\, 01460\, United States
CATEGORIES:Hoisting
ATTACH;FMTTYPE=image/png:https://neppa.org/wp-content/uploads/2022/02/Hoisting-1B-1C_-2A-2C-General-banner-1.png
END:VEVENT
BEGIN:VEVENT
DTSTART;TZID=America/New_York:20221129T080000
DTEND;TZID=America/New_York:20221202T140000
DTSTAMP:20260421T040042
CREATED:20211022T164528Z
LAST-MODIFIED:20211022T172533Z
UID:10000039-1669708800-1669989600@neppa.org
SUMMARY:Apprentice Lineworker Program - Year 3
DESCRIPTION:NEPPA has adopted the four-year curriculum of the Northwest Lineman College’s Lineworker Certification Program and combines hands-on and formal classroom training.  Students attend class four times a year for four days each to complete the four-year program. \nIn addition to classroom time\, students are expected to: \nSelf-study by reading the material \nTrack\, record\, and submit monthly apprenticeship reports of on-the-job training \nTrack\, record and submit quarterly “competency” forms \nEach year\, students participate in an additional two-day Skills Assessment Rodeo each year. The Apprentice Rodeo is designed to showcase the apprentices’ developing technical and climbing skills\, and to reinforce the program’s focus on professionalism\, safety\, and proper technique. \nAttendance Policy \nStudents are required to attend all 16-days of the in-class program as well as the two-day Skills Assessment Rodeo.  Any student unable to attend their regularly scheduled class or the Skills Assessment Rodeo is required to make-up the time\, training\, and competencies covered during those class days. To progress into the next year or to complete the Program\, all students must complete the full program requirements. \n  \n  \nQuestions? Please contact training@neppa.org or call (978) 540-2200.
URL:https://neppa.org/event/apprentice-lineworker-program-year-3-2/2022-11-29/
LOCATION:NEPPA Training Center\, 200 New Estate Rd\, Littleton\, MA\, 01460\, United States
CATEGORIES:Apprentice Lineworker Program
ATTACH;FMTTYPE=image/png:https://neppa.org/wp-content/uploads/2021/10/2022-App-LW-Event-Banner.png
END:VEVENT
END:VCALENDAR