BEGIN:VCALENDAR
VERSION:2.0
PRODID:-//NEPPA - ECPv6.15.20//NONSGML v1.0//EN
CALSCALE:GREGORIAN
METHOD:PUBLISH
X-ORIGINAL-URL:https://neppa.org
X-WR-CALDESC:Events for NEPPA
REFRESH-INTERVAL;VALUE=DURATION:PT1H
X-Robots-Tag:noindex
X-PUBLISHED-TTL:PT1H
BEGIN:VTIMEZONE
TZID:America/New_York
BEGIN:DAYLIGHT
TZOFFSETFROM:-0500
TZOFFSETTO:-0400
TZNAME:EDT
DTSTART:20220313T070000
END:DAYLIGHT
BEGIN:STANDARD
TZOFFSETFROM:-0400
TZOFFSETTO:-0500
TZNAME:EST
DTSTART:20221106T060000
END:STANDARD
BEGIN:DAYLIGHT
TZOFFSETFROM:-0500
TZOFFSETTO:-0400
TZNAME:EDT
DTSTART:20230312T070000
END:DAYLIGHT
BEGIN:STANDARD
TZOFFSETFROM:-0400
TZOFFSETTO:-0500
TZNAME:EST
DTSTART:20231105T060000
END:STANDARD
BEGIN:DAYLIGHT
TZOFFSETFROM:-0500
TZOFFSETTO:-0400
TZNAME:EDT
DTSTART:20240310T070000
END:DAYLIGHT
BEGIN:STANDARD
TZOFFSETFROM:-0400
TZOFFSETTO:-0500
TZNAME:EST
DTSTART:20241103T060000
END:STANDARD
END:VTIMEZONE
BEGIN:VEVENT
DTSTART;TZID=America/New_York:20230110T140000
DTEND;TZID=America/New_York:20230110T153000
DTSTAMP:20260421T012224
CREATED:20221012T150729Z
LAST-MODIFIED:20230103T153956Z
UID:10000187-1673359200-1673364600@neppa.org
SUMMARY:Tactical Tuesday - The Inflation Reduction Act’s impact on evaluating energy storage
DESCRIPTION:The Inflation Reduction Act’s impact on evaluating energy storage  \n			\n				\n				\n				\n				\n				 Leveraging case studies\, Enovation will show the impact of IRA on storage capital costs and accessibility as well as how IRA rules specifically help public power\n			\n				\n				\n				\n				\n				  \nPresenter:  Terry Bickham\, Head of Product Management\, Enovation Analytics\n                       Martin Goldenblatt\, Enovation Analytics\n			\n				Register Now
URL:https://neppa.org/event/tactical-tuesday-6/
LOCATION:Virtually
CATEGORIES:Tactical Tuesday
ATTACH;FMTTYPE=image/png:https://neppa.org/wp-content/uploads/2022/08/Tactical-Tuesday-Cal-1.png
END:VEVENT
BEGIN:VEVENT
DTSTART;TZID=America/New_York:20230124T083000
DTEND;TZID=America/New_York:20230124T100000
DTSTAMP:20260421T012224
CREATED:20221207T203055Z
LAST-MODIFIED:20221207T204033Z
UID:10000203-1674549000-1674554400@neppa.org
SUMMARY:@ Your-Site Virtual Training - Substation Components
DESCRIPTION:Substation Components\n			\n				\n				\n				\n				\n				January 24\, 2023 | Virtual (8:30 am – 10:30 am)\n			\n				\n				\n				\n				\n				\n\n\n\n\nAt NEPPA\, we are committed to helping our members enhance their safety awareness and develop effective training and risk management programs to better prepare and protect their organizations and employees.  \nAs part of our commitment to our members to provide high-quality technical and safety training we are pleased to continue offering live\, instructor-led @Your-Site Virtual Training sessions. \n @Your-Site: Virtual – Session Schedule & Length \n All sessions will be recorded and made available to any registrants unable to participate at the time of the training. Sessions are scheduled for 90-minutes which includes 15-minutes for Q&A. Recordings are available for 1-year after the date of broadcast. \n\n\n\n\n\n			\n				\n				\n				\n				\n				\n\n\n\n\nYour-Site Virtual(90-minute training (8:30 am – 10:00 am)Dates are subject to change \nRegistration Fees for @Your-Site: Virtual TrainingParticipant may register for either an individual sessions: \nNEPPA Member:  $55 per personNon-Member:  $110 per person \n\n\n\n\n\n			\n				\n				\n				\n				\n				To register up to 5 participants\, please click the button below to complete the form. To process a bulk registration of more than 5\, please email training@neppa.org. \nOnce NEPPA receives and processes your registration\, participants will receive an auto-generated email with unique login credentials to access each of the individual the sessions. \n\n			\n				\n				\n				\n				\n				\n\n\n\nREGISTER NOW  \n\n\n\n\n			\n			\n				\n				\n				\n				\n			\n				\n				\n				\n				\n				\n				\n				\n				\n				\n				\n				Questions?  Please contact training@neppa.org or call the office at (978) 540-2200.
URL:https://neppa.org/event/your-site-virtual-training-substation-components/
LOCATION:MA
CATEGORIES:@Your-Site Virtual
ATTACH;FMTTYPE=image/png:https://neppa.org/wp-content/uploads/2022/12/@Your-Site-Virtual-Banner-Less-1-1.png
END:VEVENT
BEGIN:VEVENT
DTSTART;TZID=America/New_York:20230125T083000
DTEND;TZID=America/New_York:20230125T100000
DTSTAMP:20260421T012224
CREATED:20221207T205325Z
LAST-MODIFIED:20221207T205325Z
UID:10000204-1674635400-1674640800@neppa.org
SUMMARY:@ Your-Site Virtual Training - Rigging\, Ropes & Safety
DESCRIPTION:Rigging\, Ropes & Safety \n			\n				\n				\n				\n				\n				January 25\, 2023 | Virtual (8:30 am – 10:30 am)\n			\n				\n				\n				\n				\n				\n\n\n\n\nAt NEPPA\, we are committed to helping our members enhance their safety awareness and develop effective training and risk management programs to better prepare and protect their organizations and employees.  \nAs part of our commitment to our members to provide high-quality technical and safety training we are pleased to continue offering live\, instructor-led @Your-Site Virtual Training sessions. \n @Your-Site: Virtual – Session Schedule & Length \n All sessions will be recorded and made available to any registrants unable to participate at the time of the training. Sessions are scheduled for 90-minutes which includes 15-minutes for Q&A. Recordings are available for 1-year after the date of broadcast. \n\n\n\n\n\n			\n				\n				\n				\n				\n				\n\n\n\n\nYour-Site Virtual(90-minute training (8:30 am – 10:00 am)Dates are subject to change \nRegistration Fees for @Your-Site: Virtual TrainingParticipant may register for either an individual sessions: \nNEPPA Member:  $55 per personNon-Member:  $110 per person \n\n\n\n\n\n			\n				\n				\n				\n				\n				To register up to 5 participants\, please click the button below to complete the form. To process a bulk registration of more than 5\, please email training@neppa.org. \nOnce NEPPA receives and processes your registration\, participants will receive an auto-generated email with unique login credentials to access each of the individual the sessions. \n\n			\n				\n				\n				\n				\n				\n\n\n\nREGISTER NOW  \n\n\n\n\n			\n			\n				\n				\n				\n				\n			\n				\n				\n				\n				\n				\n				\n				\n				\n				\n				\n				Questions?  Please contact training@neppa.org or call the office at (978) 540-2200.
URL:https://neppa.org/event/your-site-virtual-training-rigging-ropes-safety/
LOCATION:Virtually
CATEGORIES:@Your-Site Virtual
ATTACH;FMTTYPE=image/png:https://neppa.org/wp-content/uploads/2022/12/@Your-Site-Virtual-Banner-Less-1-1.png
END:VEVENT
BEGIN:VEVENT
DTSTART;TZID=America/New_York:20230126T083000
DTEND;TZID=America/New_York:20230126T130000
DTSTAMP:20260421T012224
CREATED:20221215T143551Z
LAST-MODIFIED:20230120T170205Z
UID:10000212-1674721800-1674738000@neppa.org
SUMMARY:General Foreman Roundtable
DESCRIPTION:2023 General Foreman RoundtableJanuary 26\, 2023 (8:30 am – 1:00 pm) | Braintree Electric Light Dept\n\nNEPPA will be having a General Foreman’s Roundtable\, Thursday\, January 26\, 2023 hosted by Braintree Electric Light Department.   \n  \n\n\nAgendaThe agenda is being finalized and is therefore subject to change.\n8:30 am               Coffee & Baked Goods Available \n9:00 am               Welcome & Scope of GF RT Meeting – John McDonagh\, NEPPA Staff \n9:15 am               Introductions – Facilitator:  Ralph Bellavance\, Mansfield Municipal Electric Department \n9:45 am               Presentation: 1 – Possible Near Miss or Accident \n10:15 am             Break \n10:30 am             Presentation 2: Review of the Watson Power Plant                   \n11:00 am             Open Discussion – Facilitator: Ralph Bellavance \n12:00 pm             Lunch and Next Meeting Discussion (Currently scheduled May 8\, 2023 Plymouth\, NH @ NH Electric Coop) 1:00 PM – 5:00 PM \n1:00 pm               Adjourn                                                                            \n\n			\n				\n				\n				\n				\n				RegistrationMembers:  $50.00Non-Members:  $75.00\n			\n			\n				\n				\n				\n				\n			\n				\n				\n				\n				\n				\n				\n				Register NOW\n			\n				\n				\n				\n				\n				Questions?  Don’t hesitate to call the office at (978) 540-2200.
URL:https://neppa.org/event/general-foreman-roundtable/
LOCATION:Braintree Electric Light Department\, 150 Potter Road\, Braintree\, 02184\, United States
CATEGORIES:Roundtables
ATTACH;FMTTYPE=image/png:https://neppa.org/wp-content/uploads/2022/12/2023-GF-RDT-banner-1.png
END:VEVENT
BEGIN:VEVENT
DTSTART;TZID=America/New_York:20230131T080000
DTEND;TZID=America/New_York:20230203T140000
DTSTAMP:20260421T012224
CREATED:20230203T222536Z
LAST-MODIFIED:20230203T222558Z
UID:10000096-1675152000-1675432800@neppa.org
SUMMARY:Apprentice Lineworker Program - Year I
DESCRIPTION:NEPPA offers a four-year curriculum of the Northwest Lineman College’s Lineworker Certification Program and combines hands-on and formal classroom training. Students attend class four times a year for four days each to complete the four-year program. \nIn addition to classroom time\, students are expected to: \nSelf-study by reading the material \nTrack\, record\, and submit monthly apprenticeship reports of on-the-job training \nTrack\, record and submit quarterly “competency” forms \nEach year\, students participate in an additional two-day Skills Assessment Rodeo each year. The Apprentice Rodeo is designed to showcase the apprentices’ developing technical and climbing skills\, and to reinforce the program’s focus on professionalism\, safety\, and proper technique. \nAttendance Policy \nStudents are required to attend all 16-days of the in-class program as well as the two-day Skills Assessment Rodeo. Any student unable to attend their regularly scheduled class or the Skills Assessment Rodeo is required to make-up the time\, training\, and competencies covered during those class days. To progress into the next year or to complete the Program\, all students must complete the full program requirements. \n  \nClick here for more information and to register \n  \nQuestions? Please contact training@neppa.org or call (978) 540-2200.
URL:https://neppa.org/event/apprentice-lineworker-program-year-5/
LOCATION:NEPPA Training Center\, 200 New Estate Rd\, Littleton\, MA\, 01460\, United States
CATEGORIES:Apprentice Lineworker Program
ATTACH;FMTTYPE=image/png:https://neppa.org/wp-content/uploads/2022/11/2023-APP-LW-Revised-2.3.23.png
END:VEVENT
END:VCALENDAR