BEGIN:VCALENDAR
VERSION:2.0
PRODID:-//NEPPA - ECPv6.15.20//NONSGML v1.0//EN
CALSCALE:GREGORIAN
METHOD:PUBLISH
X-WR-CALNAME:NEPPA
X-ORIGINAL-URL:https://neppa.org
X-WR-CALDESC:Events for NEPPA
REFRESH-INTERVAL;VALUE=DURATION:PT1H
X-Robots-Tag:noindex
X-PUBLISHED-TTL:PT1H
BEGIN:VTIMEZONE
TZID:America/New_York
BEGIN:DAYLIGHT
TZOFFSETFROM:-0500
TZOFFSETTO:-0400
TZNAME:EDT
DTSTART:20250309T070000
END:DAYLIGHT
BEGIN:STANDARD
TZOFFSETFROM:-0400
TZOFFSETTO:-0500
TZNAME:EST
DTSTART:20251102T060000
END:STANDARD
BEGIN:DAYLIGHT
TZOFFSETFROM:-0500
TZOFFSETTO:-0400
TZNAME:EDT
DTSTART:20260308T070000
END:DAYLIGHT
BEGIN:STANDARD
TZOFFSETFROM:-0400
TZOFFSETTO:-0500
TZNAME:EST
DTSTART:20261101T060000
END:STANDARD
BEGIN:DAYLIGHT
TZOFFSETFROM:-0500
TZOFFSETTO:-0400
TZNAME:EDT
DTSTART:20270314T070000
END:DAYLIGHT
BEGIN:STANDARD
TZOFFSETFROM:-0400
TZOFFSETTO:-0500
TZNAME:EST
DTSTART:20271107T060000
END:STANDARD
BEGIN:DAYLIGHT
TZOFFSETFROM:-0500
TZOFFSETTO:-0400
TZNAME:EDT
DTSTART:20280312T070000
END:DAYLIGHT
BEGIN:STANDARD
TZOFFSETFROM:-0400
TZOFFSETTO:-0500
TZNAME:EST
DTSTART:20281105T060000
END:STANDARD
END:VTIMEZONE
BEGIN:VEVENT
DTSTART;TZID=America/New_York:20261103T080000
DTEND;TZID=America/New_York:20261106T140000
DTSTAMP:20260421T131153
CREATED:20251027T170304Z
LAST-MODIFIED:20251027T170304Z
UID:10000517-1793692800-1793973600@neppa.org
SUMMARY:Apprentice Lineworker Program - Year 3\, Group A (Session 4)
DESCRIPTION:NEPPA offers a four-year curriculum of the Northwest Lineman College’s Lineworker Certification Program and combines hands-on and formal classroom training. Students attend class four times a year for four days each to complete the four-year program. \n  \nEligibility: To enroll\, student must be currently employed at a public power utility or contractor and be 18 years of age prior to the commencement of the program. \n  \nIn addition to classroom time\, students are expected to: \n\nSelf-study by reading the material\nTrack\, record\, and submit monthly apprenticeship reports of on-the-job training\nTrack\, record and submit quarterly “competency” forms\n\n\nSkill Assessment Rodeo:\nEach year\, students participate in a Skills Assessment Rodeo. The Apprentice Rodeo is designed to showcase the apprentices’ developing technical and climbing skills\, and to reinforce the program’s focus on professionalism\, safety\, and proper technique. \n  \n  \n			\n				CLICK HERE FOR MORE PROGRAM INFORMATION
URL:https://neppa.org/event/apprentice-lineworker-program-year-3-group-a-session-4/
LOCATION:NEPPA Training Center\, 200 New Estate Rd\, Littleton\, MA\, 01460\, United States
CATEGORIES:Apprentice Lineworker Program
ATTACH;FMTTYPE=image/png:https://neppa.org/wp-content/uploads/2025/10/Apprentice-Lineworker-Program-2026-16.9.png
END:VEVENT
BEGIN:VEVENT
DTSTART;TZID=America/New_York:20261110T140000
DTEND;TZID=America/New_York:20261110T150000
DTSTAMP:20260421T131153
CREATED:20251027T182707Z
LAST-MODIFIED:20251027T182707Z
UID:10000539-1794319200-1794322800@neppa.org
SUMMARY:Tactical Tuesday - November
DESCRIPTION:Tactical Tuesday webinars are held on the second Tuesday of each month from 2:00pm – 3:00pm\, virtually through Zoom. They are free to NEPPA members. Each month a different industry professional will present on a relevant public power topic\, with opportunties to ask questions. \n			\n			\n				\n				\n				\n				\n			\n				\n				\n				\n				\n				\n				\n				\n			\n				\n				\n				\n				\n				Presenter:\nDetails coming soon…\n			\n			\n				\n				\n				\n				\n				\n				\n			\n				\n				\n				\n				\n				Topic:\nCheck back closer to the date!\n			\n			\n				\n				\n				\n				\n			\n				\n				\n				\n				\n				\n				\n				\n				\n				\n				\n				\n			\n			\n				\n				\n				\n				\n			\n				\n				\n				\n				\n				\n				\n				Register here
URL:https://neppa.org/event/tactical-tuesday-november/
LOCATION:Virtual
CATEGORIES:Tactical Tuesday
ATTACH;FMTTYPE=image/png:https://neppa.org/wp-content/uploads/2025/10/2026-Tactical-Tuesday.png
END:VEVENT
BEGIN:VEVENT
DTSTART;TZID=America/New_York:20261112T090000
DTEND;TZID=America/New_York:20261112T120000
DTSTAMP:20260421T131153
CREATED:20260302T174502Z
LAST-MODIFIED:20260302T174550Z
UID:10000577-1794474000-1794484800@neppa.org
SUMMARY:NEPPA Board of Directors Meeting
DESCRIPTION:Littleton\, MA        \nFor more informtion please contact the NEPPA office at (978) 540-2200. \n  \n 
URL:https://neppa.org/event/neppa-board-of-directors-meeting-16/
LOCATION:MA
CATEGORIES:Board of Directors
ATTACH;FMTTYPE=image/png:https://neppa.org/wp-content/uploads/2024/12/NEPPA-BOD.png
END:VEVENT
BEGIN:VEVENT
DTSTART;TZID=America/New_York:20261117T080000
DTEND;TZID=America/New_York:20261120T140000
DTSTAMP:20260421T131153
CREATED:20251027T170332Z
LAST-MODIFIED:20251027T170332Z
UID:10000518-1794902400-1795183200@neppa.org
SUMMARY:Apprentice Lineworker Program - Year 3\, Group B (Session 4)
DESCRIPTION:NEPPA offers a four-year curriculum of the Northwest Lineman College’s Lineworker Certification Program and combines hands-on and formal classroom training. Students attend class four times a year for four days each to complete the four-year program. \n  \nEligibility: To enroll\, student must be currently employed at a public power utility or contractor and be 18 years of age prior to the commencement of the program. \n  \nIn addition to classroom time\, students are expected to: \n\nSelf-study by reading the material\nTrack\, record\, and submit monthly apprenticeship reports of on-the-job training\nTrack\, record and submit quarterly “competency” forms\n\n\nSkill Assessment Rodeo:\nEach year\, students participate in a Skills Assessment Rodeo. The Apprentice Rodeo is designed to showcase the apprentices’ developing technical and climbing skills\, and to reinforce the program’s focus on professionalism\, safety\, and proper technique. \n  \n  \n			\n				CLICK HERE FOR MORE PROGRAM INFORMATION
URL:https://neppa.org/event/apprentice-lineworker-program-year-3-group-b-session-4/
LOCATION:NEPPA Training Center\, 200 New Estate Rd\, Littleton\, MA\, 01460\, United States
CATEGORIES:Apprentice Lineworker Program
ATTACH;FMTTYPE=image/png:https://neppa.org/wp-content/uploads/2025/10/Apprentice-Lineworker-Program-2026-16.9.png
END:VEVENT
BEGIN:VEVENT
DTSTART;TZID=America/New_York:20261201T080000
DTEND;TZID=America/New_York:20261202T140000
DTSTAMP:20260421T131153
CREATED:20251027T170451Z
LAST-MODIFIED:20251027T170451Z
UID:10000519-1796112000-1796220000@neppa.org
SUMMARY:Apprentice Lineworker Program - Year 4 (Session 4)
DESCRIPTION:NEPPA offers a four-year curriculum of the Northwest Lineman College’s Lineworker Certification Program and combines hands-on and formal classroom training. Students attend class four times a year for four days each to complete the four-year program. \n  \nEligibility: To enroll\, student must be currently employed at a public power utility or contractor and be 18 years of age prior to the commencement of the program. \n  \nIn addition to classroom time\, students are expected to: \n\nSelf-study by reading the material\nTrack\, record\, and submit monthly apprenticeship reports of on-the-job training\nTrack\, record and submit quarterly “competency” forms\n\n\nSkill Assessment Rodeo:\nEach year\, students participate in a Skills Assessment Rodeo. The Apprentice Rodeo is designed to showcase the apprentices’ developing technical and climbing skills\, and to reinforce the program’s focus on professionalism\, safety\, and proper technique. \n  \n  \n			\n				CLICK HERE FOR MORE PROGRAM INFORMATION
URL:https://neppa.org/event/apprentice-lineworker-program-year-4-session-4-2/
LOCATION:NEPPA Training Center\, 200 New Estate Rd\, Littleton\, MA\, 01460\, United States
CATEGORIES:Apprentice Lineworker Program
ATTACH;FMTTYPE=image/png:https://neppa.org/wp-content/uploads/2025/10/Apprentice-Lineworker-Program-2026-16.9.png
END:VEVENT
BEGIN:VEVENT
DTSTART;TZID=America/New_York:20261203T073000
DTEND;TZID=America/New_York:20261203T140000
DTSTAMP:20260421T131153
CREATED:20251027T173247Z
LAST-MODIFIED:20251027T173248Z
UID:10000527-1796283000-1796306400@neppa.org
SUMMARY:2026 Annual Membership Meeting
DESCRIPTION:NEPPA’s Annual Membership Meeting & Apprentice Lineworker Graduation\nThursday\, December 3\, 20267:30 am – 2:00 pm\n			\n				\n				\n				\n				\n				Location TBD \n			\n			\n				\n				\n				\n				\n			\n				\n				\n				\n				\n				\n				\n				\n				\n				\n				\n				\n			\n			\n				\n				\n				\n				\n				\n				\n				\n				\n				\n				\n			\n			\n				\n				\n				\n				\n				\n				\n				\n				\n				\n				\n			\n			\n				\n				\n				\n				\n			\n				\n				\n				\n				\n				\n				\n				\n				\n				\n				\n				Our membership meeting is a time to review the past year and learn about NEPPA’s plans for 2027. It’s an opportunity to build relationships with professional colleagues and industry partners. Come meet with old and new friends! \nThis event also includes a graduation ceremony to appreciate and honor our 2026 Apprentice Lineworker Program graduates. We hope you will join us in support our graduating class\, as they become the future of public power.  \n			\n			\n				\n				\n				\n				\n			\n				\n				\n				\n				\n				\n				\n				CHECK BACK CLOSER TO EVENT START DATE FOR MORE INFORMATION\n			\n			\n				\n				\n				\n				\n			\n				\n				\n				\n				\n				\n				\n			\n				\n				\n				\n				\n			\n				\n				\n				\n				\n				\n				\n				\n				\n				\n				\n				Questions? Don’t hesitate to call the office our office at (978) 540-2200 or email registar@neppa.org. \n 
URL:https://neppa.org/event/2026-annual-membership-meeting/
LOCATION:AC Hotel Worcester\, 125 Front Street\, Worcester\, MA\, 01608\, United States
CATEGORIES:Annual Membership Meeting
ATTACH;FMTTYPE=image/png:https://neppa.org/wp-content/uploads/2025/10/2026-AMM-Save-the-date-event-16.9.png
END:VEVENT
BEGIN:VEVENT
DTSTART;TZID=America/New_York:20261208T140000
DTEND;TZID=America/New_York:20261208T150000
DTSTAMP:20260421T131153
CREATED:20251027T182740Z
LAST-MODIFIED:20251027T182740Z
UID:10000540-1796738400-1796742000@neppa.org
SUMMARY:Tactical Tuesday - December
DESCRIPTION:Tactical Tuesday webinars are held on the second Tuesday of each month from 2:00pm – 3:00pm\, virtually through Zoom. They are free to NEPPA members. Each month a different industry professional will present on a relevant public power topic\, with opportunties to ask questions. \n			\n			\n				\n				\n				\n				\n			\n				\n				\n				\n				\n				\n				\n				\n			\n				\n				\n				\n				\n				Presenter:\nDetails coming soon…\n			\n			\n				\n				\n				\n				\n				\n				\n			\n				\n				\n				\n				\n				Topic:\nCheck back closer to the date!\n			\n			\n				\n				\n				\n				\n			\n				\n				\n				\n				\n				\n				\n				\n				\n				\n				\n				\n			\n			\n				\n				\n				\n				\n			\n				\n				\n				\n				\n				\n				\n				Register here
URL:https://neppa.org/event/tactical-tuesday-december/
LOCATION:Virtual
CATEGORIES:Tactical Tuesday
ATTACH;FMTTYPE=image/png:https://neppa.org/wp-content/uploads/2025/10/2026-Tactical-Tuesday.png
END:VEVENT
BEGIN:VEVENT
DTSTART;VALUE=DATE:20270829
DTEND;VALUE=DATE:20270902
DTSTAMP:20260421T131153
CREATED:20250626T122459Z
LAST-MODIFIED:20250626T122512Z
UID:10000488-1819497600-1819843199@neppa.org
SUMMARY:2027 Annual Conference
DESCRIPTION:Save the Date!\n			\n				\n				\n				\n				\n				Northeast Public Power Association’s 2027 Annual Conference will be held Sunday\, August 29th through Wednesday\, September 1st at the Newport Harbor Island Resort (1 Goat Island\, Newport\, RI 02840). Check back closer to the event date for more details!
URL:https://neppa.org/event/2027-annual-conference/
LOCATION:Newport Harbor Island Resort\, 1 Goat Island\, Newport\, RI\, 02840\, United States
CATEGORIES:Annual Conference
ATTACH;FMTTYPE=image/png:https://neppa.org/wp-content/uploads/2025/06/AC-2027-Save-the-Date.png
END:VEVENT
END:VCALENDAR