BEGIN:VCALENDAR
VERSION:2.0
PRODID:-//NEPPA - ECPv6.15.20//NONSGML v1.0//EN
CALSCALE:GREGORIAN
METHOD:PUBLISH
X-ORIGINAL-URL:https://neppa.org
X-WR-CALDESC:Events for NEPPA
REFRESH-INTERVAL;VALUE=DURATION:PT1H
X-Robots-Tag:noindex
X-PUBLISHED-TTL:PT1H
BEGIN:VTIMEZONE
TZID:America/New_York
BEGIN:DAYLIGHT
TZOFFSETFROM:-0500
TZOFFSETTO:-0400
TZNAME:EDT
DTSTART:20250309T070000
END:DAYLIGHT
BEGIN:STANDARD
TZOFFSETFROM:-0400
TZOFFSETTO:-0500
TZNAME:EST
DTSTART:20251102T060000
END:STANDARD
BEGIN:DAYLIGHT
TZOFFSETFROM:-0500
TZOFFSETTO:-0400
TZNAME:EDT
DTSTART:20260308T070000
END:DAYLIGHT
BEGIN:STANDARD
TZOFFSETFROM:-0400
TZOFFSETTO:-0500
TZNAME:EST
DTSTART:20261101T060000
END:STANDARD
BEGIN:DAYLIGHT
TZOFFSETFROM:-0500
TZOFFSETTO:-0400
TZNAME:EDT
DTSTART:20270314T070000
END:DAYLIGHT
BEGIN:STANDARD
TZOFFSETFROM:-0400
TZOFFSETTO:-0500
TZNAME:EST
DTSTART:20271107T060000
END:STANDARD
END:VTIMEZONE
BEGIN:VEVENT
DTSTART;TZID=America/New_York:20260714T080000
DTEND;TZID=America/New_York:20260716T120000
DTSTAMP:20260419T091031
CREATED:20260415T182551Z
LAST-MODIFIED:20260415T182555Z
UID:10000579-1784016000-1784203200@neppa.org
SUMMARY:Cybersecurity in a Resource Constrained Environment for Public and Rural Utilities
DESCRIPTION:Register Here\n			\n				\n				\n				\n				\n				PER-338 Cybersecurity in a Resource Constrained Environment for Public and Rural Utilities\n\n\n\n\n\n\n\n(16 hr. Instructor-Led Course) \n  \nOffered through the National Cybersecurity Preparedness Consortium (NCPC) and developed by Norwich University Applied Research Institutes (NUARI)\, this course examines cybersecurity in the context of community and critical infrastructure protection. It bridges policy\, operations\, and technology to help decision-makers and technology professionals understand how digital risk affects essential services and how to strengthen resilience through informed planning and investment. \n  \n\n\n\n\n\n\n\nWorkshop Details: \n \n\n\n\n\n\n\n\nLocation: \nNortheast Public Power Association (NEPPA) Training Center200 New Estate Road\, Littleton\, MA 01460 \n  \nDates: \nStudents need to attend all three sessions to achieve course certification \nJuly 14\, 2026   8 am – 2:30 pm (includes 30 minute lunch break) \nJuly 15\, 2026 8 am – 2:30 pm (includes 30 minute lunch break) \nJuly 16\, 2026 8 am – 12 noon \n  \nCourse Description: \nThe course introduces foundational cybersecurity principles in the context of community and critical infrastructure protection. Through classroom instruction\, guided labs\, and applied exercises\, participants explore common threats\, examine open-source tools for monitoring networks and systems\, and review key cybersecurity standards and policies. Using these concepts\, participants will develop a practical outline for a cybersecurity program that reflects their organization’s resources and operational realities\, incorporating both technical and administrative controls to support ongoing program development and implementation. \n  \nUpon completion of this course\, students will be able to: \n\nDescribe common and current cybersecurity risks to communities and their critical infrastructure.\nCategorize and communicate fundamental concepts of cybersecurity and how they apply to their organization and/or community.\nDescribe the purpose and basic configuration of common open-source cybersecurity tools.\nDescribe common cybersecurity policies\, their purpose\, and how those policies impact their organization and/or community.\n\nTarget Audience: \nDesigned for decision-makers and technology professionals supporting community organizations and critical infrastructure sectors. Typical participants include community leaders\, utility managers\, emergency management coordinators\, IT and OT personnel\, cybersecurity staff\, finance managers\, operations managers\, and human resources managers. The course is particularly relevant for those in public and rural utilities\, local government\, and essential service operations who must balance cybersecurity responsibilities with limited resources and shared accountability across departments. \n  \nPrerequisites: \nParticipants should be comfortable using computers and have a general awareness of networked systems. Prior cybersecurity experience is not required\, and the course is equally valuable for experienced IT and OT professionals seeking to stay current with evolving practices. \nRequired Materials: \nParticipants are required to have a laptop computer that can access a public wifi connection. \n\n\n\n\n\n\n\n			\n				\n				\n				\n				\n				There is no fee to attend but advanced registration is required. \n			\n				Register Here\n			\n				\n				\n				\n				\n				\n\n\n\n\n\n\nNUARI\, as a member of the National Cybersecurity Preparedness Consortium (NCPC)\, is a FEMA training provider. \nQuestions about registration\, contact us at  – nuaritraining@nuari.org \n**April 1\, 2026 – with the government shutdown\, you may have trouble obtaining an SID number. If this is your situation\, please simply enter nine zeroes in the SID field below. \nA FEMA Student Identification (SID) number is necessary for registering and participating in any training offered by FEMA\, as well as for the registration systems and enrollment processes of all FEMA training providers. The FEMA SID will serve as your unique identifier and be used to maintain the record of any FEMA training you attend. Obtaining and registering with FEMA’s Student Identification system is a one-time step\, and the number can then be used to take training with FEMA or any FEMA training provider. Registering with a FEMA SID number ensures NUARI and the NCPC can continue to provide training at no cost\, made available through congressionally designated funding awarded by FEMA’s U.S. Department of Homeland Security National Training and Education Division. For further information about the FEMA SID number\, please see https://cdp.dhs.gov/FEMASID/ \n \n\n\n\n\n\n\n\n			\n				Print Course Flyer
URL:https://neppa.org/event/cybersecurity-in-a-resource-constrained-environment-for-public-and-rural-utilities/
LOCATION:NEPPA Training Center\, 200 New Estate Rd\, Littleton\, MA\, 01460\, United States
ATTACH;FMTTYPE=image/jpeg:https://neppa.org/wp-content/uploads/2026/04/Screenshot-2026-04-15-140457.jpg
END:VEVENT
END:VCALENDAR