BEGIN:VCALENDAR
VERSION:2.0
PRODID:-//NEPPA - ECPv6.15.20//NONSGML v1.0//EN
CALSCALE:GREGORIAN
METHOD:PUBLISH
X-ORIGINAL-URL:https://neppa.org
X-WR-CALDESC:Events for NEPPA
REFRESH-INTERVAL;VALUE=DURATION:PT1H
X-Robots-Tag:noindex
X-PUBLISHED-TTL:PT1H
BEGIN:VTIMEZONE
TZID:America/New_York
BEGIN:DAYLIGHT
TZOFFSETFROM:-0500
TZOFFSETTO:-0400
TZNAME:EDT
DTSTART:20250309T070000
END:DAYLIGHT
BEGIN:STANDARD
TZOFFSETFROM:-0400
TZOFFSETTO:-0500
TZNAME:EST
DTSTART:20251102T060000
END:STANDARD
BEGIN:DAYLIGHT
TZOFFSETFROM:-0500
TZOFFSETTO:-0400
TZNAME:EDT
DTSTART:20260308T070000
END:DAYLIGHT
BEGIN:STANDARD
TZOFFSETFROM:-0400
TZOFFSETTO:-0500
TZNAME:EST
DTSTART:20261101T060000
END:STANDARD
BEGIN:DAYLIGHT
TZOFFSETFROM:-0500
TZOFFSETTO:-0400
TZNAME:EDT
DTSTART:20270314T070000
END:DAYLIGHT
BEGIN:STANDARD
TZOFFSETFROM:-0400
TZOFFSETTO:-0500
TZNAME:EST
DTSTART:20271107T060000
END:STANDARD
END:VTIMEZONE
BEGIN:VEVENT
DTSTART;TZID=America/New_York:20260309T083000
DTEND;TZID=America/New_York:20260309T130000
DTSTAMP:20260421T054209
CREATED:20251208T143914Z
LAST-MODIFIED:20251208T150008Z
UID:10000553-1773045000-1773061200@neppa.org
SUMMARY:GM Leadership Roundtable - March 2026
DESCRIPTION:General Manager / Leadership RoundtableMonday\, March 9\, 2026 (8:30 AM – 1:00 PM)NEPPA Training Center (200 New Estate Rd.\, Littleton MA 01460)\n \n \n \n \n			\n				\n				\n				\n				\n				NEPPA’s GM/Leadership Roundtable is an opportunity for small group discussion among public power leadership professionals. The facilitator will encourage and prompt exploration of the topic. Attendee participation is vital to the success of each roundtable. Participants should arrive ready to be actively engaged.   \n  \nIf you have a suggested topic you would like to discuss please email it to registrar@neppa.org.  \n \n  \n\n			\n				\n				\n				\n				\n				Who Should Attend\nThis roundtable is designed for utility management personnel only. It is not restricted to those with a General Manager title but open to all those in leadership positions at their utility.   \n\nManagers\nExecutives\nDirectors\n\n			\n				\n				\n				\n				\n				Agenda\nThis agenda is subject to change \n  \n8:30 am        Coffee & Baked Goods Available \n9:00 am        Welcome and Introductions       \n9:15 am        Open Discussion \n10:15 am     Break \n10:30 am     Open Discussion \nNoon              Lunch and Continued Discussion \n1:00 pm        Adjourn \n  \n			\n				\n				\n				\n				\n				Facilitator\n			\n				\n				\n				\n				\n				\n				\n					Mike Hyland\, PE\n					Executive Director\, Northeast Public Power Association \n					 \nMichael ‘Mike’ Hyland is currently the Executive Director of the Northeast Public Power Association (NEPPA)\, located in Littleton\, Massachusetts. Mike took over the helm of NEPPA in May 2022 after a 40 year utility career that started inside a #6 fuel oil generation plant at Philadelphia Electric. \nPrior to his role at NEPPA\, Mike was the Energy & Technical Programs Manager for the Southern Maryland Electric Cooperative (SMECO) in Hughesville\, Maryland\, and his main responsibility was the oversight of the Solar Interconnection and Electric Vehicle programs. \nBefore his stint at SMECO\, Mr. Hyland served as the Senior Vice President of Engineering Services at the American Public Power Association (APPA) in Washington DC for 24 years. In that position\, he was responsible for all the engineering\, safety\, cyber security\, reliability\, system planning\, mutual aid and operations for the associations 2000+ municipal utilities operating in the United States. \nMike is a Professional Engineer with an Electrical Engineering degree from Drexel University in Philadelphia\, is co-inventor on three US Patents\, and now resides in Nashua\, NH. Mike has been married to his wife Colleen for over 33 years. Together they have raised three engineering children: Reid\, Erik and Jodie. \n					\n				\n			\n			\n				\n				\n				\n				\n			\n				\n				\n				\n				\n				\n				\n				\n				\n				\n				\n				\n\nRegistration Fees\nRegistration fees include coffee and lunch. If you have any dietary restrictions or considerations\, please make note them on your registration. \n  \nRegistration Fees for 2026: \n\n\n\nMembers: $ 50\n\n\n\nNon-Members: $ 75\n\n\n\n\n \n \nCancellations \n\n\n\n\nCancellations are accepted until two weeks prior to the event.  Substitutions may be made up until the day before the event. \n\n\n			\n				Register Now\n			\n				\n				\n				\n				\n				  \nLodging\nLodging is not included in your registration fees and must be arranged directly with the hotel. If you need overnight accommodations\, please see our lodging information page for details on discounted rates. \n			\n				LODGING INFORMATION\n			\n				\n				\n				\n				\n				  \nQuestions?\nPlease contact training@neppa.org or call the office at (978) 540-2200. \n​
URL:https://neppa.org/event/gm-leadership-roundtable-march-2026/
LOCATION:NEPPA Training Center\, 200 New Estate Rd\, Littleton\, MA\, 01460\, United States
ATTACH;FMTTYPE=image/png:https://neppa.org/wp-content/uploads/2025/12/GM-RT-2026-3.png
END:VEVENT
END:VCALENDAR