BEGIN:VCALENDAR
VERSION:2.0
PRODID:-//NEPPA - ECPv6.15.20//NONSGML v1.0//EN
CALSCALE:GREGORIAN
METHOD:PUBLISH
X-WR-CALNAME:NEPPA
X-ORIGINAL-URL:https://neppa.org
X-WR-CALDESC:Events for NEPPA
REFRESH-INTERVAL;VALUE=DURATION:PT1H
X-Robots-Tag:noindex
X-PUBLISHED-TTL:PT1H
BEGIN:VTIMEZONE
TZID:America/New_York
BEGIN:DAYLIGHT
TZOFFSETFROM:-0500
TZOFFSETTO:-0400
TZNAME:EDT
DTSTART:20240310T070000
END:DAYLIGHT
BEGIN:STANDARD
TZOFFSETFROM:-0400
TZOFFSETTO:-0500
TZNAME:EST
DTSTART:20241103T060000
END:STANDARD
BEGIN:DAYLIGHT
TZOFFSETFROM:-0500
TZOFFSETTO:-0400
TZNAME:EDT
DTSTART:20250309T070000
END:DAYLIGHT
BEGIN:STANDARD
TZOFFSETFROM:-0400
TZOFFSETTO:-0500
TZNAME:EST
DTSTART:20251102T060000
END:STANDARD
BEGIN:DAYLIGHT
TZOFFSETFROM:-0500
TZOFFSETTO:-0400
TZNAME:EDT
DTSTART:20260308T070000
END:DAYLIGHT
BEGIN:STANDARD
TZOFFSETFROM:-0400
TZOFFSETTO:-0500
TZNAME:EST
DTSTART:20261101T060000
END:STANDARD
END:VTIMEZONE
BEGIN:VEVENT
DTSTART;TZID=America/New_York:20250219T083000
DTEND;TZID=America/New_York:20250219T130000
DTSTAMP:20260421T042212
CREATED:20241112T134050Z
LAST-MODIFIED:20250211T190242Z
UID:10000430-1739953800-1739970000@neppa.org
SUMMARY:General Manager/Leadership Roundtable
DESCRIPTION:General Manager / Leadership RoundtableThursday\, February 13\, 2025 POSTPONED DUE TO WEATHER – NEW DATE Wednesday\, February 19\, 2025 (8:30 AM – 1:00 PM)NEPPA Training Center (200 New Estate Rd.\, Littleton MA 01460)\n \n \n \n \n			\n				\n				\n				\n				\n				NEPPA’s GM/Leadership Roundtable is an opportunity for small group discussion among public power leadership professionals. The facilitator will encourage and prompt exploration of the topic. Attendee participation is vital to the success of each roundtable. Participants should arrive ready to be actively engaged.   \n \n\n\n			\n				MORE INFORMATION\n			\n				\n				\n				\n				\n				Who Should Attend\nThis Roundtable is designed for: \n\nManagers\nExecutives\nDirectors\n\n			\n			\n				\n				\n				\n				\n			\n				\n				\n				\n				\n				\n				\n				\n				\n				\n				\n				\n\nRegistration Fees\nRegistration fees include coffee and lunch. If you have any dietary restrictions or considerations\, please make note them on your registration. \nRegistration will open shortly for this class. \n  \nIf you are interested in attending and want to be notified when registration opens please email training@neppa.org. \n  \nRegistration Fees for 2025: \n\n\n\nMembers: $ 50\n\n\n\nNon-Members: $ 75\n\n\n\n\n \n \nCancellations \n\n\n\n\nCancellations are accepted until Thursday\, January 30\, 2025.  Substitutions may be made up until the day before the event. \n\n\n			\n				Register Here\n			\n				\n				\n				\n				\n				  \nQuestions?\nPlease contact training@neppa.org or call the office at (978) 540-2200. \n​
URL:https://neppa.org/event/general-manager-leadership-roundtable-2/
LOCATION:NEPPA Training Center\, 200 New Estate Rd\, Littleton\, MA\, 01460\, United States
ATTACH;FMTTYPE=image/png:https://neppa.org/wp-content/uploads/2024/11/GM-Roundtable-11.24.31-16.9.png
END:VEVENT
END:VCALENDAR