BEGIN:VCALENDAR
VERSION:2.0
PRODID:-//NEPPA - ECPv6.15.20//NONSGML v1.0//EN
CALSCALE:GREGORIAN
METHOD:PUBLISH
X-WR-CALNAME:NEPPA
X-ORIGINAL-URL:https://neppa.org
X-WR-CALDESC:Events for NEPPA
REFRESH-INTERVAL;VALUE=DURATION:PT1H
X-Robots-Tag:noindex
X-PUBLISHED-TTL:PT1H
BEGIN:VTIMEZONE
TZID:America/New_York
BEGIN:DAYLIGHT
TZOFFSETFROM:-0500
TZOFFSETTO:-0400
TZNAME:EDT
DTSTART:20240310T070000
END:DAYLIGHT
BEGIN:STANDARD
TZOFFSETFROM:-0400
TZOFFSETTO:-0500
TZNAME:EST
DTSTART:20241103T060000
END:STANDARD
BEGIN:DAYLIGHT
TZOFFSETFROM:-0500
TZOFFSETTO:-0400
TZNAME:EDT
DTSTART:20250309T070000
END:DAYLIGHT
BEGIN:STANDARD
TZOFFSETFROM:-0400
TZOFFSETTO:-0500
TZNAME:EST
DTSTART:20251102T060000
END:STANDARD
BEGIN:DAYLIGHT
TZOFFSETFROM:-0500
TZOFFSETTO:-0400
TZNAME:EDT
DTSTART:20260308T070000
END:DAYLIGHT
BEGIN:STANDARD
TZOFFSETFROM:-0400
TZOFFSETTO:-0500
TZNAME:EST
DTSTART:20261101T060000
END:STANDARD
END:VTIMEZONE
BEGIN:VEVENT
DTSTART;TZID=America/New_York:20250318T080000
DTEND;TZID=America/New_York:20250318T150000
DTSTAMP:20260420T020013
CREATED:20241226T162710Z
LAST-MODIFIED:20250702T113506Z
UID:10000448-1742284800-1742310000@neppa.org
SUMMARY:Basic Electricity & Mathematics for Utility Operations
DESCRIPTION:NEPPA is offering a 1-day basic and technical prerequisite course for anyone looking to attend technical programs or to gain a basic understanding of electrical theory\, concepts and mathematic principles. \nNEPPA’s Basic Electricity & Mathematics for Utility Operations course is scheduled to be held on March 18\, 2025 at the NEPPA Training Center (200 New Estate Road\, Littleton\, MA 01460). \nBasic Electricity & Mathematics for Utility Operations is designed to be an introduction to the electrical concepts and mathematic principles needed to understand electricity and electrical equipment. This course is a foundational level course that is a basis for additional course work in specific disciplines such as substation\, overhead lines and metering. \n			\n				\n				\n				\n				\n				Who Should Attend\nBasic Electricity & Mathematics is designed for: \nAll field operations personnel including: \n>Meter Technicians>Lineworkers>Substation Technicians>Customer Service or Office Personnel looking to understand the product they sell every day>Supervisors or Managers transitioning from other departments or disciplines \n  \n			\n				\n				\n				\n				\n				Location\nThis 1-day\, in-person training will be held at: NEPPA Training Center 200 New Estate Road Littleton\, MA 01460 \n \n			\n				\n				\n				\n				\n				Learning Objectives \n\nPractice and solve mathematic problems used in electrical power measurements\nDemonstrate a basic understanding of electrical theory including electricity and magnetism\nAbility to differentiate between how DC and AC circuits function\nExplain the difference and interconnection of generation\, transmission and distribution of electricity\nDemonstrate an understanding of energy and demand\, and the difference between Kw and Kwh\nAbility to recognize the utmost importance of electrical safety\n\n\n			\n				\n				\n				\n				\n				Agenda\n Agenda details are subject to change. \n 8:00 am        Welcome & Introductions8:15 am        Module 1: Basic Electricity9:45 am        Break10:00 am      Module 2: Basic Mathematics11:30 am      Lunch12:00 pm      Module 3: Electric Power & Energy1:00 pm        Module 4: Electrical Safety1:30 pm        Module 5: Power System Overview3:00 pm        Adjourn  \n			\n				\n				\n				\n				\n				Course Prerequisites  There is no prerequisite for Basic Electricity & Mathematics for Utility Operations.  This course is a basic\, foundational course for NEPPA’s technical training programs. \n			\n				\n				\n				\n				\n				RegistrationRegistration fees include coffee and lunch each day. If you have any dietary or other restrictions\, please note them on your registration.  \n\n\n\nMembers:\n$295\n\n\nNon-Members:\n$605\n\n\n\n\n			\n			\n				\n				\n				\n				\n			\n				\n				\n				\n				\n				\n				\n				REGISTER NOW\n			\n			\n				\n				\n				\n				\n			\n				\n				\n				\n				\n				\n				\n				\n				\n				\n				\n				CancellationsCancellations are accepted until two weeks prior to the start of the class. Substitutions may be made at any time prior to the start of the class. \n			\n				\n				\n				\n				\n				Instructor \n			\n				\n				\n				\n				\n				\n				\n					John Lanciani\n					Trainer\, Northeast Public Power Association \n					John grew up in Littleton\, MA\, graduating in 1988 and became an Apprentice Electrician for Interstate Electric. In 1990\, he started working for Littleton Electric Light Department as an Apprentice Lineman\, completing NEPPA’s Line School in 1994. John worked his way up from Journeyman Lineman to Engineering Technician\, gaining skills on the more technical aspects of distribution such as substations\, scada and automated distribution. He oversaw the meter department\, planning for and installing Littleton Electric Light Department’s first AMR system and upgrading all metering to solid state. In the early 2000s\, he worked to upgrade their substation by replacing the oil filled breakers with air insulated as well as replacing all mechanical relays w/ solid state. In 2005\, John took on a supervisory role\, overseeing line crews for after-hours coverage. He has been involved with public power his whole life\, as his father was a lineman in Sterling\, MA in the 50’s before becoming the Manager in Paxton and then Littleton. NEPPA is happy to have his expertise as an instructor\, helping to expand NEPPA’s training program with this knowledge and experience. \n					\n				\n			\n				\n				\n				\n				\n				Lodging\nLodging is not included in your registration fees and must be arranged directly with the hotel. If you need overnight accommodations\, please refer to our Lodging Information page for details on discounted pricing. \n			\n				Click Here for Lodging Information\n			\n				\n				\n				\n				\n				Questions?   Please contact training@neppa.org or call the office at (978) 540-2200. \n 
URL:https://neppa.org/event/basic-electricity-mathematics-for-utility-operations-6/
LOCATION:NEPPA Training Center\, 200 New Estate Rd\, Littleton\, MA\, 01460\, United States
CATEGORIES:Basic Electricity & Mathematics for Utility Operations
ATTACH;FMTTYPE=image/png:https://neppa.org/wp-content/uploads/2024/12/BEM-16.9-12.26.24.png
END:VEVENT
END:VCALENDAR