BEGIN:VCALENDAR
VERSION:2.0
PRODID:-//NEPPA - ECPv6.15.20//NONSGML v1.0//EN
CALSCALE:GREGORIAN
METHOD:PUBLISH
X-WR-CALNAME:NEPPA
X-ORIGINAL-URL:https://neppa.org
X-WR-CALDESC:Events for NEPPA
REFRESH-INTERVAL;VALUE=DURATION:PT1H
X-Robots-Tag:noindex
X-PUBLISHED-TTL:PT1H
BEGIN:VTIMEZONE
TZID:America/New_York
BEGIN:DAYLIGHT
TZOFFSETFROM:-0500
TZOFFSETTO:-0400
TZNAME:EDT
DTSTART:20240310T070000
END:DAYLIGHT
BEGIN:STANDARD
TZOFFSETFROM:-0400
TZOFFSETTO:-0500
TZNAME:EST
DTSTART:20241103T060000
END:STANDARD
BEGIN:DAYLIGHT
TZOFFSETFROM:-0500
TZOFFSETTO:-0400
TZNAME:EDT
DTSTART:20250309T070000
END:DAYLIGHT
BEGIN:STANDARD
TZOFFSETFROM:-0400
TZOFFSETTO:-0500
TZNAME:EST
DTSTART:20251102T060000
END:STANDARD
BEGIN:DAYLIGHT
TZOFFSETFROM:-0500
TZOFFSETTO:-0400
TZNAME:EDT
DTSTART:20260308T070000
END:DAYLIGHT
BEGIN:STANDARD
TZOFFSETFROM:-0400
TZOFFSETTO:-0500
TZNAME:EST
DTSTART:20261101T060000
END:STANDARD
END:VTIMEZONE
BEGIN:VEVENT
DTSTART;TZID=America/New_York:20250129T120000
DTEND;TZID=America/New_York:20250130T120000
DTSTAMP:20260420T153129
CREATED:20241202T144122Z
LAST-MODIFIED:20241216T123645Z
UID:10000431-1738152000-1738238400@neppa.org
SUMMARY:Regional Climate Resilience Workshop for Electric Utilities | Northeast
DESCRIPTION:On behalf of the Department of Energy\, Office of Cybersecurity\, Energy Security\, and Emergency Response (CESER)\, Argonne National Laboratory\, Northeast Public Power Association (NEPPA)\, and EPRI\, you are invited to participate in the Northeast Regional Climate Resilience Workshop for Electric Utilities. \nEVENT DETAILSWednesday\, January 29\, 202512:00 p.m.– 5:00 p.m. \nThursday\, January 30\, 20259:00 a.m.– 12:00 p.m. \nHost Organization: Northeast Public Power Association (NEPPA) \nLOCATION: Westford Regency Inn & Conference Center219 Littleton Road\, Westford\, MA 01886 \n  \nRegister for this interactive workshop designed to support cooperative\, municipal and tribal utilities’ climate resilience planning efforts. Utilities attending the regionally focused workshop will gain exposure to the topic of Climate Science and Vulnerabilities\, Climate Resilience Action and Strategies\, and engage with industry leaders and climate experts about how to successfully apply climate data to drive change within their organization. Workshop goals include: \n\nIncrease utilities’ climate resilience by providing access to leading climate data;\nCreate a space for regional utilities to collaborate on climate resilience initiatives; and\nDeliver step-by-step guidance and customizable templates to build and execute a climate resilience plan.\n\nWho Should Attend? \nRepresentatives from cooperative\, municipal or tribal utilities with an interest in: \n\nExploring climate-based threats to their utility’s infrastructure and operations;\nDiscovering risk mitigation opportunities; and\nConnecting with regional peers on climate action.\n\nEach workshop will consist of a core lesson set\, regionally relevant content\, and engaging activities for participants. \nRegistration will be open through January 15\, 2025. Please register as early as possible. Your registration will be reviewed and approved by members of the Workshop Planning Committee before you receive an email confirming attendance. \nIf you have any issues attempting to register or for more information\, please contact rcrworkshops@anl.gov. \n			\n			\n				\n				\n				\n				\n			\n				\n				\n				\n				\n				\n				\n				Register Here
URL:https://neppa.org/event/regional-climate-resilience-workshop-for-electric-utilities-northeast/
LOCATION:Westford Regency Inn & Conference Center\, 219 Littleton Road\, Westford\, MA\, 01886
ATTACH;FMTTYPE=image/png:https://neppa.org/wp-content/uploads/2024/12/poster-banner.png
END:VEVENT
END:VCALENDAR