BEGIN:VCALENDAR
VERSION:2.0
PRODID:-//NEPPA - ECPv6.15.20//NONSGML v1.0//EN
CALSCALE:GREGORIAN
METHOD:PUBLISH
X-WR-CALNAME:NEPPA
X-ORIGINAL-URL:https://neppa.org
X-WR-CALDESC:Events for NEPPA
REFRESH-INTERVAL;VALUE=DURATION:PT1H
X-Robots-Tag:noindex
X-PUBLISHED-TTL:PT1H
BEGIN:VTIMEZONE
TZID:America/New_York
BEGIN:DAYLIGHT
TZOFFSETFROM:-0500
TZOFFSETTO:-0400
TZNAME:EDT
DTSTART:20230312T070000
END:DAYLIGHT
BEGIN:STANDARD
TZOFFSETFROM:-0400
TZOFFSETTO:-0500
TZNAME:EST
DTSTART:20231105T060000
END:STANDARD
BEGIN:DAYLIGHT
TZOFFSETFROM:-0500
TZOFFSETTO:-0400
TZNAME:EDT
DTSTART:20240310T070000
END:DAYLIGHT
BEGIN:STANDARD
TZOFFSETFROM:-0400
TZOFFSETTO:-0500
TZNAME:EST
DTSTART:20241103T060000
END:STANDARD
BEGIN:DAYLIGHT
TZOFFSETFROM:-0500
TZOFFSETTO:-0400
TZNAME:EDT
DTSTART:20250309T070000
END:DAYLIGHT
BEGIN:STANDARD
TZOFFSETFROM:-0400
TZOFFSETTO:-0500
TZNAME:EST
DTSTART:20251102T060000
END:STANDARD
END:VTIMEZONE
BEGIN:VEVENT
DTSTART;TZID=America/New_York:20240825T153000
DTEND;TZID=America/New_York:20240825T170000
DTSTAMP:20260422T105817
CREATED:20240701T140024Z
LAST-MODIFIED:20240701T140237Z
UID:10000379-1724599800-1724605200@neppa.org
SUMMARY:Bourbon with Barry - 2024 Student Scholarship Fund Activity
DESCRIPTION:Click here to visit our 2024 Annual Conference page for more details on this event
URL:https://neppa.org/event/bourbon-with-barry-2024-student-scholarship-fund-activity/
LOCATION:Omni Mount Washington Resort\, 310 Mount Washington Hotel Road\, Bretton Woods\, 03575\, United States
CATEGORIES:Annual Conference
ATTACH;FMTTYPE=image/png:https://neppa.org/wp-content/uploads/2024/07/Bourbon-with-Barry-1.png
END:VEVENT
END:VCALENDAR