BEGIN:VCALENDAR
VERSION:2.0
PRODID:-//NEPPA - ECPv6.15.20//NONSGML v1.0//EN
CALSCALE:GREGORIAN
METHOD:PUBLISH
X-ORIGINAL-URL:https://neppa.org
X-WR-CALDESC:Events for NEPPA
REFRESH-INTERVAL;VALUE=DURATION:PT1H
X-Robots-Tag:noindex
X-PUBLISHED-TTL:PT1H
BEGIN:VTIMEZONE
TZID:America/New_York
BEGIN:DAYLIGHT
TZOFFSETFROM:-0500
TZOFFSETTO:-0400
TZNAME:EDT
DTSTART:20240310T070000
END:DAYLIGHT
BEGIN:STANDARD
TZOFFSETFROM:-0400
TZOFFSETTO:-0500
TZNAME:EST
DTSTART:20241103T060000
END:STANDARD
BEGIN:DAYLIGHT
TZOFFSETFROM:-0500
TZOFFSETTO:-0400
TZNAME:EDT
DTSTART:20250309T070000
END:DAYLIGHT
BEGIN:STANDARD
TZOFFSETFROM:-0400
TZOFFSETTO:-0500
TZNAME:EST
DTSTART:20251102T060000
END:STANDARD
BEGIN:DAYLIGHT
TZOFFSETFROM:-0500
TZOFFSETTO:-0400
TZNAME:EDT
DTSTART:20260308T070000
END:DAYLIGHT
BEGIN:STANDARD
TZOFFSETFROM:-0400
TZOFFSETTO:-0500
TZNAME:EST
DTSTART:20261101T060000
END:STANDARD
END:VTIMEZONE
BEGIN:VEVENT
DTSTART;TZID=America/New_York:20250812T080000
DTEND;TZID=America/New_York:20250814T140000
DTSTAMP:20260419T160557
CREATED:20250324T155438Z
LAST-MODIFIED:20250324T155439Z
UID:10000478-1754985600-1755180000@neppa.org
SUMMARY:Advanced Lineworker Program (Session I)
DESCRIPTION:NEPPA’s Advanced Lineworker Program is held 3-days/week for 4 weeks/year. It is designed to equip participants with the knowledge\, skills and resources necessary to build\, maintain\, troubleshoot and repair a distribution system. In addition to in-class lecture\, the Advanced Lineworker Program incorporates hands-on application of concepts\, facility tours\, and weekly testing\, including a final exam to demonstrate knowledge and comprehension of the course content. Upon successful completion of the Program\, students are awarded a Certificate of Completion. \n			\n			\n				\n				\n				\n				\n			\n				\n				\n				\n				\n				\n				\n				\n				\n				\n				\n				SESSION DATES & HOURS\nThis 12-day program is held Tuesday – Thursday from 8:00 am – 2:00 pm each day. \nSession dates are subject to change\, however advance notice will be provided. \n \nSession I: August 12-14\, 2025 \nSession II:  August 26-28\, 2025 \nSession III: September 9-11\, 2025 \nSession IV: September 23-25\, 2025 \n			\n				\n				\n				\n				\n				LOCATION\nNortheast Public Power AssocationTraining Facility200 New Estate RoadLittleton\, MA 01460 \n			\n			\n				\n				\n				\n				\n			\n				\n				\n				\n				\n				\n				\n				\n				\n				\n				\n				WHO SHOULD ATTEND\nThis course is designed for individuals with 5+ years of experience as a lineworker\, lineworkers with increased crew or leadership responsibilities\, or cross departmental employees with new or increased leadership of lineworker personnel. There are no prerequistes for this program. \n			\n				\n				\n				\n				\n				ATTENDANCE POLICY\nIn order to receive a full Certificate of Completion\, students are required to attend all 12-days of the Program. Any absences will be noted as a partial completion of the Program. \n  \nCANCELLATION POLICY\nCancellations are accepted until Tuesday\, July 29\, 2025. Substitutions may be made at any time prior to the first session. \nCancellation fees will be charged based on the following schedule: \n2 weeks prior to the 1st scheduled week of class = 100% refund of tuition \nBefore completion of the 1st scheduled week of class = 75% refund of tuition \nBefore the completion of the 2nd scheduled week of class = 50% refund of tuition \nAfter the 2nd scheduled week of class = 0% refund of tuition \n			\n				\n				\n				\n				\n				REGISTRATION\nRegistration fee includes lunch and breaks each day and supplemental materials listed above. \n  \n 2025 Registration Fees: \nNEPPA Members: $2\,850 \nNon-Members: $4\,250 \n			\n			\n				\n				\n				\n				\n			\n				\n				\n				\n				\n				\n				\n				Register NOW\n			\n			\n				\n				\n				\n				\n				\n				MORE COURSE INFORMATION
URL:https://neppa.org/event/advanced-lineworker-program-session-i/
LOCATION:NEPPA Training Center\, 200 New Estate Rd\, Littleton\, MA\, 01460\, United States
CATEGORIES:Advanced Lineworker
ATTACH;FMTTYPE=image/png:https://neppa.org/wp-content/uploads/2025/03/Advanced-Lineworker-Program-16.9-1.png
END:VEVENT
BEGIN:VEVENT
DTSTART;TZID=America/New_York:20250826T080000
DTEND;TZID=America/New_York:20250828T140000
DTSTAMP:20260419T160557
CREATED:20250324T155818Z
LAST-MODIFIED:20250324T155818Z
UID:10000479-1756195200-1756389600@neppa.org
SUMMARY:Advanced Lineworker Program (Session II)
DESCRIPTION:NEPPA’s Advanced Lineworker Program is held 3-days/week for 4 weeks/year. It is designed to equip participants with the knowledge\, skills and resources necessary to build\, maintain\, troubleshoot and repair a distribution system. In addition to in-class lecture\, the Advanced Lineworker Program incorporates hands-on application of concepts\, facility tours\, and weekly testing\, including a final exam to demonstrate knowledge and comprehension of the course content. Upon successful completion of the Program\, students are awarded a Certificate of Completion. \n			\n			\n				\n				\n				\n				\n			\n				\n				\n				\n				\n				\n				\n				\n				\n				\n				\n				SESSION DATES & HOURS\nThis 12-day program is held Tuesday – Thursday from 8:00 am – 2:00 pm each day. \nSession dates are subject to change\, however advance notice will be provided. \n \nSession I: August 12-14\, 2025 passed \nSession II:  August 26-28\, 2025 \nSession III: September 9-11\, 2025 \nSession IV: September 23-25\, 2025 \n			\n				\n				\n				\n				\n				LOCATION\nNortheast Public Power AssocationTraining Facility200 New Estate RoadLittleton\, MA 01460 \n			\n			\n				\n				\n				\n				\n			\n				\n				\n				\n				\n				\n				\n				\n				\n				\n				\n				WHO SHOULD ATTEND\nThis course is designed for individuals with 5+ years of experience as a lineworker\, lineworkers with increased crew or leadership responsibilities\, or cross departmental employees with new or increased leadership of lineworker personnel. There are no prerequistes for this program. \n			\n				\n				\n				\n				\n				ATTENDANCE POLICY\nIn order to receive a full Certificate of Completion\, students are required to attend all 12-days of the Program. Any absences will be noted as a partial completion of the Program. \n  \nCANCELLATION POLICY\nCancellations are accepted until Tuesday\, July 29\, 2025. Substitutions may be made at any time prior to the first session. \nCancellation fees will be charged based on the following schedule: \n2 weeks prior to the 1st scheduled week of class = 100% refund of tuition \nBefore completion of the 1st scheduled week of class = 75% refund of tuition \nBefore the completion of the 2nd scheduled week of class = 50% refund of tuition \nAfter the 2nd scheduled week of class = 0% refund of tuition \n			\n				\n				\n				\n				\n				REGISTRATION\nRegistration fee includes lunch and breaks each day and supplemental materials listed above. \n  \n 2025 Registration Fees: \nNEPPA Members: $2\,850 \nNon-Members: $4\,250 \n			\n			\n				\n				\n				\n				\n			\n				\n				\n				\n				\n				\n				\n				Register NOW\n			\n			\n				\n				\n				\n				\n				\n				MORE COURSE INFORMATION
URL:https://neppa.org/event/advanced-lineworker-program-session-ii/
LOCATION:NEPPA Training Center\, 200 New Estate Rd\, Littleton\, MA\, 01460\, United States
CATEGORIES:Advanced Lineworker
ATTACH;FMTTYPE=image/png:https://neppa.org/wp-content/uploads/2025/03/Advanced-Lineworker-Program-16.9-1.png
END:VEVENT
END:VCALENDAR