BEGIN:VCALENDAR
VERSION:2.0
PRODID:-//NEPPA - ECPv6.15.20//NONSGML v1.0//EN
CALSCALE:GREGORIAN
METHOD:PUBLISH
X-ORIGINAL-URL:https://neppa.org
X-WR-CALDESC:Events for NEPPA
REFRESH-INTERVAL;VALUE=DURATION:PT1H
X-Robots-Tag:noindex
X-PUBLISHED-TTL:PT1H
BEGIN:VTIMEZONE
TZID:America/New_York
BEGIN:DAYLIGHT
TZOFFSETFROM:-0500
TZOFFSETTO:-0400
TZNAME:EDT
DTSTART:20230312T070000
END:DAYLIGHT
BEGIN:STANDARD
TZOFFSETFROM:-0400
TZOFFSETTO:-0500
TZNAME:EST
DTSTART:20231105T060000
END:STANDARD
BEGIN:DAYLIGHT
TZOFFSETFROM:-0500
TZOFFSETTO:-0400
TZNAME:EDT
DTSTART:20240310T070000
END:DAYLIGHT
BEGIN:STANDARD
TZOFFSETFROM:-0400
TZOFFSETTO:-0500
TZNAME:EST
DTSTART:20241103T060000
END:STANDARD
BEGIN:DAYLIGHT
TZOFFSETFROM:-0500
TZOFFSETTO:-0400
TZNAME:EDT
DTSTART:20250309T070000
END:DAYLIGHT
BEGIN:STANDARD
TZOFFSETFROM:-0400
TZOFFSETTO:-0500
TZNAME:EST
DTSTART:20251102T060000
END:STANDARD
END:VTIMEZONE
BEGIN:VEVENT
DTSTART;TZID=America/New_York:20240604T083000
DTEND;TZID=America/New_York:20240604T093000
DTSTAMP:20260422T092713
CREATED:20240514T155635Z
LAST-MODIFIED:20240515T182150Z
UID:10000378-1717489800-1717493400@neppa.org
SUMMARY:2024 Mutual Aid 101 (Virtual)
DESCRIPTION:Mutual Aid 101 \nJune 4\, 2024 (8:30 am – 9:30 am)Being held virtually on Zoom\nThis is a free\, virtual course for those who want to gain a basic understanding of the Mutual Aid program. We will review how the Mutual Aid program operates\, with a behind the scenes look at the software used.  \n \nIt is recommended that you attend this Mutual Aid 101 course in preparation for the in-person Mutual Aid Disaster Exercise held on June 26th. Click here for more details on the Mutual Aid Disaster Exercise. \n			\n				\n				\n				\n				\n				Who Should Attend \n			\n				\n				\n				\n				\n				\nGeneral Managers\nAssistant General Managers\nGeneral/Working Foreman/Lineworkers\nOperations Personnel\nEngineering Personnel\nMutual Aid Coordinators\n\n			\n				\n				\n				\n				\n				Registration \n			\n				\n				\n				\n				\n				There is no registration fee for this course. You must register by using the button below and the Zoom link to join will be emailed to you prior to the start date.  \n  \n			\n				Register Now
URL:https://neppa.org/event/2024-mutual-aid-101-virtual/
LOCATION:Virtual
CATEGORIES:Mutual Aid
ATTACH;FMTTYPE=image/png:https://neppa.org/wp-content/uploads/2024/05/Mutual-Aid-101-16.9.png
END:VEVENT
BEGIN:VEVENT
DTSTART;TZID=America/New_York:20240604T083000
DTEND;TZID=America/New_York:20240604T120000
DTSTAMP:20260422T092713
CREATED:20240206T173643Z
LAST-MODIFIED:20240410T132711Z
UID:10000344-1717489800-1717502400@neppa.org
SUMMARY:Public Utility Management Program (PUMP) - Virtual Session I
DESCRIPTION:NEPPA is pleased to offer the Public Utility Management Program (PUMP) again in 2024.  The (PUMP) begins in April and ends in November. It features 6 days of in-person training sessions and two additional 1/2-day-virtual sessions\, The in-person sessions will be held on April 23 – 25 and October 29 – 31\, 2024 at the NEPPA Training Center (200 New Estate Road\, Littleton\, MA 01460).  Each of these 3-day session will include information on leadership challenges\, best practices\, knowledge/skill/behavior development\, and practical applications. One virtual sessions will be held on June 4th and September 24\, 2024. Each ½-day virtual session will cover additional presentation content that is of interest to the participants\, along with application of learning with coaching and sharing of experiences based on individual learning plan objectives and assignments. \n  \nPUMP is a robust course of study and interaction which covers a variety of management\, leadership\, and operations disciplines necessary for leaders of Public Power\, today and in the future.  Due to the extremely interactive nature of this training experience\, class size is limited. \nUpon successful completion of the Program\, participants will have gained 39 Professional Development Hours\, a Certificate of Completion and special recognition for completing the Program. \n			\n				\n				\n				\n				\n				Who Should Attend\nTo help position public power to address the growing number of retirements and position changes in the industry\, PUMP is designed for anyone who wants to learn what it takes to be an effective leader including: \n  \n• General Managers• General Foremen• Assistant General Managers• Supervisors• Managers or Team Leads• Aspiring Leaders \n  \nThe Program is designed to address varying levels of experience and perspectives\, from utilities of varying sizes and complexities. Participants may have significant management experience and responsibilities\, be individual contributors with oversight\, or individuals expected to rise into management in the future. \n			\n				\n				\n				\n				\n				What makes PUMP different? \nNow in its 32nd year\, PUMP is the only program of its kind in New England. Participants have a unique opportunity to learn\, grow and network with colleagues from around the region as they hone their skills and knowledge in a thorough\, interactive professional development.\n\n			\n				\n				\n				\n				\n				In-Person and Virtual Sessions & Agenda \nThe 6-Day Program is split into two sessions\, held in April and October. \nThe 2-Virtual half day sessions will by June and September \nClick here to download the detailed agenda\n  \nProgram Objectives\nThe Public Utility Management Program is designed to accomplish the following objectives: \n\nProvide an overview of leadership philosophy and key leadership concepts\, specifical for Public Power organizations.\nEnable participants to better understand their own leadership styles\, strengths and limitations to support ongoing learning and development\nBuild competencies that encourage leadership development in a diverse work environment\nDevelop specific knowledge\, skills and practices around Public Power including utility operations\, finances\, and management.\nHelp participants build and sustain cultures of safe and effective operations.\nUnderstand and build awareness around trends\, technologies\, challenges and changes that impact the utility of the future.\nCreate an interactive learning environment that supports practical application of concepts and uses real-world utility examples.\nEnsure transfer and application of learning to an on-the-job setting.\n\n \n			\n				\n				\n				\n				\n				Topics Covered \nThe following topics will be covered in the Program: \n  \n• Overview of the Electric Utility Industry• Local Public Power System• Financial Management• Introduction to Leadership• Self-Awareness• Organization Awareness• Character• Community• Empowerment• Service• Customer Relations• Sustainability• Strategic Planning• Governance• Delivering Value to Your Organization as a Leader \n			\n				\n				\n				\n				\n				For more detailed informtion\n			\n				\n				\n				\n				\n				Registration \nDue to the extremely interactive nature of this training experience\, class size is limited. Registration fees include coffee and lunch\, all program materials\, supplemental assignments\, certificates and special recognition. \nMembers: $3\,195 \nNon-Members: $5\,150 \n\n			\n				Register Now\n			\n				\n				\n				\n				\n				Cancellations \nCancellations are accepted until Tuesday\, Apirl 9\, 2024 (two-weeks prior to the start of the Program). Substitutions may be made at any time prior to Session I. \n			\n				\n				\n				\n				\n				Location \nThis session is virtual. \n			\n			\n				\n				\n				\n				\n			\n				\n				\n				\n				\n				\n				\n				\n				\n				\n				\n				Questions?\nPlease contact training@neppa.org or call the office at (978) 540-2200.
URL:https://neppa.org/event/public-utility-management-program-pump-virtual-session-i/
LOCATION:Virtual
CATEGORIES:PUMP
ATTACH;FMTTYPE=image/png:https://neppa.org/wp-content/uploads/2024/02/2024-PUMP-16.9-1.png
END:VEVENT
END:VCALENDAR