BEGIN:VCALENDAR
VERSION:2.0
PRODID:-//NEPPA - ECPv6.15.20//NONSGML v1.0//EN
CALSCALE:GREGORIAN
METHOD:PUBLISH
X-ORIGINAL-URL:https://neppa.org
X-WR-CALDESC:Events for NEPPA
REFRESH-INTERVAL;VALUE=DURATION:PT1H
X-Robots-Tag:noindex
X-PUBLISHED-TTL:PT1H
BEGIN:VTIMEZONE
TZID:America/New_York
BEGIN:DAYLIGHT
TZOFFSETFROM:-0500
TZOFFSETTO:-0400
TZNAME:EDT
DTSTART:20210314T070000
END:DAYLIGHT
BEGIN:STANDARD
TZOFFSETFROM:-0400
TZOFFSETTO:-0500
TZNAME:EST
DTSTART:20211107T060000
END:STANDARD
BEGIN:DAYLIGHT
TZOFFSETFROM:-0500
TZOFFSETTO:-0400
TZNAME:EDT
DTSTART:20220313T070000
END:DAYLIGHT
BEGIN:STANDARD
TZOFFSETFROM:-0400
TZOFFSETTO:-0500
TZNAME:EST
DTSTART:20221106T060000
END:STANDARD
BEGIN:DAYLIGHT
TZOFFSETFROM:-0500
TZOFFSETTO:-0400
TZNAME:EDT
DTSTART:20230312T070000
END:DAYLIGHT
BEGIN:STANDARD
TZOFFSETFROM:-0400
TZOFFSETTO:-0500
TZNAME:EST
DTSTART:20231105T060000
END:STANDARD
END:VTIMEZONE
BEGIN:VEVENT
DTSTART;TZID=America/New_York:20220814T150000
DTEND;TZID=America/New_York:20220817T120000
DTSTAMP:20260421T060304
CREATED:20220222T161054Z
LAST-MODIFIED:20220623T123703Z
UID:10000161-1660489200-1660737600@neppa.org
SUMMARY:2022 Annual Conference
DESCRIPTION:NEPPA’s 2022 Annual Conference will be held August 14-17\, 2022 at The Stoweflake Mountain Resort and Conference Center (1746 Mountain Road\, Stowe\, VT 05672). Join your professional colleagues for 3 days of educational sessions\, roundtables\, networking\, sponsor exhibits\, and more! \n			\n			\n				\n				\n				\n				\n			\n				\n				\n				\n				\n				\n				\n				Click Here for More Information
URL:https://neppa.org/event/2022-annual-conference/
LOCATION:The Stoweflake Mountain Resort & Conference Center\, 1746 Mountain Road\, Stowe\, VT\, 05672\, United States
CATEGORIES:Annual Conference
ATTACH;FMTTYPE=image/png:https://neppa.org/wp-content/uploads/2022/05/2022-AC-banner-III.png
END:VEVENT
END:VCALENDAR